{"text_format":"1","workbook":"xlsx","n_sheets":7,"sheets":["PORTADA","EMPLEADOS","2DA DE DICIEMBRE DEFINITIVA","ACUMULADO","Tablas 2015","Hoja1","finiquito"],"not_rendered":{"charts":0,"images":0,"macros":1,"external_links":4,"defined_names":43,"comments":0,"pivot_tables":0},"unopened":[],"bounds":{"document_bytes":16777216,"sheet_cells":100000,"rows_first":2000,"rows_last":500,"rows_between":2000,"halvings":0,"cell_chars":16384,"cell_head_chars":4096},"cells_cut":0,"cells_raw":0,"read":"whole","date_system":"1900"}

{"sheet":"PORTADA","index":0,"n_rows":42,"n_cols":23,"rows_kept":42,"cut":false,"hidden":false,"merged":[[1,13,1,17],[11,14,11,17],[12,14,12,17],[3,16,4,16],[13,16,13,17],[2,8,2,10],[9,8,9,9],[11,8,11,9],[5,8,5,10],[20,11,20,16]]}
[null,null,null,null,null,null,null,null,null,null,null,null,null,"|",null,null,null,null,null,null,{"$f":"IF($R$21<1,1,\"\")","v":1},"2011-01-01",{"$f":"V2-1","v":"2011-01-15"}]
[null,null,null,null,null,null,null,null,"Usuario:",null,null,null,null,"Simulador de Préstamos…  Inserte los datos requeridos….",null,null,null,null,null,null,{"$f":"IF($R$21<2,2,\"\")","v":2},"2011-01-16","2011-01-31"]
[null,null,null,null,null,null,null,null,null,null,null,null,null,"Tasa de Interes:",0.01,null,"Parcialidad",null,null,null,{"$f":"IF($R$21<3,3,\"\")","v":3},"2011-02-01","2011-02-15"]
[null,null,null,null,null,null,null,null,null,null,null,null,null,"No.de Periodos",4,null,{"$f":"-PMT(O3,O4,O6,,0)","v":256.28109391166043},null,null,null,{"$f":"IF($R$21<4,4,\"\")","v":4},"2011-02-16","2011-02-28"]
[null,null,null,null,null,null,null,null,"Fecha de Trabajo",null,null,null,null,null,null,null,null,null,null,null,{"$f":"IF($R$21<5,5,\"\")","v":5},"2011-03-01","2011-03-15"]
[null,null,null,null,null,null,null,null,{"$f":"NOW()","v":"2016-11-15T14:11:36.270"},null,null,null,null,"Importe del Préstamo:",1000,null,null,null,null,null,{"$f":"IF($R$21<6,6,\"\")","v":6},"2011-03-16","2011-03-31"]
[null,null,null,null,null,null,null,null,null,null,null,null,null,null,null,null,null,null,null,null,{"$f":"IF($R$21<7,7,\"\")","v":7},"2011-04-01","2011-04-15"]
[null,null,"Selecciona La Quincena",null,null,null,null,null,null,null,null,null,null,"Interes Generado",{"$f":"(Q4*O4)-O6","v":25.124375646641738},null,null,null,null,null,{"$f":"IF($R$21<8,8,\"\")","v":8},"2011-04-16","2011-04-30"]
[null,null,null,null,null,null,null,null,null,null,null,null,null,null,null,null,null,null,null,null,{"$f":"IF($R$21<9,9,\"\")","v":9},"2011-05-01","2011-05-15"]
[null,null,null,1,null,null,null,"Desde:",{"$f":"VLOOKUP(D$10,$U1:$W24,2,FALSE)","v":"2011-01-01"},null,null,null,null,"Total a Pagar",{"$f":"O8+O6","v":1025.1243756466417},null,null,null,null,null,{"$f":"IF($R$21<10,10,\"\")","v":10},"2011-05-16","2011-05-31"]
[null,null,null,null,null,null,null,null,null,null,null,null,null,null,null,null,null,null,null,null,{"$f":"IF($R$21<11,11,\"\")","v":11},"2011-06-01","2009-06-15"]
[null,"SUMAS POR CAPITULO",null,null,null,null,null,"Hasta",{"$f":"VLOOKUP(D$10,$U$1:$W24,3,FALSE)","v":"2011-01-15"},null,null,null,null,"Nombre de Deudor:","Juan Perez",null,null,null,null,null,{"$f":"IF($R$21<12,12,\"\")","v":12},"2011-06-16","2009-06-30"]
[null,"CAPITULO",null,"PERCEPCIONES",null,"DEDUCCIONES",null,"NETO A PAGAR",null,null,null,null,null,"Domicilio:","Abasolo",null,null,null,null,null,{"$f":"IF($R$21<13,13,\"\")","v":13},"2011-07-01","2009-07-15"]
[null,1,null,{"$f":"SUMIF(#REF!,$B14,#REF!)","v":{"$error":"#REF!"}},null,{"$f":"SUMIF(#REF!,$B14,#REF!)+SUMIF(#REF!,$B14,#REF!)","v":{"$error":"#REF!"}},null,{"$f":"D14-F14","v":{"$error":"#REF!"}},null,null,null,null,null,"Telefono:",null,"Vencimiento:",null,null,null,null,{"$f":"IF($R$21<14,14,\"\")","v":14},"2011-07-16",{"$f":"V15-1","v":"2011-07-31"}]
[null,2,null,{"$f":"SUMIF(#REF!,$B15,#REF!)","v":{"$error":"#REF!"}},null,{"$f":"SUMIF(#REF!,$B15,#REF!)+SUMIF(#REF!,$B15,#REF!)","v":{"$error":"#REF!"}},null,{"$error":"#REF!"},null,null,null,null,null,null,null,null,null,null,null,null,{"$f":"IF($R$21<15,15,\"\")","v":15},"2011-08-01","2011-08-15"]
[null,3,null,{"$f":"SUMIF(#REF!,$B16,#REF!)","v":{"$error":"#REF!"}},null,{"$f":"SUMIF(#REF!,$B16,#REF!)+SUMIF(#REF!,$B16,#REF!)","v":{"$error":"#REF!"}},null,{"$error":"#REF!"},null,null,null,null,null,null,null,null,null,null,null,null,{"$f":"IF($R$21<16,16,\"\")","v":16},"2011-08-16","2011-08-31"]
[null,4,null,{"$f":"SUMIF(#REF!,$B17,#REF!)","v":{"$error":"#REF!"}},null,{"$f":"SUMIF(#REF!,$B17,#REF!)+SUMIF(#REF!,$B17,#REF!)","v":{"$error":"#REF!"}},null,{"$error":"#REF!"},null,null,null,null,null,null,null,null,null,null,null,null,{"$f":"IF($R$21<17,17,\"\")","v":17},"2011-09-01","2011-09-15"]
[null,5,null,{"$f":"SUMIF(#REF!,$B18,#REF!)","v":{"$error":"#REF!"}},null,{"$f":"SUMIF(#REF!,$B18,#REF!)+SUMIF(#REF!,$B18,#REF!)","v":{"$error":"#REF!"}},null,{"$error":"#REF!"},null,null,null,null,null,null,null,null,null,null,null,null,{"$f":"IF($R$21<18,18,\"\")","v":18},"2011-09-16","2011-09-30"]
[null,11,null,{"$f":"SUMIF(#REF!,$B19,#REF!)","v":{"$error":"#REF!"}},null,{"$f":"SUMIF(#REF!,$B19,#REF!)+SUMIF(#REF!,$B19,#REF!)","v":{"$error":"#REF!"}},null,{"$error":"#REF!"},null,null,null,null,null,null,null,null,null,null,null,null,{"$f":"IF($R$21<19,19,\"\")","v":19},"2011-10-01","2011-10-14"]
[null,null,null,null,null,null,null,null,null,null,null,null,null,null,null,null,null,null,null,null,{"$f":"IF($R$21<20,20,\"\")","v":20},"2011-10-15","2011-10-31"]
[null,"SUMAS",null,{"$f":"SUM(D14:D20)","v":{"$error":"#REF!"}},null,{"$f":"SUM(F14:F20)","v":{"$error":"#REF!"}},null,{"$f":"SUM(H14:H20)","v":{"$error":"#REF!"}},null,null,null,{"$f":"IF(R21=0,\"Bienvenido al Sistema de Nominas\",\"se han grabado con éxito la Nomina No.\")","v":"Bienvenido al Sistema de Nominas"},null,null,null,null,null,{"$f":"MAX(ACUMULADO!AD:AD)","v":0},null,null,{"$f":"IF($R$21<21,21,\"\")","v":21},"2011-11-01","2011-11-14"]
[null,null,null,null,null,null,null,null,null,null,null,null,null,null,null,null,null,null,null,null,{"$f":"IF($R$21<22,22,\"\")","v":22},"2011-11-15","2011-11-30"]
[null,"PAGOS CON TARJETA",null,{"$f":"SUMIF(#REF!,\"TARJETA\",#REF!)","v":{"$error":"#REF!"}},null,"I.S.P.T.",null,{"$f":"#REF!","v":{"$error":"#REF!"}},null,null,"INSTRUCCIONES.",null,null,null,null,null,null,null,null,null,{"$f":"IF($R$21<23,23,\"\")","v":23},"2011-12-01","2011-12-15"]
[null,null,null,null,null,null,null,null,null,null,null,null,null,null,null,null,null,null,null,null,{"$f":"IF($R$21<24,24,\"\")","v":24},"2011-12-16","2009-12-31"]
[null,"PAGOS SIN TARJETA",null,{"$f":"SUMIF(#REF!,\"SOBRE\",#REF!)","v":{"$error":"#REF!"}},null,"SUB. AL EMPLEO",null,{"$f":"#REF!","v":{"$error":"#REF!"}},null,null,"* SI SE DESEA HACER MODIFICACIONES A ALGUN EMPLEADO, SOLO DEBE "]
[]
[null,null,null,null,null,"FONDO DE AHORRO",null,null,null,null,"   HACERSE EN EL MODULO DE EMPLEADOS, YA QUE NI EN CAPTURA NI EN "]
[]
[null,"SUMAS CRUZADAS",null,{"$f":"D23+D25","v":{"$error":"#REF!"}},null,null,null,{"$f":"H21-H23+H25-H27","v":{"$error":"#REF!"}},null,null,"   IMPRESIÓN SE PUEDEN HACER MODIFICACIONES."]
[null,null,null,null,null,null,null,null,null,null,"* EN EL MODULO DE CAPTURA, ES DONDE SE PUEDEN AFECTAR LOS IMPORTES"]
[null,null,null,null,null,"DIFERENCIA ",null,null,null,null,"  DE PAGO, A CADA EMPLEADO,"]
[null,null,null,null,null,{"$f":"D29-H29","v":{"$error":"#REF!"}}]
[null,null,null,null,null,null,null,null,null,null,"*  EN EL MODULO DE IMPRESIÓN DE NOMINA ES SOLAMENTE LECTURA, POR"]
[]
[null,null,null,null,null,null,null,null,null,null," LO QUE SE PODRAN IMPRIMIR CADA UNA DE LAS HOJAS EN LAS DOS PRIMERAS"]
[]
[null,null,null,null,null,null,null,null,null,null,"CELDAS, UTILIZANDO PARA ELLO LOS FILTROS."]
[]
[null,null,null,null,null,null,null,null,null,null,"* SOLO EL MODULO DE CAPTURA, PREVEE, UN BOTON DE ACUMULAR, CADA"]
[null,null,null,null,null,null,null,null,null,null,"  UNA DE LAS NOMINAS QUE SE VAYAN ORIGINANDO."]
[null,null,null,null,null,null,null,null,null,null,"  "]
[null,null,null,null,null,null,null,null,null,null,"msfiscal@hotmail.com,    catastro.tequila@hotmail.com     MSN y Correo."]

{"sheet":"EMPLEADOS","index":1,"n_rows":162,"n_cols":21,"rows_kept":162,"cut":false,"hidden":false,"merged":[]}
[null,null,null,null,null,null,null,null,null,null,null,null,{"$f":"SUBTOTAL(9,M3:M199)","v":0},null,{"$f":"SUBTOTAL(9,O3:O200)","v":29830.133299999932}]
["No.empleado","CAPITULO","PARTIDA","NOMBRE","RFC","CURP","FECHA DE INGRESO","CARGO","DEPENDENCIA","PAGO CON","DIAS LABORADOS",null,"TIEMPO EXTRA (COMPENSACIONES)","OTROS INGRESOS","SUELDO POR DIA PROPUESTO","FONDO DE AHORRO X DIA (PATRON)","APOYO EDUCACIONAL","SUMA DE PERCEPCIONES","Sueldo X Dia","VERIFICACION"]
[120,1,1,"FREGOSO GOMEZ CARLOS","FEGC520708","FEGC520708HJCRMR08",null,"REGIDOR",1,"TARJETA",15,null,0,0,{"$f":"7714.8/30","v":257.16000000000003},{"$f":"TRUNC($O3*0.04,2)","v":10.28},{"$f":"TRUNC(O3*0.07,2)","v":18},{"$f":"O3+P3+Q3","v":285.44},367.2,{"$f":"VLOOKUP(A3,#REF!,22,FALSE)/15","v":{"$error":"#REF!"}},{"$f":"T3-S3","v":{"$error":"#REF!"}}]
[null,null,null,"RUIZ JUAREZ MARIA RAQUEL",null,null,null,"REGIDOR",1,"TARJETA",15,null,0,0,{"$f":"7714.8/30","v":257.16000000000003},{"$f":"TRUNC($O4*0.04,2)","v":10.28},{"$f":"TRUNC(O4*0.07,2)","v":18},{"$f":"O4+P4+Q4","v":285.44},367.2,{"$f":"VLOOKUP(A4,#REF!,22,FALSE)/15","v":{"$error":"#REF!"}},{"$f":"T4-S4","v":{"$error":"#REF!"}}]
[null,null,null,"PARRA VELASCO ANA ROSA",null,null,null,"REGIDOR",1,"TARJETA",15,null,0,0,257.16000000000003,10.28,18,285.44,367.2,{"$f":"VLOOKUP(A5,#REF!,22,FALSE)/15","v":{"$error":"#REF!"}},{"$error":"#REF!"}]
[null,null,null,"MARTINEZ NAVARRO FRANCISCO",null,null,null,"REGIDOR",1,"TARJETA",15,null,0,0,257.16000000000003,10.28,18,285.44,367.2,{"$f":"VLOOKUP(A6,#REF!,22,FALSE)/15","v":{"$error":"#REF!"}},{"$error":"#REF!"}]
[null,null,null,"SOTO HERNANDEZ RAMON",null,null,null,"REGIDOR",1,"TARJETA",15,null,0,0,257.16000000000003,10.28,18,285.44,367.2,{"$f":"VLOOKUP(A7,#REF!,22,FALSE)/15","v":{"$error":"#REF!"}},{"$error":"#REF!"}]
[null,null,null,"MEDINA FLORES CARMEN AIDE",null,null,null,"REGIDOR",1,"TARJETA",15,null,0,0,257.16000000000003,10.28,18,285.44,367.2,{"$f":"VLOOKUP(A8,#REF!,22,FALSE)/15","v":{"$error":"#REF!"}},{"$error":"#REF!"}]
[null,null,null,"BECERRA GONZALEZ ALFREDO",null,null,null,"REGIDOR",1,"TARJETA",15,null,0,0,257.16000000000003,10.28,18,285.44,367.2,{"$f":"VLOOKUP(A9,#REF!,22,FALSE)/15","v":{"$error":"#REF!"}},{"$error":"#REF!"}]
[null,null,null,"CHAVEZ JORDAN JUAN MANUEL",null,null,null,"REGIDOR",1,"TARJETA",15,null,0,0,257.16000000000003,10.28,18,285.44,367.2,{"$f":"VLOOKUP(A10,#REF!,22,FALSE)/15","v":{"$error":"#REF!"}},{"$error":"#REF!"}]
[null,null,null,"LOPEZ PARRA DANIEL",null,null,null,"REGIDOR",1,"TARJETA",15,null,0,0,257.16000000000003,10.28,18,285.44,367.2,{"$f":"VLOOKUP(A11,#REF!,22,FALSE)/15","v":{"$error":"#REF!"}},{"$error":"#REF!"}]
[]
[]
[]
[]
[]
[]
[]
[]
[1,null,null,"FREGOSO JIMENEZ ESTEBAN",null,null,null,"REGIDOR",1,"SOBRE",15,null,0,0,{"$f":"10884.83/30","v":362.82766666666669},{"$f":"TRUNC($O20*0.04,2)","v":14.51},25.39,402.72766666666666,367.2,{"$f":"VLOOKUP(A20,#REF!,22,FALSE)/15","v":{"$error":"#REF!"}},{"$f":"T20-S20","v":{"$error":"#REF!"}}]
[2,null,null,"FIGUEROA CARBAJAL MARIA",null,null,null,"REGIDOR",1,"SOBRE",15,null,0,0,362.82766666666669,14.51,25.39,402.72766666666666,367.2,{"$f":"VLOOKUP(A21,#REF!,22,FALSE)/15","v":{"$error":"#REF!"}},{"$error":"#REF!"}]
[3,null,null,"HERNANDEZ AGUIRRE FRANCISCO",null,null,null,"REGIDOR",1,"SOBRE",15,null,0,0,362.82766666666669,14.51,25.39,402.72766666666666,367.2,{"$f":"VLOOKUP(A22,#REF!,22,FALSE)/15","v":{"$error":"#REF!"}},{"$error":"#REF!"}]
[4,null,null,"OLMEDO ALVAREZ MARIA ARGELIA",null,null,null,"REGIDOR",1,"SOBRE",15,null,0,0,362.82766666666669,14.51,25.39,402.72766666666666,367.2,{"$f":"VLOOKUP(A23,#REF!,22,FALSE)/15","v":{"$error":"#REF!"}},{"$error":"#REF!"}]
[5,null,null,"BAUTISTA MEZA JESUS",null,null,null,"REGIDOR",1,"SOBRE",15,null,0,0,362.82766666666669,14.51,25.39,402.72766666666666,367.2,{"$f":"VLOOKUP(A24,#REF!,22,FALSE)/15","v":{"$error":"#REF!"}},{"$error":"#REF!"}]
[6,null,null,"BLANCO ARVIZU CESAR ROBERTO",null,null,null,"REGIDOR",1,"SOBRE",15,null,0,0,362.82766666666669,14.51,25.39,402.72766666666666,367.2,{"$f":"VLOOKUP(A25,#REF!,22,FALSE)/15","v":{"$error":"#REF!"}},{"$error":"#REF!"}]
[7,null,null,"GUTIERREZ MARTINEZ MA DOLORES",null,null,null,"REGIDOR",1,"SOBRE",15,null,0,0,362.82766666666669,14.51,25.39,402.72766666666666,367.2,{"$f":"VLOOKUP(A26,#REF!,22,FALSE)/15","v":{"$error":"#REF!"}},{"$error":"#REF!"}]
[8,null,null,"PAREDES LOZA RAMON",null,null,null,"REGIDOR",1,"SOBRE",15,null,0,0,362.82766666666669,14.51,25.39,402.72766666666666,367.2,{"$f":"VLOOKUP(A27,#REF!,22,FALSE)/15","v":{"$error":"#REF!"}},{"$error":"#REF!"}]
[9,null,null,"CHAVEZ MONTENEGRO BENITO",null,null,null,"REGIDOR",1,"SOBRE",15,null,0,0,362.82766666666669,14.51,25.39,402.72766666666666,153.52200000000002,{"$f":"VLOOKUP(A28,#REF!,22,FALSE)/15","v":{"$error":"#REF!"}},{"$error":"#REF!"}]
[201,null,null,"BARAJAS GUTIERREZ VERONICA",null,null,null,"SECRETARIA",1,"TARJETA",15,null,0,0,{"$f":"4550.844/30","v":151.69480000000001},6.06,10.61,168.3648,821.7359992800001,{"$f":"VLOOKUP(A29,#REF!,22,FALSE)/15","v":{"$error":"#REF!"}},{"$error":"#REF!"}]
[11,null,null,"VELEZ FREGOSO LUIS MANUEL",null,null,null,"PRESIDENTE MUNICIPAL",2,"TARJETA",15,null,0,0,{"$f":"24358.621/30","v":811.95403333333331},32.47,56.83,901.25403333333338,200,{"$f":"VLOOKUP(A30,#REF!,22,FALSE)/15","v":{"$error":"#REF!"}},{"$error":"#REF!"}]
[12,null,null,"FREGOSO PARRA MARTHA",null,null,null,"SECRETARIA PARTICULAR",2,"TARJETA",15,null,0,0,{"$f":"5288.327/30","v":176.27756666666667},7.05,12.33,195.6575666666667,576.00720000000013,{"$f":"VLOOKUP(A31,#REF!,22,FALSE)/15","v":{"$error":"#REF!"}},{"$error":"#REF!"}]
[13,null,null,"LOPEZ MELENDRES GERARDO",null,null,null,"SINDICO MUNICIPAL",3,"SOBRE",15,null,0,0,{"$f":"17074.636/30","v":569.15453333333323},22.76,39.840000000000003,631.75453333333326,176.40720000000002,{"$f":"VLOOKUP(A32,#REF!,22,FALSE)/15","v":{"$error":"#REF!"}},{"$error":"#REF!"}]
[14,null,null,"RENTERIA MARTINEZ ELIZABETH",null,null,null,"SECRETARIA DE SINDICATURA",3,"TARJETA",15,null,0,0,{"$f":"4550.85/30","v":151.69500000000002},6.06,{"$f":"TRUNC(O33*0.07,2)","v":10.61},{"$f":"O33+P33+Q33","v":168.36500000000001},176.40720000000002,{"$f":"VLOOKUP(A33,#REF!,22,FALSE)/15","v":{"$error":"#REF!"}},{"$f":"T33-S33","v":{"$error":"#REF!"}}]
[15,null,null,"REYES HERNANDEZ ADRIANA",null,null,null,"CONSERJE",3,"SOBRE",15,null,0,0,{"$f":"4550.844/30","v":151.69480000000001},6.06,10.61,168.3648,415.8,{"$f":"VLOOKUP(A34,#REF!,22,FALSE)/15","v":{"$error":"#REF!"}},{"$error":"#REF!"}]
[16,null,null,"CASTELLANOS OCHOA SARA",null,null,null,"OFICIAL MAYOR",4,"TARJETA",15,null,0,0,{"$f":"12377.968/30","v":412.59893333333338},16.5,28.88,457.97893333333337,176.40720000000002,{"$f":"VLOOKUP(A35,#REF!,22,FALSE)/15","v":{"$error":"#REF!"}},{"$error":"#REF!"}]
[17,null,null,"VENTURA PEREZ HERLINDA AURORA",null,null,null,"AUXILIAR ADMINISTRATIVO",4,"TARJETA",15,null,0,0,{"$f":"5231.907/30","v":174.39690000000002},6.97,{"$f":"TRUNC(O36*0.07,2)","v":12.2},{"$f":"O36+P36+Q36","v":193.5669},176.40720000000002,{"$f":"VLOOKUP(A36,#REF!,22,FALSE)/15","v":{"$error":"#REF!"}},{"$error":"#REF!"}]
[18,null,null,"ESTRADA GOMEZ JUAN CARLOS",null,null,null,"CHOFER",4,"SOBRE",15,null,0,0,{"$f":"4598/30","v":153.26666666666668},6.13,10.72,170.11666666666667,396.00360000000006,{"$f":"VLOOKUP(A37,#REF!,22,FALSE)/15","v":{"$error":"#REF!"}},{"$error":"#REF!"}]
[19,null,null,"HERNANDEZ MELENDEZ JOSE CRUZ",null,null,null,"DIRECTOR JURIDICO",5,"SOBRE",15,null,0,0,{"$f":"11738.71/30","v":391.29033333333331},15.65,27.39,434.33033333333327,216,{"$f":"VLOOKUP(A38,#REF!,22,FALSE)/15","v":{"$error":"#REF!"}},{"$error":"#REF!"}]
[20,null,null,"VENTURA PEREZ HECTOR ALFONSO",null,null,null,"JUEZ CALIFICADOR",5,"TARJETA",15,null,0,0,{"$f":"6402.783/30","v":213.42610000000002},8.5299999999999994,{"$f":"TRUNC(O39*0.07,2)","v":14.93},{"$f":"O39+P39+Q39","v":236.88610000000003},216,{"$f":"VLOOKUP(A39,#REF!,22,FALSE)/15","v":{"$error":"#REF!"}},{"$error":"#REF!"}]
[202,null,null,"ESPINOZA CARRILLO MARIO ALBERTO",null,null,null,"AUXILIAR DE JURIDICO",5,"SOBRE",15,null,0,0,{"$f":"6280.001/30","v":209.33336666666668},8.3699999999999992,14.65,232.35336666666669,257.40720000000005,{"$f":"VLOOKUP(A40,#REF!,22,FALSE)/15","v":{"$error":"#REF!"}},{"$error":"#REF!"}]
[21,null,null,"HERNANDEZ ENRIQUEZ ROSA GUADALUPE","HEEG670312","HEER670312MJCRNS06",null,"JEFE OFICIAL DE REGISTRO CIVIL",6,"TARJETA",15,null,0,0,{"$f":"7630.277/30","v":254.34256666666667},10.17,17.8,282.31256666666667,185.44680000000002,{"$f":"VLOOKUP(A41,#REF!,22,FALSE)/15","v":{"$error":"#REF!"}},{"$error":"#REF!"}]
[18,null,null,"CABRALES CANDELARIO SANDRA",null,null,null,"OFICIAL AUX. DE REGISTRO CIVIL",6,"TARJETA",15,null,0,0,{"$f":"4550.844/30","v":151.69480000000001},6.06,10.61,168.3648,153.52200000000002,{"$f":"VLOOKUP(A42,#REF!,22,FALSE)/15","v":{"$error":"#REF!"}},{"$error":"#REF!"}]
[23,null,null,"DOMINGUEZ JAVIER OSVALDO","DOXJ861110",null,null,"OFICIAL AUX. DE REGISTRO CIVIL",6,"TARJETA",15,null,0,0,{"$f":"4550.844/30","v":151.69480000000001},6.06,10.61,168.3648,237.6,{"$f":"VLOOKUP(A43,#REF!,22,FALSE)/15","v":{"$error":"#REF!"}},{"$error":"#REF!"}]
[24,null,null,"MELCHOR VALENZUELA ABISAI",null,null,null,"DIRECTOR DE CULTURA Y TURISMO",7,"TARJETA",15,null,0,0,{"$f":"7043.028/30","v":234.76760000000002},9.39,16.43,260.58760000000001,166.32,{"$f":"VLOOKUP(A44,#REF!,22,FALSE)/15","v":{"$error":"#REF!"}},{"$error":"#REF!"}]
[25,null,null,"PARRA RON CARLOS ENRIQUE","PARC480708","PARC480708HJCRNR08",null,"CRONISTA",7,"TARJETA",15,null,0,0,{"$f":"4930.054/30","v":164.33513333333335},6.57,11.5,182.40513333333334,153.52200000000002,{"$f":"VLOOKUP(A45,#REF!,22,FALSE)/15","v":{"$error":"#REF!"}},{"$error":"#REF!"}]
[26,null,null,"HERNANDEZ LOPEZ SILVIA","HELS611110","HELS611103MJCRPL00",null,"SECRETARIA",7,"TARJETA",15,null,0,0,{"$f":"4550.844/30","v":151.69480000000001},6.06,10.61,168.3648,79.207200000000014,{"$f":"VLOOKUP(A46,#REF!,22,FALSE)/15","v":{"$error":"#REF!"}},{"$error":"#REF!"}]
[27,null,null,"GODINA ENRIQUEZ SILVIA","SIEE630510","SIEE670512HJCRSF08",null,"CONSERJE",7,"TARJETA",15,null,0,0,{"$f":"3608.416/30","v":120.28053333333334},4.8099999999999996,8.41,133.50053333333335,153.52000000000001,{"$f":"VLOOKUP(A47,#REF!,22,FALSE)/15","v":{"$error":"#REF!"}},{"$error":"#REF!"}]
[31,null,null,"DIAZ PEREZ SAMUEL","DIPS",null,null,"COMUNICACIÓN SOCIAL",8,"TARJETA",15,null,0,0,{"$f":"7043.028/30","v":234.76760000000002},{"$f":"TRUNC($O48*0.04,2)","v":9.39},16.43,260.58760000000001,237.6,{"$f":"VLOOKUP(A48,#REF!,22,FALSE)/15","v":{"$error":"#REF!"}},{"$error":"#REF!"}]
[94,null,null,"MARTINEZ MARTINEZ SALVADOR TAURINO JONATHAN","MAMS900118",null,null,"AUXILIAR ADMINISTRATIVO",23,"TARJETA",15,null,0,0,{"$f":"3448.772/30","v":114.95906666666666},4.59,8.0399999999999991,127.58906666666667,153.52200000000002,{"$f":"VLOOKUP(A48,#REF!,22,FALSE)/15","v":{"$error":"#REF!"}},{"$error":"#REF!"}]
[32,null,null,"ULLOA MARTINEZ MARCELA GUADALUPE","UOMM730612","UOMM730612MJCLRR02",null,"SECRETARIA",8,"TARJETA",15,null,0,0,{"$f":"5530.14/30","v":184.33800000000002},{"$f":"TRUNC($O50*0.04,2)","v":7.37},{"$f":"TRUNC(O50*0.07,2)","v":12.9},{"$f":"O50+P50+Q50","v":204.60800000000003},237.6,{"$f":"VLOOKUP(A150,#REF!,22,FALSE)/15","v":{"$error":"#REF!"}},{"$error":"#REF!"}]
[32,null,null,"RUBIO LOPEZ GUSTAVO","RULG",null,null,"AUXILIAR ADMINISTRATIVO",23,"SOBRE",15,null,0,0,{"$f":"4740.12/30","v":158.00399999999999},6.32,{"$f":"TRUNC(O51*0.07,2)","v":11.06},{"$f":"O51+P51+Q51","v":175.38399999999999},277.20360000000005,{"$f":"VLOOKUP(A49,#REF!,22,FALSE)/15","v":{"$error":"#REF!"}},{"$error":"#REF!"}]
[33,null,null,"GUTIERREZ REYES CAROL","GURC680410","GURC680410MJCTYR00",null,"JEFE ADMINISTRADOR",9,"TARJETA",15,null,0,0,{"$f":"8217.196/30","v":273.90653333333336},10.95,19.170000000000002,304.02653333333336,156.816,{"$f":"VLOOKUP(A51,#REF!,22,FALSE)/15","v":{"$error":"#REF!"}},{"$error":"#REF!"}]
[34,null,null,"FREGOSO HURTADO ALEJANDRA","FEHA831218","FEHA831218MJCRRL07",null,"AUX. ADMINISTRATIVO",9,"TARJETA",15,null,0,0,{"$f":"4648.609/30","v":154.95363333333336},6.19,10.84,171.98363333333336,156.816,{"$f":"VLOOKUP(A52,#REF!,22,FALSE)/15","v":{"$error":"#REF!"}},{"$error":"#REF!"}]
[35,null,null,"LOPEZ MARTINEZ YVETTE AMALIA MARGARITA","LOMY681017","LOMY681017MJCPRV08",null,"AUX. ADMINISTRATIVO",9,"TARJETA",15,null,0,0,{"$f":"4648.609/30","v":154.95363333333336},6.19,10.84,171.98363333333336,174.24,{"$f":"VLOOKUP(A53,#REF!,22,FALSE)/15","v":{"$error":"#REF!"}},{"$error":"#REF!"}]
[36,null,null,"NABARRO DELGADILLO MANUEL","NADM490419","NADM490419HJCBLN01",null,"MENSAJERO",9,"TARJETA",15,null,0,0,{"$f":"5165.085/30","v":172.1695},6.88,12.05,191.09950000000001,192.53160000000003,{"$f":"VLOOKUP(A54,#REF!,22,FALSE)/15","v":{"$error":"#REF!"}},{"$error":"#REF!"}]
[95,null,null,"CISNEROS VAZQUEZ RAMIRO","CIVR540430",null,null,"RECOLECTOR",23,"SOBRE",15,null,0,0,{"$f":"3448.766/30","v":114.95886666666667},4.59,{"$f":"TRUNC(O56*0.07,2)","v":8.0399999999999991},{"$f":"O56+P56+Q56","v":127.58886666666666},192.53160000000003,{"$f":"VLOOKUP(A55,#REF!,22,FALSE)/15","v":{"$error":"#REF!"}},{"$error":"#REF!"}]
[221,null,null,"BECERRA GONZALEZ MARISOL","BEGM",null,null,"ENCARGADA DE DESARROLLO RURAL",8,"SOBRE",15,null,0,0,{"$f":"8217.196/30","v":273.90653333333336},10.95,19.170000000000002,304.02653333333336,82.803600000000003,{"$f":"VLOOKUP(A56,#REF!,22,FALSE)/15","v":{"$error":"#REF!"}},{"$error":"#REF!"}]
[37,null,null,"ARREOLA SIERRA JAVIER",null,null,null,"DELEGADO OCONAHUA",10,"SOBRE",15,null,0,0,{"$f":"5707.236/30","v":190.24119999999999},7.6,13.31,211.15119999999999,100.80720000000001,{"$f":"VLOOKUP(A57,#REF!,22,FALSE)/15","v":{"$error":"#REF!"}},{"$error":"#REF!"}]
[38,null,null,"BRAMBILA MELCHOR JOEL",null,null,null,"SECRETARIO DEL REGISTRO CIVIL",10,"SOBRE",15,null,0,0,{"$f":"2881.269/30","v":96.042299999999997},3.84,6.72,106.6023,100.80720000000001,{"$f":"VLOOKUP(A58,#REF!,22,FALSE)/15","v":{"$error":"#REF!"}},{"$error":"#REF!"}]
[41,null,null,"MELCHOR CASILLAS SANTIAGO","MECS331205","MECS331205HJCLSN08",null,"BOMBERO OCONAHUA",10,"TARJETA",15,null,0,0,{"$f":"2454.658/30","v":81.821933333333334},3.27,5.72,90.811933333333329,100.80720000000001,{"$f":"VLOOKUP(A59,#REF!,22,FALSE)/15","v":{"$error":"#REF!"}},{"$error":"#REF!"}]
[42,null,null,"HERNANDEZ NARANJO VICTOR MANUEL","HENV720810","HENV700810HJCRRC03",null,"RECOLECTOR",10,"TARJETA",15,null,0,0,{"$f":"2988.251/30","v":99.608366666666669},3.98,6.97,110.55836666666667,82.803600000000003,{"$f":"VLOOKUP(A60,#REF!,22,FALSE)/15","v":{"$error":"#REF!"}},{"$error":"#REF!"}]
[43,null,null,"TIZNADO CHAVEZ RAMON","TICR",null,null,"RECOLECTOR",10,"TARJETA",15,null,0,0,{"$f":"2988.251/30","v":99.608366666666669},3.98,6.97,110.55836666666667,52.207200000000007,{"$f":"VLOOKUP(A61,#REF!,22,FALSE)/15","v":{"$error":"#REF!"}},{"$error":"#REF!"}]
[44,null,null,"ORTIZ HERNANDEZ FRANCISCO JAVIER","OIHF661005","OIHF661005HJCRRR01",null,"RECOLECTOR",10,"TARJETA",15,null,0,0,{"$f":"2988.251/30","v":99.608366666666669},3.98,6.97,110.55836666666667,86.4,{"$f":"VLOOKUP(A62,#REF!,22,FALSE)/15","v":{"$error":"#REF!"}},{"$error":"#REF!"}]
[45,null,null,"HURTADO SANTIAGO ABEL",null,null,null,"GUARDARRASTRO",10,"SOBRE",15,null,0,0,{"$f":"2454.658/30","v":81.821933333333334},3.27,5.72,90.811933333333329,86.4,{"$f":"VLOOKUP(A63,#REF!,22,FALSE)/15","v":{"$error":"#REF!"}},{"$error":"#REF!"}]
[46,null,null,"ULLOA ALCANTAR MIGUEL","UOAM380416","UOAM380416HNTLLG09",null,"AUX. DE LIMPIEZA",10,"TARJETA",15,null,0,0,{"$f":"1547.452/30","v":51.581733333333332},2.06,3.61,57.251733333333334,52.207200000000007,{"$f":"VLOOKUP(A64,#REF!,22,FALSE)/15","v":{"$error":"#REF!"}},{"$error":"#REF!"}]
[47,null,null,"DE LA ROSA MACIAS SALVADOR","ROMS500801","ROMS500801HJCSCL00",null,"FONTANERO",10,"TARJETA",15,null,0,0,{"$f":"2561.311/30","v":85.377033333333344},3.41,5.97,94.757033333333339,97.2,{"$f":"VLOOKUP(A65,#REF!,22,FALSE)/15","v":{"$error":"#REF!"}},{"$error":"#REF!"}]
[48,null,null,"SANTIAGO LOPEZ SABINO","SALS481230","SALS481230HJCNPB00",null,"FONTANERO",10,"SOBRE",15,null,0,0,{"$f":"2561.311/30","v":85.377033333333344},3.41,5.97,94.757033333333339,79.207200000000014,{"$f":"VLOOKUP(A66,#REF!,22,FALSE)/15","v":{"$error":"#REF!"}},{"$error":"#REF!"}]
[49,null,null,"CERVANTES SANCHEZ GABRIEL","CESG",null,null,"ENCARGADO DE CEMENTERIOS",10,"SOBRE",15,null,0,0,{"$f":"1547.452/30","v":51.581733333333332},2.06,3.61,57.251733333333334,97.2,{"$f":"VLOOKUP(A67,#REF!,22,FALSE)/15","v":{"$error":"#REF!"}},{"$error":"#REF!"}]
[50,null,null,"AGUILAR VILLA CECILIO",null,null,null,"AGENTE MUNICIPAL STA. ROSALIA",11,"SOBRE",15,null,0,0,{"$f":"2881.269/30","v":96.042299999999997},3.84,6.72,106.6023,97.2,{"$f":"VLOOKUP(A68,#REF!,22,FALSE)/15","v":{"$error":"#REF!"}},{"$error":"#REF!"}]
[51,null,null,"MEDINA CORTES ALFREDO","MECA",null,null,"AGENTE MUNICIPAL SAN RAFAEL",11,"SOBRE",15,null,0,0,{"$f":"2348.005/30","v":78.266833333333338},3.13,5.47,86.866833333333332,82.803600000000003,{"$f":"VLOOKUP(A69,#REF!,22,FALSE)/15","v":{"$error":"#REF!"}},{"$error":"#REF!"}]
[53,null,null,"ESPARZA URIBE EFRAIN","EAGE",null,null,"AGENTE MUNICIPAL DE PUERTA DE PERICOS",11,"SOBRE",15,null,0,0,{"$f":"2881.269/30","v":96.042299999999997},3.84,{"$f":"TRUNC(O71*0.07,2)","v":6.72},{"$f":"O71+P71+Q71","v":106.6023},82.803600000000003,{"$f":"VLOOKUP(A70,#REF!,22,FALSE)/15","v":{"$error":"#REF!"}},{"$error":"#REF!"}]
[54,null,null,"TAPIA MORALES ROBERTO","TAMR",null,null,"AGENTE MUNICIPAL LA MAZATA",11,"SOBRE",15,null,0,0,{"$f":"2881.269/30","v":96.042299999999997},3.84,6.72,106.6023,133.2072,{"$f":"VLOOKUP(A71,#REF!,22,FALSE)/15","v":{"$error":"#REF!"}},{"$error":"#REF!"}]
[55,null,null,"AYON PEREZ FRANCISCO","AOPF",null,null,"AGENTE MUNICIPAL LA QUEBRADA",11,"SOBRE",15,null,0,0,{"$f":"2454.658/30","v":81.821933333333334},3.27,5.72,90.811933333333329,108,{"$f":"VLOOKUP(A72,#REF!,22,FALSE)/15","v":{"$error":"#REF!"}},{"$error":"#REF!"}]
[56,null,null,"AGUAYO CORTES MIGUEL",null,null,null,"AGENTE MUNICIPAL LA QUEBRADA",11,"SOBRE",15,null,0,0,{"$f":"2454.658/30","v":81.821933333333334},3.27,{"$f":"TRUNC(O74*0.07,2)","v":5.72},{"$f":"O74+P74+Q74","v":90.811933333333329},108,{"$f":"VLOOKUP(A73,#REF!,22,FALSE)/15","v":{"$error":"#REF!"}},{"$error":"#REF!"}]
[57,null,null,"GOMEZ HERNANDEZ VALENTIN","GOHV780710","GOHV780710HJCMRL00",null,"CHOFER RECOLECTOR",11,"TARJETA",15,null,0,0,{"$f":"3948.783/30","v":131.62610000000001},5.26,9.2100000000000009,146.09610000000001,529.20000000000005,{"$f":"VLOOKUP(A74,#REF!,22,FALSE)/15","v":{"$error":"#REF!"}},{"$error":"#REF!"}]
[58,null,null,"HERNANDEZ PINEDA JUAN JOSE","HEPJ581212","HEPJ571212HJCRNN00",null,"BOMBERO STA. ROSALIA",11,"TARJETA",15,null,0,0,{"$f":"3201.556/30","v":106.71853333333334},{"$f":"TRUNC($O76*0.04,2)","v":4.26},7.47,118.44853333333334,216.66,{"$f":"VLOOKUP(A75,#REF!,22,FALSE)/15","v":{"$error":"#REF!"}},{"$error":"#REF!"}]
[59,null,null,"VENTURA URIBE MARIA DEL TRANSITO","VEUT",null,null,"ASEO PUBLICO LA MAZATA",11,"SOBRE",15,null,0,0,{"$f":"2294.35/30","v":76.478333333333325},{"$f":"TRUNC($O77*0.04,2)","v":3.05},{"$f":"TRUNC(O77*0.07,2)","v":5.35},{"$f":"O77+P77+Q77","v":84.878333333333316},216.66,{"$f":"VLOOKUP(A159,#REF!,22,FALSE)/15","v":{"$error":"#REF!"}},{"$error":"#REF!"}]
[60,null,null,"LOPEZ CUETO GILBERTO",null,null,null,"ENCARGADO DE HACIENDA PUBLICA",12,"TARJETA",15,null,0,0,{"$f":"16418.664/30","v":547.28880000000004},21.89,38.31,607.48880000000008,186.4836,{"$f":"VLOOKUP(A160,#REF!,22,FALSE)/15","v":{"$error":"#REF!"}},{"$error":"#REF!"}]
[61,null,null,"MARTINEZ PAREDES ANNA VERONICA","MAPA820618","MAPA820618MJCRRN00",null,"AUXILIAR CONTABLE",12,"TARJETA",15,null,0,0,{"$f":"6422.533/30","v":214.08443333333335},8.56,14.98,237.62443333333334,190.08,284.23733333333337,94.157333333333355]
[211,null,null,"LOPEZ MELENDRES MA DE LOURDES","LOML",null,null,"AUXILIAR CONTABLE",12,"TARJETA",15,null,0,0,{"$f":"6422.533/30","v":214.08443333333335},8.56,{"$f":"TRUNC(O80*0.07,2)","v":14.98},{"$f":"O80+P80+Q80","v":237.62443333333334},174.24720000000002,{"$f":"VLOOKUP(A78,#REF!,22,FALSE)/15","v":{"$error":"#REF!"}},{"$error":"#REF!"}]
[64,null,null,"HERNANDEZ CARRILLO ERIKA MARIA","HECE790320","HECE790320MJCRRR09",null,"SECRETARIA",13,"TARJETA",15,null,0,0,{"$f":"5527.836/30","v":184.2612},7.37,12.89,204.52120000000002,283.14360000000005,{"$f":"VLOOKUP(A79,#REF!,22,FALSE)/15","v":{"$error":"#REF!"}},{"$error":"#REF!"}]
[66,null,null,"CABRALES GONZALEZ JOSE MANUEL","CAGM680912","CAGM680912HJCBNN06",null,"RECAUDADOR DE PISO",13,"TARJETA",15,null,0,0,{"$f":"5165.085/30","v":172.1695},6.88,12.05,191.09950000000001,283.13280000000003,{"$f":"VLOOKUP(A80,#REF!,22,FALSE)/15","v":{"$error":"#REF!"}},{"$error":"#REF!"}]
[67,null,null,"PEREZ JAIME ARTURO","PEJA600718","RORS770602HJCDML08",null,"COORDINADOR DE EGRESOS",14,"TARJETA",15,null,0,0,{"$f":"8899.429/30","v":296.64763333333332},11.86,20.76,329.26763333333332,283.14360000000005,{"$f":"VLOOKUP(A81,#REF!,22,FALSE)/15","v":{"$error":"#REF!"}},{"$error":"#REF!"}]
[68,null,null,"SANCHEZ JORGE AMADO",null,null,null,"DIRECTOR",15,"TARJETA",15,null,0,0,{"$f":"8392.646/30","v":279.75486666666671},11.19,19.579999999999998,310.5248666666667,198.00720000000001,{"$f":"VLOOKUP(A82,#REF!,22,FALSE)/15","v":{"$error":"#REF!"}},{"$f":"T84-S84","v":{"$error":"#REF!"}}]
[69,null,null,"LOCHEO SALAZAR MARTIN ARTURO",null,null,null,"DIRECTOR",16,"TARJETA",15,null,0,0,{"$f":"8393.304/30","v":279.77679999999998},11.19,19.579999999999998,310.54679999999996,153.52000000000001,{"$f":"VLOOKUP(A83,#REF!,22,FALSE)/15","v":{"$error":"#REF!"}},{"$error":"#REF!"}]
[70,null,null,"CAMARENA PEREZ BERTA ALICIA","CAPB801105","CAPB801105MJCMRR06",null,"SUB-DIRECTOR DE CATASTRO",16,"TARJETA",15,null,0,0,{"$f":"5872.482/30","v":195.74940000000001},7.82,{"$f":"TRUNC(O86*0.07,2)","v":13.7},{"$f":"O86+P86+Q86","v":217.26939999999999},198.00720000000001,{"$f":"VLOOKUP(A84,#REF!,22,FALSE)/15","v":{"$error":"#REF!"}},{"$error":"#REF!"}]
[10,null,null,"GONZALEZ MARTINEZ ERIKA DELFINA",null,null,null,"SECRETARIA",16,"SOBRE",15,null,0,0,{"$f":"4550.844/30","v":151.69480000000001},6.06,{"$f":"TRUNC(O87*0.07,2)","v":10.61},{"$f":"O87+P87+Q87","v":168.3648},198.00720000000001,{"$f":"VLOOKUP(A85,#REF!,22,FALSE)/15","v":{"$error":"#REF!"}},{"$error":"#REF!"}]
[203,null,null,"ROBLES VENEGAS OSCAR","ROVO",null,null,"SUB-DIRECTOR DE PREDIAL",16,"TARJETA",15,null,0,0,{"$f":"7184.24/30","v":239.47466666666665},9.57,{"$f":"TRUNC(O88*0.07,2)","v":16.760000000000002},{"$f":"O88+P88+Q88","v":265.80466666666666},198.00720000000001,{"$f":"VLOOKUP(A86,#REF!,22,FALSE)/15","v":{"$error":"#REF!"}},{"$error":"#REF!"}]
[204,null,null,"GOMEZ DIAZ OSCAR EDUARDO","GOMG",null,null,"AUXILIAR",16,"SOBRE",15,null,0,0,{"$f":"4740.12/30","v":158.00399999999999},6.32,11.06,175.38399999999999,376.2072,{"$f":"VLOOKUP(A84,#REF!,22,FALSE)/15","v":{"$error":"#REF!"}},{"$error":"#REF!"}]
[220,null,null,"PRECIADO VAZQUEZ OMAR","OAPV",null,null,"AUXILIAR",16,"SOBRE",15,null,0,0,{"$f":"4740.12/30","v":158.00399999999999},6.32,11.06,175.38399999999999,376.2072,{"$f":"VLOOKUP(A85,#REF!,22,FALSE)/15","v":{"$error":"#REF!"}},{"$error":"#REF!"}]
[212,null,null,"DOMINGUEZ FARIAS CUAUHTEMOC","DOFC621104PA6",null,null,"CONTRALOR",12,"TARJETA",15,null,0,0,{"$f":"8893.979/30","v":296.46596666666665},11.85,20.75,329.06596666666667,257.40720000000005,{"$f":"VLOOKUP(A89,#REF!,22,FALSE)/15","v":{"$error":"#REF!"}},{"$error":"#REF!"}]
[72,null,null,"CARDENAS OCHOTECO RENE GERMAN",null,null,null,"DIRECTOR DE OBRAS PÚBLICAS",17,"TARJETA",15,null,0,0,{"$f":"11151.791/30","v":371.72636666666665},14.86,26.02,412.60636666666664,257.40720000000005,{"$f":"VLOOKUP(A90,#REF!,22,FALSE)/15","v":{"$error":"#REF!"}},{"$error":"#REF!"}]
[73,null,null,"FLORES IÑIGUEZ RAYMUNDO",null,null,null,"SUB-DIRECTOR DESARROLLO URBANO",17,"TARJETA",15,null,0,0,{"$f":"6405.746/30","v":213.52486666666667},8.5399999999999991,14.94,237.00486666666666,158.5548,{"$f":"VLOOKUP(A90,#REF!,22,FALSE)/15","v":{"$error":"#REF!"}},{"$error":"#REF!"}]
[74,null,null,"RENTERIA MENDEZ FRANCISCO","REMF850814",null,null,"AUXILIAR DE DIRECCIÓN",17,"TARJETA",15,null,0,0,{"$f":"6491.331/30","v":216.3777},8.65,15.14,240.16770000000002,158.5548,{"$f":"VLOOKUP(A91,#REF!,22,FALSE)/15","v":{"$error":"#REF!"}},{"$error":"#REF!"}]
[75,null,null,"MARTINEZ CASTORENA IRENE CONCEPCION","MACI840405","MACI840405MJCRSR08",null,"ASISITENTE DE DIRECCIÓN",17,"TARJETA",15,null,0,0,{"$f":"7630.277/30","v":254.34256666666667},10.17,17.8,282.31256666666667,158.5548,{"$f":"VLOOKUP(A92,#REF!,22,FALSE)/15","v":{"$error":"#REF!"}},{"$error":"#REF!"}]
[77,null,null,"BERNAL CHAVEZ JOSE ROSARIO","BECR460228","BECR460207HJCRHS07",null,"CHOFER   ",17,"TARJETA",15,null,0,0,{"$f":"4699.961/30","v":156.66536666666667},6.26,{"$f":"TRUNC(O96*0.07,2)","v":10.96},{"$f":"O96+P96+Q96","v":173.88536666666667},158.5548,{"$f":"VLOOKUP(A93,#REF!,22,FALSE)/15","v":{"$error":"#REF!"}},{"$error":"#REF!"}]
[78,null,null,"BAUTISTA RODARTE HUGO JOEL","BARH",null,null,"MAESTRO DE OBRA",17,"SOBRE",15,null,0,0,{"$f":"8160.405/30","v":272.01349999999996},10.88,19.04,301.93349999999998,198.00720000000001,{"$f":"VLOOKUP(A93,#REF!,22,FALSE)/15","v":{"$error":"#REF!"}},{"$error":"#REF!"}]
[79,null,null,"GOMEZ NAVARRO LIZBETH ALEJANDRA","GONL",null,null,"SECRETARIA",17,"SOBRE",15,null,0,0,{"$f":"4550.844/30","v":151.69480000000001},6.06,10.61,168.3648,137.33279999999999,{"$f":"VLOOKUP(A95,#REF!,22,FALSE)/15","v":{"$error":"#REF!"}},{"$error":"#REF!"}]
[204,null,null,"NOLASCO VALLE ARTURO","NOVA",null,null,"CHOFER   ",17,"SOBRE",7,null,0,0,{"$f":"4699.961/30","v":156.66536666666667},6.26,10.96,173.88536666666667,163.30680000000001,{"$f":"VLOOKUP(A97,#REF!,22,FALSE)/15","v":{"$error":"#REF!"}},{"$error":"#REF!"}]
[80,null,null,"HERNANDEZ AGUIRRE JOSE MANUEL","HEAM740507","HEAM740507HJCRGN04",null,"OPERADOR DE MAQUINAS",18,"TARJETA",15,null,0,0,{"$f":"5869.519/30","v":195.65063333333333},7.82,13.69,217.16063333333332,136.7388,{"$f":"VLOOKUP(A98,#REF!,22,FALSE)/15","v":{"$error":"#REF!"}},{"$error":"#REF!"}]
[82,null,null,"GOMEZ ESTEVEZ JOSE DE JESUS",null,null,null,"ALMACENISTA",19,"SOBRE",15,null,0,0,{"$f":"4070.907/30","v":135.6969},5.42,9.49,150.6069,91.08720000000001,{"$f":"VLOOKUP(A98,#REF!,22,FALSE)/15","v":{"$error":"#REF!"}},{"$error":"#REF!"}]
[83,null,null,"GONZALEZ VAZQUEZ J FRANCISCO",null,null,null,"ADMINISTRADOR",20,"SOBRE",15,null,0,0,{"$f":"4840.848/30","v":161.36160000000001},6.45,11.29,179.10159999999999,91.08720000000001,{"$f":"VLOOKUP(A99,#REF!,22,FALSE)/15","v":{"$error":"#REF!"}},{"$error":"#REF!"}]
[84,null,null,"LOPEZ VILLEGAS JOSE DE JESUS","LOVJ",null,null,"GUARDA RASTRO",21,"TARJETA",15,null,0,0,{"$f":"4053.461/30","v":135.11536666666666},5.4,9.4499999999999993,149.96536666666665,116.33760000000001,{"$f":"VLOOKUP(A100,#REF!,22,FALSE)/15","v":{"$error":"#REF!"}},{"$error":"#REF!"}]
[85,null,null,"GONZALEZ JARA J. REFUGIO JAVIER","GOJR670808",null,null,"VELADOR",22,"TARJETA",15,null,0,0,{"$f":"2700.223/30","v":90.007433333333339},3.6,6.3,99.90743333333333,116.33760000000001,{"$f":"VLOOKUP(A101,#REF!,22,FALSE)/15","v":{"$error":"#REF!"}},{"$error":"#REF!"}]
[86,null,null,"MARTINEZ GONZALEZ JOSE DE JESUS","MAGJ401015",null,null,"VELADOR",22,"TARJETA",15,null,0,0,{"$f":"2700.223/30","v":90.007433333333339},3.6,6.3,99.90743333333333,116.33760000000001,{"$f":"VLOOKUP(A102,#REF!,22,FALSE)/15","v":{"$error":"#REF!"}},{"$error":"#REF!"}]
[87,null,null,"HUERTA AGUILA BERNARDINO","HUAB811011","HUAB810114HJCRGR01",null,"RECOLECTOR",23,"TARJETA",15,null,0,0,{"$f":"3448.766/30","v":114.95886666666667},4.59,8.0399999999999991,127.58886666666666,116.34,{"$f":"VLOOKUP(A103,#REF!,22,FALSE)/15","v":{"$error":"#REF!"}},{"$error":"#REF!"}]
[88,null,null,"GRACIA GOMEZ JAVIER","GAGJ731114","GAGJ731114HJCRMV00",null,"RECOLECTOR",23,"TARJETA",15,null,0,0,{"$f":"3448.766/30","v":114.95886666666667},4.59,8.0399999999999991,127.58886666666666,116.33760000000001,{"$f":"VLOOKUP(A104,#REF!,22,FALSE)/15","v":{"$error":"#REF!"}},{"$error":"#REF!"}]
[89,null,null,"CABRALES SALINAS FAUSTO","CASF381219","CASF381219HJCBLS07",null,"RECOLECTOR",23,"TARJETA",15,null,0,0,{"$f":"3448.766/30","v":114.95886666666667},4.59,8.0399999999999991,127.58886666666666,158.5548,{"$f":"VLOOKUP(A105,#REF!,22,FALSE)/15","v":{"$error":"#REF!"}},{"$error":"#REF!"}]
[90,null,null,"FREGOZO ALVARADO ALFONSO","FEAA650918","FEAA650818HJCRLL05",null,"RECOLECTOR",23,"TARJETA",15,null,0,0,{"$f":"3448.766/30","v":114.95886666666667},{"$f":"TRUNC($O109*0.04,2)","v":4.59},{"$f":"TRUNC(O109*0.07,2)","v":8.0399999999999991},{"$f":"O109+P109+Q109","v":127.58886666666666},73.915199999999999,{"$f":"VLOOKUP(A104,#REF!,22,FALSE)/15","v":{"$error":"#REF!"}},{"$error":"#REF!"}]
[91,null,null,"MARTINEZ VEJAR JUAN JOSE","MAVJ710822","MAVJ710822HJCRJN04",null,"CHOFER",23,"TARJETA",15,null,0,0,{"$f":"4553.807/30","v":151.79356666666666},6.07,10.62,168.48356666666666,375.54,197.92333333333332,-177.6166666666667]
[92,null,null,"MARTINEZ TORRES MIGUEL","MATM450918","MATM451028HJCRRG08",null,"CHOFER",23,"TARJETA",15,null,0,0,{"$f":"4699.961/30","v":156.66536666666667},6.26,10.96,173.88536666666667,107.03880000000001,{"$f":"VLOOKUP(A106,#REF!,22,FALSE)/15","v":{"$error":"#REF!"}},{"$error":"#REF!"}]
[97,null,null,"MENDEZ GARCIA MIGUEL ANGEL","MEGM",null,null,"AUX. DE LIMPIEZA GRAL. ",24,"SOBRE",15,null,0,0,{"$f":"4699.961/30","v":156.66536666666667},6.26,10.96,173.88536666666667,107.04,{"$f":"VLOOKUP(A108,#REF!,22,FALSE)/15","v":{"$error":"#REF!"}},{"$error":"#REF!"}]
[96,null,null,"HUERTA CORTES RAMON","HUCR450811","HUCR450831HJCRRM08",null,"AUX. DE LIMPIEZA GRAL. (Jardinero)",24,"TARJETA",15,null,0,0,{"$f":"3172.918/30","v":105.76393333333334},4.2300000000000004,7.4,117.39393333333335,92.307600000000008,{"$f":"VLOOKUP(A109,#REF!,22,FALSE)/15","v":{"$error":"#REF!"}},{"$error":"#REF!"}]
[102,null,null,"SILVA PINTO J ASUNCIÓN","SIPA400815.","SIPA400815HJCLNS02",null,"AUX. DE LIMPIEZA GRAL. (Jardinero)",24,"SOBRE",15,null,0,0,{"$f":"3172.918/30","v":105.76393333333334},4.2300000000000004,7.4,117.39393333333335,140.4,{"$f":"VLOOKUP(A110,#REF!,22,FALSE)/15","v":{"$error":"#REF!"}},{"$error":"#REF!"}]
[111,null,null,"REGALADO BAÑUELOS FRANCISCO","REBF441211","REBF441211HJCGXR05",null,"BARRENDERO",24,"TARJETA",15,null,0,0,{"$f":"2736.103/30","v":91.203433333333336},3.64,{"$f":"TRUNC(O115*0.07,2)","v":6.38},{"$f":"O115+P115+Q115","v":101.22343333333333},122.364,{"$f":"VLOOKUP(A111,#REF!,22,FALSE)/15","v":{"$error":"#REF!"}},{"$error":"#REF!"}]
[112,null,null,"AYALA RODRIGUEZ MIGUEL ANGEL","AARM690504","AARM690504HJCYDG04",null,"PODADOR",24,"TARJETA",15,null,0,0,{"$f":"4161.76/30","v":138.72533333333334},5.54,9.7100000000000009,153.97533333333334,198.00720000000001,{"$f":"VLOOKUP(A112,#REF!,22,FALSE)/15","v":{"$error":"#REF!"}},{"$error":"#REF!"}]
[113,null,null,"RUIZ MUÑOZ LUIS",null,null,null,"VIGILANTE",25,"SOBRE",15,null,0,0,{"$f":"3627.179/30","v":120.90596666666667},4.83,8.4600000000000009,134.19596666666666,198.00720000000001,{"$f":"VLOOKUP(A113,#REF!,22,FALSE)/15","v":{"$error":"#REF!"}},{"$error":"#REF!"}]
[114,null,null,"RUIZ HERNANDEZ CELESTINO","RUHC540519","RUHC540519HJCZRL03",null,"JEFE DE ALUMBRADO PUBLICO",26,"TARJETA",15,null,0,0,{"$f":"5869.519/30","v":195.65063333333333},7.82,13.69,217.16063333333332,198.00720000000001,{"$f":"VLOOKUP(A114,#REF!,22,FALSE)/15","v":{"$error":"#REF!"}},{"$error":"#REF!"}]
[117,null,null,"ORENDAIN RINCON JOSE GUADALUPE","OERG",null,null,"DIRECTOR DE DEPORTES",28,"SOBRE",15,null,0,0,{"$f":"5869.519/30","v":195.65063333333333},7.82,{"$f":"TRUNC(O119*0.07,2)","v":13.69},{"$f":"O119+P119+Q119","v":217.16063333333332},209.88720000000001,{"$f":"VLOOKUP(A114,#REF!,22,FALSE)/15","v":{"$error":"#REF!"}},{"$error":"#REF!"}]
[118,null,null,"BERNAL BRAMBILA IRMA GUADALUPE","BEBI",null,null,"ENC DE TURISMO Y ECOLOGIA",28,"TARJETA",15,null,0,0,{"$f":"4081.112/30","v":136.03706666666668},5.44,9.52,150.99706666666668,240.76440000000002,{"$f":"VLOOKUP(A116,#REF!,22,FALSE)/15","v":{"$error":"#REF!"}},{"$error":"#REF!"}]
[119,null,null,"MARTINEZ VALDIVIA FRANCISCO","MAVF520525","MAVF520525HJCRLR02",null,"MEDICO MUNICIPAL",29,"TARJETA",15,null,0,0,{"$f":"6221.737/30","v":207.39123333333333},8.2899999999999991,14.51,230.19123333333332,121.7268,{"$f":"VLOOKUP(A117,#REF!,22,FALSE)/15","v":{"$error":"#REF!"}},{"$error":"#REF!"}]
[121,null,null,"BARAJAS GUTIERREZ MARIA DE JESUS","BAGJ740307","BAGJ740307MJCRTS15",null,"SECRETARIA",30,"TARJETA",15,null,0,0,{"$f":"3608.416/30","v":120.28053333333334},{"$f":"TRUNC($O122*0.04,2)","v":4.8099999999999996},{"$f":"TRUNC(O122*0.07,2)","v":8.41},{"$f":"O122+P122+Q122","v":133.50053333333335},121.7268,{"$f":"VLOOKUP(A118,#REF!,22,FALSE)/15","v":{"$error":"#REF!"}},{"$error":"#REF!"}]
[65,null,null,"HERNANDEZ GARCIA JAIME","HEGJ",null,null,"INSPECTOR FISCAL",31,"SOBRE",15,null,0,0,{"$f":"5165.09/30","v":172.16966666666667},6.88,{"$f":"TRUNC(O123*0.07,2)","v":12.05},{"$f":"O123+P123+Q123","v":191.09966666666668},190.08,{"$f":"VLOOKUP(A118,#REF!,22,FALSE)/15","v":{"$error":"#REF!"}},{"$error":"#REF!"}]
[123,null,null,"REYES HERNANDEZ MOISES","REHM",null,null,"POLICIA EN LINEA",31,"TARJETA",15,null,0,0,{"$f":"5634.488/30","v":187.81626666666668},7.51,{"$f":"TRUNC(O124*0.07,2)","v":13.14},{"$f":"O124+P124+Q124","v":208.46626666666668},190.08,{"$f":"VLOOKUP(A119,#REF!,22,FALSE)/15","v":{"$error":"#REF!"}},{"$error":"#REF!"}]
[124,null,null,"GIL RIVERA JOSE LUIS","GIRL700926","GIRL700926HJCLVS01",null,"POLICIA EN LINEA",31,"SOBRE",7.5,null,0,0,187.81626666666668,7.51,13.14,208.46626666666668,190.08,{"$f":"VLOOKUP(A120,#REF!,22,FALSE)/15","v":{"$error":"#REF!"}},{"$error":"#REF!"}]
[125,null,null,"GOMEZ CHAVEZ BENIGNO","GOCB550313","GOCB550313HJCMHN07",null,"POLICIA EN LINEA",31,"SOBRE",15,null,0,0,187.81626666666668,7.51,13.14,208.46626666666668,190.08,{"$f":"VLOOKUP(A121,#REF!,22,FALSE)/15","v":{"$error":"#REF!"}},{"$error":"#REF!"}]
[126,null,null,"ACOSTA GUTIERREZ JUAN ANTONIO","AOGJ700101",null,null,"POLICIA EN LINEA",31,"SOBRE",15,null,0,0,187.81626666666668,7.51,13.14,208.46626666666668,190.08,{"$f":"VLOOKUP(A122,#REF!,22,FALSE)/15","v":{"$error":"#REF!"}},{"$error":"#REF!"}]
[128,null,null,"DE LA ROSA MACIAS PABLO","ROMP450629",null,null,"POLICIA EN LINEA",31,"TARJETA",15,null,0,0,187.81626666666668,7.51,{"$f":"TRUNC(O128*0.07,2)","v":13.14},{"$f":"O128+P128+Q128","v":208.46626666666668},190.08,{"$f":"VLOOKUP(A123,#REF!,22,FALSE)/15","v":{"$error":"#REF!"}},{"$error":"#REF!"}]
[129,null,null,"ORTIZ MARIN JOSE ANTONIO","OIMJ",null,null,"POLICIA EN LINEA",31,"TARJETA",15,null,0,0,187.81626666666668,7.51,{"$f":"TRUNC(O129*0.07,2)","v":13.14},{"$f":"O129+P129+Q129","v":208.46626666666668},190.08,{"$f":"VLOOKUP(A124,#REF!,22,FALSE)/15","v":{"$error":"#REF!"}},{"$error":"#REF!"}]
[131,null,null,"ALDAZ RAMOS GABRIEL","AARG",null,null,"POLICIA EN LINEA",31,"SOBRE",15,null,0,0,187.81626666666668,{"$f":"TRUNC($O130*0.04,2)","v":7.51},13.14,208.46626666666668,190.08,{"$f":"VLOOKUP(A125,#REF!,22,FALSE)/15","v":{"$error":"#REF!"}},{"$error":"#REF!"}]
[132,null,null,"ROJAS SAUCEDO SALVADOR","ROSS561027","ROSS561027HJCJCL02",null,"POLICIA DE LINEA",31,"TARJETA",15,null,0,0,187.81626666666668,{"$f":"TRUNC($O131*0.04,2)","v":7.51},13.14,208.46626666666668,190.08,{"$f":"VLOOKUP(A126,#REF!,22,FALSE)/15","v":{"$error":"#REF!"}},{"$error":"#REF!"}]
[133,null,null,"GALINDO CARRILLO NOE","GACN",null,null,"POLICIA EN LINEA",31,"TARJETA",15,null,0,0,187.81626666666668,{"$f":"TRUNC($O132*0.04,2)","v":7.51},{"$f":"TRUNC(O132*0.07,2)","v":13.14},{"$f":"O132+P132+Q132","v":208.46626666666668},190.08,{"$f":"VLOOKUP(A127,#REF!,22,FALSE)/15","v":{"$error":"#REF!"}},{"$error":"#REF!"}]
[134,null,null,"NUÑEZ LUCIA JOSE ANTONIO","NULA",null,null,"POLICIA EN LINEA",31,"SOBRE",15,null,0,0,187.81626666666668,{"$f":"TRUNC($O133*0.04,2)","v":7.51},13.14,208.46626666666668,190.08,{"$f":"VLOOKUP(A128,#REF!,22,FALSE)/15","v":{"$error":"#REF!"}},{"$error":"#REF!"}]
[135,null,null,"PEREZ CORTES JUAN JOSE","PECJ",null,null,"POLICIA DE LINEA",31,"TARJETA",15,null,0,0,187.81626666666668,7.51,13.14,208.46626666666668,190.08,{"$f":"VLOOKUP(A129,#REF!,22,FALSE)/15","v":{"$error":"#REF!"}},{"$error":"#REF!"}]
[136,null,null,"RINCON ASCENCIO PATRICIA","RIAP",null,null,"POLICIA DE LINEA",31,"SOBRE",15,null,0,0,187.81626666666668,7.51,13.14,208.46626666666668,190.08,{"$f":"VLOOKUP(A130,#REF!,22,FALSE)/15","v":{"$error":"#REF!"}},{"$error":"#REF!"}]
[138,null,null,"FRANCO ARVIZU FERNANDO","FAAF",null,null,"POLICIA DE LINEA",31,"SOBRE",15,null,0,0,187.81626666666668,7.51,13.14,208.46626666666668,190.08,{"$f":"VLOOKUP(A131,#REF!,22,FALSE)/15","v":{"$error":"#REF!"}},{"$error":"#REF!"}]
[139,null,null,"DIAZ ROMERO J FELIX","DIRF101208","DIRF401210HJCZML05",null,"VELADOR",31,"SOBRE",15,null,0,0,{"$f":"2441.82/30","v":81.394000000000005},3.25,{"$f":"TRUNC(O137*0.07,2)","v":5.69},90.334000000000003,190.08,{"$f":"VLOOKUP(A132,#REF!,22,FALSE)/15","v":{"$error":"#REF!"}},{"$error":"#REF!"}]
[141,null,null,"ALVAREZ MARTINEZ JAVIER","AAMJ750104",null,null,"POLICIA DE LINEA",31,"TARJETA",13,null,0,0,{"$f":"5634.488/30","v":187.81626666666668},7.51,13.14,208.46626666666668,190.08,{"$f":"VLOOKUP(A133,#REF!,22,FALSE)/15","v":{"$error":"#REF!"}},{"$error":"#REF!"}]
[142,null,null,"HERNANDEZ RAMIREZ RUBEN","HERR820117",null,null,"POLICIA DE LINEA",31,"TARJETA",15,null,0,0,187.81626666666668,7.51,13.14,208.46626666666668,190.08,{"$f":"VLOOKUP(A134,#REF!,22,FALSE)/15","v":{"$error":"#REF!"}},{"$error":"#REF!"}]
[143,null,null,"HURTADO GRAJEDA PORFIRIO","HUGP500101",null,null,"POLICIA DE LINEA",31,"SOBRE",15,null,0,0,187.81626666666668,7.51,{"$f":"TRUNC(O140*0.07,2)","v":13.14},208.46626666666668,176.39999639999999,{"$f":"VLOOKUP(A135,#REF!,22,FALSE)/15","v":{"$error":"#REF!"}},{"$error":"#REF!"}]
[145,null,null,"GUTIERREZ RAMIREZ ISELA","GURI770608","GURI770608MJCTMS04",null,"PSICOLOGA",31,"TARJETA",15,null,0,0,187.81626666666668,7.51,13.14,208.46626666666668,190.08,{"$f":"VLOOKUP(A136,#REF!,22,FALSE)/15","v":{"$error":"#REF!"}},{"$error":"#REF!"}]
[146,null,null,"TAVARES VAZQUEZ CORNELIO","TAVC",null,null,"POLICIA DE LINEA",31,"TARJETA",15,null,0,0,187.81626666666668,7.51,13.14,208.46626666666668,190.08,{"$f":"VLOOKUP(A137,#REF!,22,FALSE)/15","v":{"$error":"#REF!"}},{"$error":"#REF!"}]
[147,null,null,"MENDEZ SANDOVAL JUAN RAMON","MESJ",null,null,"POLICIA DE LINEA",31,"TARJETA",15,null,0,0,187.81626666666668,7.51,13.14,{"$f":"O143+P143+Q143","v":208.46626666666668},210.12480000000002,{"$f":"VLOOKUP(A138,#REF!,22,FALSE)/15","v":{"$error":"#REF!"}},{"$error":"#REF!"}]
[148,null,null,"MOYEDA BLANCO MARBY ILENIA","MOBM",null,null,"AUX. ADMINISTRATIVO",31,"TARJETA",15,null,0,0,{"$f":"6228.649/30","v":207.62163333333334},8.3000000000000007,14.53,230.45163333333335,190.08,{"$f":"VLOOKUP(A139,#REF!,22,FALSE)/15","v":{"$error":"#REF!"}},{"$error":"#REF!"}]
[149,null,null,"RUIZ GOMEZ ESTHELA","RUGE",null,null,"POLICIA DE LINEA",31,"TARJETA",15,null,0,0,{"$f":"5634.488/30","v":187.81626666666668},7.51,13.14,208.46626666666668,190.08,{"$f":"VLOOKUP(A140,#REF!,22,FALSE)/15","v":{"$error":"#REF!"}},{"$error":"#REF!"}]
[150,null,null,"DE LA TORRE TOPETE JOSE MANUEL","TOTM",null,null,"POLICIA DE LINEA",31,"SOBRE",15,null,0,0,187.81626666666668,7.51,{"$f":"TRUNC(O146*0.07,2)","v":13.14},{"$f":"O146+P146+Q146","v":208.46626666666668},190.08,{"$f":"VLOOKUP(A141,#REF!,22,FALSE)/15","v":{"$error":"#REF!"}},{"$error":"#REF!"}]
[151,null,null,"SERRATOS SANTIAGO JOAQUIN","SESJ720816",null,null,"POLICIA DE LINEA",31,"TARJETA",15,null,0,0,187.81626666666668,7.51,13.14,208.46626666666668,190.08,{"$f":"VLOOKUP(A142,#REF!,22,FALSE)/15","v":{"$error":"#REF!"}},{"$error":"#REF!"}]
[152,null,null,"PEREZ ALVA FRANCISCO JAVIER","PEAF",null,null,"POLICIA DE LINEA",31,"SOBRE",15,null,0,0,187.81626666666668,7.51,13.14,208.46626666666668,190.08,{"$f":"VLOOKUP(A143,#REF!,22,FALSE)/15","v":{"$error":"#REF!"}},{"$f":"T148-S148","v":{"$error":"#REF!"}}]
[154,null,null,"MENDEZ SANDOVAL JOSE ANTONIO","MESA",null,null,"POLICIA DE LINEA",31,"TARJETA",15,null,0,0,187.81626666666668,7.51,{"$f":"TRUNC(O149*0.07,2)","v":13.14},208.46626666666668,190.08,{"$f":"VLOOKUP(A144,#REF!,22,FALSE)/15","v":{"$error":"#REF!"}},{"$error":"#REF!"}]
[155,null,null,"CARRILLO MURILLO SALVADOR","CAMS",null,null,"POLICIA DE LINEA",31,"TARJETA",15,null,0,0,187.81626666666668,{"$f":"TRUNC($O150*0.04,2)","v":7.51},13.14,208.46626666666668,190.08,{"$f":"VLOOKUP(A145,#REF!,22,FALSE)/15","v":{"$error":"#REF!"}},{"$error":"#REF!"}]
[156,null,null,"PALACIOS ALCALA JOSE LUIS","PAAL",null,null,"POLICIA DE LINEA",31,"SOBRE",15,null,0,0,187.81626666666668,7.51,{"$f":"TRUNC(O151*0.07,2)","v":13.14},208.46626666666668,190.08,{"$f":"VLOOKUP(A146,#REF!,22,FALSE)/15","v":{"$error":"#REF!"}},{"$error":"#REF!"}]
[157,null,null,"GARCIA VALENCIA HECTOR MANUEL","GAVH731206",null,null,"POLICIA DE LINEA",31,"SOBRE",15,null,0,0,187.81626666666668,7.51,13.14,208.46626666666668,190.08,{"$f":"VLOOKUP(A147,#REF!,22,FALSE)/15","v":{"$error":"#REF!"}},{"$error":"#REF!"}]
[158,null,null,"HERNANDEZ ARIAS SEBASTIAN","HEAS",null,null,"POLICIA DE LINEA",31,"SOBRE",15,null,0,0,187.81626666666668,7.51,13.14,{"$f":"O153+P153+Q153","v":208.46626666666668},190.08,{"$f":"VLOOKUP(A150,#REF!,22,FALSE)/15","v":{"$error":"#REF!"}},{"$error":"#REF!"}]
[207,null,null,"FLORES VALENCIA ANTONIO","FOVA",null,null,"POLICIA DE LINEA",31,"SOBRE",13,null,0,0,187.81626666666668,7.51,13.14,{"$f":"O154+P154+Q154","v":208.46626666666668},190.08,{"$f":"VLOOKUP(A151,#REF!,22,FALSE)/15","v":{"$error":"#REF!"}},{"$error":"#REF!"}]
[208,null,null,"REGALADO AQUINO JUAN","REAJ",null,null,"POLICIA DE LINEA",31,"TARJETA",15,null,0,0,187.81626666666668,7.51,13.14,{"$f":"O155+P155+Q155","v":208.46626666666668},190.08,{"$f":"VLOOKUP(A152,#REF!,22,FALSE)/15","v":{"$error":"#REF!"}},{"$error":"#REF!"}]
[209,null,null,"SANDOVAL BAUTISTA EDGAR ULISES","SABE",null,null,"POLICIA DE LINEA",31,"TARJETA",15,null,0,0,187.81626666666668,7.51,13.14,{"$f":"O156+P156+Q156","v":208.46626666666668},190.08,{"$f":"VLOOKUP(#REF!,#REF!,22,FALSE)/15","v":{"$error":"#REF!"}},{"$error":"#REF!"}]
[210,null,null,"LUCAS MUÑOZ JOSE","LUMJ",null,null,"POLICIA DE LINEA",31,"SOBRE",15,null,0,0,187.81626666666668,7.51,13.14,{"$f":"O157+P157+Q157","v":208.46626666666668},190.08,{"$f":"VLOOKUP(#REF!,#REF!,22,FALSE)/15","v":{"$error":"#REF!"}},{"$error":"#REF!"}]
[159,null,null,"GARCIA SANTOS RICARDO","GASR",null,null,"POLICIA DE LINEA",31,"SOBRE",15,null,0,0,187.81626666666668,7.51,13.14,208.46626666666668,162,{"$f":"VLOOKUP(A148,#REF!,22,FALSE)/15","v":{"$error":"#REF!"}},{"$error":"#REF!"}]
[160,null,null,"GARCIA HERNANDEZ JAVIER","GAHJ",null,null,"DIRECTOR DE PROTECCION CIVIL",32,"TARJETA",15,null,0,0,{"$f":"7680.969/30","v":256.03230000000002},{"$f":"TRUNC($O159*0.04,2)","v":10.24},17.920000000000002,{"$f":"O159+P159+Q159","v":284.19230000000005},156.91,{"$f":"VLOOKUP(A150,#REF!,22,FALSE)/15","v":{"$error":"#REF!"}},{"$error":"#REF!"}]
[162,null,null,"SUAREZ GUEVARA ALEJANDRO","SUGA",null,null,"CHOFER PROTECCION CIVIL",32,"SOBRE",15,null,0,0,{"$f":"5165.085/30","v":172.1695},{"$f":"TRUNC($O160*0.04,2)","v":6.88},12.05,{"$f":"O160+P160+Q160","v":191.09950000000001},156.91,{"$f":"VLOOKUP(A151,#REF!,22,FALSE)/15","v":{"$error":"#REF!"}},{"$error":"#REF!"}]
[213,null,null,"LEDEZMA MILIAN EMERITA","LEME",null,null,"PARAMEDICO PROTECCION CIVIL",32,"SOBRE",15,null,0,0,{"$f":"4802.005/30","v":160.06683333333334},6.4,11.2,177.66683333333333,283.14360000000005,{"$f":"VLOOKUP(A149,#REF!,22,FALSE)/15","v":{"$error":"#REF!"}},{"$error":"#REF!"}]
[161,null,null,"HERNANDEZ RANGEL JOSE DE JESUS","ROMP450629",null,null,"CHOFER PROTECCION CIVIL",32,"SOBRE",15,null,0,0,{"$f":"5165.085/30","v":172.1695},6.88,12.05,191.09950000000001,153.52200000000002,{"$f":"VLOOKUP(A161,#REF!,22,FALSE)/15","v":{"$error":"#REF!"}},{"$error":"#REF!"}]

{"sheet":"2DA DE DICIEMBRE DEFINITIVA","index":2,"n_rows":422,"n_cols":38,"rows_kept":422,"cut":false,"hidden":false,"merged":[[3,1,3,36],[4,1,4,36],[275,33,275,36],[276,33,276,36],[2,0,2,36],[339,3,339,4],[339,15,339,23],[339,33,339,36],[275,3,275,4],[276,3,276,4],[276,15,276,23],[275,15,275,23],[338,3,338,4],[338,15,338,23],[338,33,338,36],[406,0,406,36],[407,1,407,36],[408,1,408,36],[365,3,365,4],[365,15,365,23],[365,33,365,36],[366,3,366,4],[366,15,366,23],[366,33,366,36],[399,3,399,4],[399,15,399,23],[399,33,399,36],[400,3,400,4],[400,15,400,23],[400,33,400,36],[420,3,420,4],[420,15,420,23],[420,33,420,36],[421,3,421,4],[421,15,421,23],[421,33,421,36]]}
[null,null,null,null,null,null,null,null,null,null,null,null,null,null,null,null,null,null,null,{"$f":"SUBTOTAL(9,T9:T334)","v":0},47765.063733333373,2076040.9400000009,83040.629999999903,145321.57999999981,0,228362.2100000004,2076040.9400000009,2304403.1499999985,null,{"$f":"SUBTOTAL(9,AD9:AD334)","v":6198},{"$f":"SUBTOTAL(9,AE9:AE334)","v":0},{"$f":"SUBTOTAL(9,AF9:AF308)","v":{"$error":"#N/A"}},{"$f":"SUBTOTAL(9,AG9:AG334)","v":141653.18999999989},{"$f":"SUBTOTAL(9,AH9:AH334)","v":14319.199999999995},{"$f":"SUBTOTAL(9,AI9:AI334)","v":2179871.1599999969},null,{"$f":"SUBTOTAL(9,AK9:AK308)","v":0}]
[null,null,null,null,null,null,null,null,null,null,null,null,null,null,null,null,null,null,null,null,null,{"$f":"TRUNC(U2*P2,2)","v":0},{"$f":"TRUNC(U2*P2*0.04,2)","v":0},{"$f":"TRUNC(U2*0.07*P2,2)","v":0},{"$f":"S2","v":0},{"$f":"TRUNC(X2+W2+(IF(Y2>519,519,Y2))+IF(R2=0,0,R2*U2),2)","v":0},{"$f":"TRUNC((IF(R2=0,P2*U2,(P2-R2)*U2))+(IF(Y2<519,0,Y2-519)),2)+T2","v":0},{"$f":"Z2+AA2","v":0},{"$f":"W2","v":0},null,null,{"$f":"IF(U2>0.01,(AA2-VLOOKUP(AA2,quincenal,1))*VLOOKUP(AA2,quincenal,3)+VLOOKUP(AA2,quincenal,2)-VLOOKUP(AA2,subquincenal,2),0)","v":0},{"$f":"TRUNC(IF(AF2>0.01,AF2,0),2)","v":0},{"$f":"TRUNC(IF(AF2<0.01,-AF2,0),2)","v":0},{"$f":"AB2-AD2-AE2-AG2+AH2-W2","v":0},{"$f":"PORTADA!$D$10","v":1}]
["H. AYUNTAMIENTO DE ETZATLAN, JALISCO"]
[null,"ADMINISTRACION 2015-2018"]
[null,"NOMINA CORRESPONDIENTE A LA SEGUNDA QUINCENA DE DICIEMBRE DE 2015"]
[null,null,null,"Etzatlán, Jalisco a 30 de Diciembre de 2015."]
[null,"CAPITULO","PARTIDA","NOMBRE","RFC","CURP","FECHA DE INGRESO","CARGO",null,null,null,null,null,null,null,"DIAS LABORADOS","PAGO CON","DIAS CON INCAPACIDAD","TIEMPO EXTRA","OTROS INGRESOS","SUELDO POR DIA PROPUESTO","SUELDO BASE ","FONDO DE AHORRO","APOYO EDUCACIONAL","TIEMPO EXTRA","SUB TOTAL EXENTO","SUB TOTAL GRAVADO","SUB TOTAL A PAGAR","FONDO DE AHORRO ","PRESTAMOS","OTRAS DEDUCCIONES","CALCULO","I.S.R.","SUBSIDIO AL EMPLEO","TOTAL A PAGAR","nomina","FIRMA DE RECIBIDO"]
[null,null,null,"SALA DE REGIDORES"]
[1,1,1,"GOMEZ ALVARADO MA MAGDALENA","FEGC520708","FEGC520708HJCRMR08","2012-10-01","REGIDOR",null,null,null,null,null,null,null,15,"TARJETA",null,0,0,{"$f":"8023/15","v":534.86666666666667},{"$f":"TRUNC(U9*P9,2)","v":8023},{"$f":"TRUNC(U9*P9*0.04,2)","v":320.92},{"$f":"TRUNC(U9*0.07*P9,2)","v":561.61},{"$f":"S9","v":0},{"$f":"TRUNC(X9+W9+(IF(Y9>519,519,Y9))+IF(R9=0,0,R9*U9),2)","v":882.53},{"$f":"TRUNC((IF(R9=0,P9*U9,(P9-R9)*U9))+(IF(Y9<519,0,Y9-519)),2)+T9","v":8023},{"$f":"Z9+AA9","v":8905.5300000000007},null,null,0,{"$f":"IF(U9>0.01,(AA9-VLOOKUP(AA9,quincenal,1))*VLOOKUP(AA9,quincenal,3)+VLOOKUP(AA9,quincenal,2)-VLOOKUP(AA9,subquincenal,2),0)","v":1166.5236240000002},{"$f":"TRUNC(IF(AF9>0.01,AF9,0),2)","v":1166.52},{"$f":"TRUNC(IF(AF9<0.01,-AF9,0),2)","v":0},{"$f":"AB9-AD9-AE9-AG9+AH9","v":7739.01},{"$f":"PORTADA!$D$10","v":1},null,1]
[null,null,null,"COVARRUBIAS VALENCIA JOSE",null,null,null,"REGIDOR",null,null,null,null,null,null,null,15,"TARJETA",null,0,0,{"$f":"8023/15","v":534.86666666666667},{"$f":"TRUNC(U10*P10,2)","v":8023},{"$f":"TRUNC(U10*P10*0.04,2)","v":320.92},{"$f":"TRUNC(U10*0.07*P10,2)","v":561.61},{"$f":"S10","v":0},{"$f":"TRUNC(X10+W10+(IF(Y10>519,519,Y10))+IF(R10=0,0,R10*U10),2)","v":882.53},{"$f":"TRUNC((IF(R10=0,P10*U10,(P10-R10)*U10))+(IF(Y10<519,0,Y10-519)),2)+T10","v":8023},{"$f":"Z10+AA10","v":8905.5300000000007},null,null,0,{"$f":"IF(U10>0.01,(AA10-VLOOKUP(AA10,quincenal,1))*VLOOKUP(AA10,quincenal,3)+VLOOKUP(AA10,quincenal,2)-VLOOKUP(AA10,subquincenal,2),0)","v":1166.5236240000002},{"$f":"TRUNC(IF(AF10>0.01,AF10,0),2)","v":1166.52},{"$f":"TRUNC(IF(AF10<0.01,-AF10,0),2)","v":0},{"$f":"AB10-AD10-AE10-AG10+AH10","v":7739.01},null,null,2]
[3,1,1,"BARAJAS DE LA TORRE ABIGAIL",null,null,"2012-10-01","REGIDOR",null,null,null,null,null,null,null,15,"TARJETA",null,0,0,534.86666666666667,{"$f":"TRUNC(U11*P11,2)","v":8023},{"$f":"TRUNC(U11*P11*0.04,2)","v":320.92},{"$f":"TRUNC(U11*0.07*P11,2)","v":561.61},{"$f":"S11","v":0},{"$f":"TRUNC(X11+W11+(IF(Y11>519,519,Y11))+IF(R11=0,0,R11*U11),2)","v":882.53},{"$f":"TRUNC((IF(R11=0,P11*U11,(P11-R11)*U11))+(IF(Y11<519,0,Y11-519)),2)+T11","v":8023},{"$f":"Z11+AA11","v":8905.5300000000007},null,null,0,{"$f":"IF(U11>0.01,(AA11-VLOOKUP(AA11,quincenal,1))*VLOOKUP(AA11,quincenal,3)+VLOOKUP(AA11,quincenal,2)-VLOOKUP(AA11,subquincenal,2),0)","v":1166.5236240000002},1166.52,{"$f":"TRUNC(IF(AF11<0.01,-AF11,0),2)","v":0},{"$f":"AB11-AD11-AE11-AG11+AH11","v":7739.01},{"$f":"PORTADA!$D$10","v":1},null,3]
[4,1,1,"MELCHOR NAVARRO OBED",null,null,"2012-10-01","REGIDOR",null,null,null,null,null,null,null,15,"TARJETA",null,0,0,534.86666666666667,8023,320.92,561.61,0,882.53,8023,8905.5300000000007,null,null,0,1166.5236240000002,1166.52,0,7739.01,{"$f":"PORTADA!$D$10","v":1},null,4]
[5,1,1,"GOMEZ RICO LUZ ELENA",null,null,"2012-10-01","REGIDOR",null,null,null,null,null,null,null,15,"TARJETA",null,0,0,534.86666666666667,8023,320.92,561.61,0,882.53,8023,8905.5300000000007,null,null,0,1166.5236240000002,1166.52,0,7739.01,{"$f":"PORTADA!$D$10","v":1},null,5]
[6,1,1,"GUTIERREZ GARCIA GERARDO",null,null,"2012-10-01","REGIDOR",null,null,null,null,null,null,null,15,"TARJETA",null,0,0,534.86666666666667,8023,320.92,561.61,0,882.53,8023,8905.5300000000007,null,null,0,1166.5236240000002,1166.52,0,7739.01,{"$f":"PORTADA!$D$10","v":1},null,6]
[7,1,1,"ROBLEDO ORTIZ EDGAR ANTONIO",null,null,"2012-10-01","REGIDOR",null,null,null,null,null,null,null,15,"TARJETA",null,0,0,534.86666666666667,8023,320.92,561.61,0,882.53,8023,8905.5300000000007,null,null,null,1166.5236240000002,1166.52,0,7739.01,{"$f":"PORTADA!$D$10","v":1},null,7]
[8,1,1,"SIERRA ROMERO DOLORES EDITH",null,null,"2012-10-01","REGIDOR",null,null,null,null,null,null,null,15,"TARJETA",null,0,0,534.86666666666667,8023,320.92,561.61,0,882.53,8023,8905.5300000000007,null,null,null,1166.5236240000002,1166.52,0,7739.01,{"$f":"PORTADA!$D$10","v":1},null,8]
[9,1,1,"VELEZ FREGOSO LUIS MANUEL",null,null,"2012-10-01","REGIDOR",null,null,null,null,null,null,null,15,"TARJETA",null,0,0,534.86666666666667,8023,320.92,561.61,0,882.53,8023,8905.5300000000007,null,0,null,1166.5236240000002,1166.52,0,7739.01,{"$f":"PORTADA!$D$10","v":1},null,9]
[null,1,1,null,"BAGV780611","BAGV780611MJCRTR04",null,"SECRETARIA SALA  DE REGIDORES",null,null,null,null,null,null,null,0,"TARJETA",null,0,0,172.16,{"$f":"TRUNC(U18*P18,2)","v":0},0,0,0,0,0,0,null,null,0,null,0,0,0,{"$f":"PORTADA!$D$10","v":1},null,2658.44]
[null,null,null,"SALA DE REGIDORES",null,null,null,null,null,null,null,null,null,null,null,null,null,null,null,null,null,{"$f":"SUM(V9:V18)","v":72207},{"$f":"SUM(W9:W18)","v":2888.28},5054.49,0,7942.7699999999986,72207,80149.77,0,0,0,10498.712616000001,10498.680000000002,0,69651.090000000011,9,0]
[]
[null,null,null,"PRESIDENCIA MUNICIPAL"]
[null,null,null,"RON RAMOS EDUARDO",null,null,null,"PRESIDENTE MUNICIPAL",null,null,null,null,null,null,null,15,"TARJETA",null,0,0,{"$f":"14227/15","v":948.4666666666667},{"$f":"TRUNC(U22*P22,2)","v":14227},{"$f":"TRUNC(U22*P22*0.04,2)","v":569.08000000000004},{"$f":"TRUNC(U22*0.07*P22,2)","v":995.89},{"$f":"S22","v":0},{"$f":"TRUNC(X22+W22+(IF(Y22>519,519,Y22))+IF(R22=0,0,R22*U22),2)","v":1564.97},{"$f":"TRUNC((IF(R22=0,P22*U22,(P22-R22)*U22))+(IF(Y22<519,0,Y22-519)),2)+T22","v":14227},{"$f":"Z22+AA22","v":15791.97},null,null,0,{"$f":"IF(U22>0.01,(AA22-VLOOKUP(AA22,quincenal,1))*VLOOKUP(AA22,quincenal,3)+VLOOKUP(AA22,quincenal,2)-VLOOKUP(AA22,subquincenal,2),0)","v":2577.5026080000002},{"$f":"TRUNC(IF(AF22>0.01,AF22,0),2)","v":2577.5},{"$f":"TRUNC(IF(AF22<0.01,-AF22,0),2)","v":0},{"$f":"AB22-AD22-AE22-AG22+AH22","v":13214.47},null,null,10]
[null,null,null,"BAROCIO FIGUEROA ANTONIO","FEPM871023ND1","FEPM871023MJCRRR07",null,"SECRETARIO PARTICULAR",null,null,null,null,null,null,null,15,"TARJETA",null,0,0,405.53410000000002,{"$f":"TRUNC(U23*P23,2)","v":6083.01},{"$f":"TRUNC(U23*P23*0.04,2)","v":243.32},{"$f":"TRUNC(U23*0.07*P23,2)","v":425.81},{"$f":"S23","v":0},{"$f":"TRUNC(X23+W23+(IF(Y23>519,519,Y23))+IF(R23=0,0,R23*U23),2)","v":669.13},{"$f":"TRUNC((IF(R23=0,P23*U23,(P23-R23)*U23))+(IF(Y23<519,0,Y23-519)),2)+T23","v":6083.01},{"$f":"Z23+AA23","v":6752.14},null,null,0,{"$f":"IF(U23>0.01,(AA23-VLOOKUP(AA23,quincenal,1))*VLOOKUP(AA23,quincenal,3)+VLOOKUP(AA23,quincenal,2)-VLOOKUP(AA23,subquincenal,2),0)","v":752.1417600000002},{"$f":"TRUNC(IF(AF23>0.01,AF23,0),2)","v":752.14},{"$f":"TRUNC(IF(AF23<0.01,-AF23,0),2)","v":0},{"$f":"AB23-AD23-AE23-AG23+AH23","v":6000},null,null,11]
[null,null,null,"BECERRA GONZALEZ MARISOL","FEPM871023ND1","FEPM871023MJCRRR07",null,"SECRETARIA",null,null,null,null,null,null,null,15,"TARJETA",null,0,0,260.28699999999998,{"$f":"TRUNC(U24*P24,2)","v":3904.3},{"$f":"TRUNC(U24*P24*0.04,2)","v":156.16999999999999},{"$f":"TRUNC(U24*0.07*P24,2)","v":273.3},{"$f":"S24","v":0},{"$f":"TRUNC(X24+W24+(IF(Y24>519,519,Y24))+IF(R24=0,0,R24*U24),2)","v":429.47},{"$f":"TRUNC((IF(R24=0,P24*U24,(P24-R24)*U24))+(IF(Y24<519,0,Y24-519)),2)+T24","v":3904.3},{"$f":"Z24+AA24","v":4333.7700000000004},null,null,0,{"$f":"IF(U24>0.01,(AA24-VLOOKUP(AA24,quincenal,1))*VLOOKUP(AA24,quincenal,3)+VLOOKUP(AA24,quincenal,2)-VLOOKUP(AA24,subquincenal,2),0)","v":333.77639999999997},{"$f":"TRUNC(IF(AF24>0.01,AF24,0),2)","v":333.77},{"$f":"TRUNC(IF(AF24<0.01,-AF24,0),2)","v":0},{"$f":"AB24-AD24-AE24-AG24+AH24","v":4000.0000000000005},{"$f":"PORTADA!$D$10","v":1},null,12]
[11,1,2,null,"FEPM871023ND1","FEPM871023MJCRRR07",null,null,null,null,null,null,null,null,null,0,"TARJETA",null,0,0,{"$f":"3349/15","v":223.26666666666668},{"$f":"TRUNC(U25*P25,2)","v":0},{"$f":"TRUNC(U25*P25*0.04,2)","v":0},{"$f":"TRUNC(U25*0.07*P25,2)","v":0},{"$f":"S25","v":0},{"$f":"TRUNC(X25+W25+(IF(Y25>519,519,Y25))+IF(R25=0,0,R25*U25),2)","v":0},{"$f":"TRUNC((IF(R25=0,P25*U25,(P25-R25)*U25))+(IF(Y25<519,0,Y25-519)),2)+T25","v":0},{"$f":"Z25+AA25","v":0},null,null,0,{"$f":"IF(U25>0.01,(AA25-VLOOKUP(AA25,quincenal,1))*VLOOKUP(AA25,quincenal,3)+VLOOKUP(AA25,quincenal,2)-VLOOKUP(AA25,subquincenal,2),0)","v":{"$error":"#N/A"}},null,null,{"$f":"AB25-AD25-AE25-AG25+AH25","v":0},{"$f":"[2]PORTADA!$D$10","v":1},null,13]
[null,null,null,"PRESIDENCIA MUNICIPAL",null,null,null,null,null,null,null,null,null,null,null,null,null,null,null,null,null,{"$f":"SUM(V22:V25)","v":24214.31},{"$f":"SUM(W22:W25)","v":968.57},1695,0,2663.5699999999997,24214.31,26877.88,0,0,0,{"$error":"#N/A"},3663.41,0,23214.47]
[]
[null,null,null,"SECRETARIA GENERAL Y SINDICATURA"]
[13,1,5,"FREGOSO BARBOZA MARTIN DANIEL",null,null,null,"SINDICO MUNICIPAL",null,null,null,null,null,null,null,15,"TARJETA",null,0,0,{"$f":"10307/15","v":687.13333333333333},{"$f":"TRUNC(U29*P29,2)","v":10307},{"$f":"TRUNC(U29*P29*0.04,2)","v":412.28},{"$f":"TRUNC(U29*0.07*P29,2)","v":721.49},{"$f":"S29","v":0},{"$f":"TRUNC(X29+W29+(IF(Y29>519,519,Y29))+IF(R29=0,0,R29*U29),2)","v":1133.77},{"$f":"TRUNC((IF(R29=0,P29*U29,(P29-R29)*U29))+(IF(Y29<519,0,Y29-519)),2)+T29","v":10307},{"$f":"Z29+AA29","v":11440.77},null,0,0,{"$f":"IF(U29>0.01,(AA29-VLOOKUP(AA29,quincenal,1))*VLOOKUP(AA29,quincenal,3)+VLOOKUP(AA29,quincenal,2)-VLOOKUP(AA29,subquincenal,2),0)","v":1655.5186080000003},{"$f":"TRUNC(IF(AF29>0.01,AF29,0),2)","v":1655.51},{"$f":"TRUNC(IF(AF29<0.01,-AF29,0),2)","v":0},{"$f":"AB29-AD29-AE29-AG29+AH29","v":9785.26},{"$f":"PORTADA!$D$10","v":1},null,14]
[14,1,1,"MEDINA FLORES EVERARDO",null,null,"2012-10-01","SECRETARIO GENERAL",null,null,null,null,null,null,null,15,"TARJETA",null,0,0,617.49400000000003,{"$f":"TRUNC(U30*P30,2)","v":9262.41},{"$f":"TRUNC(U30*P30*0.04,2)","v":370.49},{"$f":"TRUNC(U30*0.07*P30,2)","v":648.36},{"$f":"S30","v":0},{"$f":"TRUNC(X30+W30+(IF(Y30>519,519,Y30))+IF(R30=0,0,R30*U30),2)","v":1018.85},{"$f":"TRUNC((IF(R30=0,P30*U30,(P30-R30)*U30))+(IF(Y30<519,0,Y30-519)),2)+T30","v":9262.41},{"$f":"Z30+AA30","v":10281.26},null,null,0,{"$f":"IF(U30>0.01,(AA30-VLOOKUP(AA30,quincenal,1))*VLOOKUP(AA30,quincenal,3)+VLOOKUP(AA30,quincenal,2)-VLOOKUP(AA30,subquincenal,2),0)","v":1431.2616},{"$f":"TRUNC(IF(AF30>0.01,AF30,0),2)","v":1431.26},{"$f":"TRUNC(IF(AF30<0.01,-AF30,0),2)","v":0},{"$f":"AB30-AD30-AE30-AG30+AH30","v":8850},null,null,15]
[15,null,null,"GUTIERREZ SIORDIA LORENA",null,null,null,"SECRETARIA DE SECRETARIA GENERAL",null,null,null,null,null,null,null,15,"TARJETA",null,0,0,183.15199999999999,{"$f":"TRUNC(U31*P31,2)","v":2747.28},{"$f":"TRUNC(U31*P31*0.04,2)","v":109.89},{"$f":"TRUNC(U31*0.07*P31,2)","v":192.3},{"$f":"S31","v":0},{"$f":"TRUNC(X31+W31+(IF(Y31>519,519,Y31))+IF(R31=0,0,R31*U31),2)","v":302.19},{"$f":"TRUNC((IF(R31=0,P31*U31,(P31-R31)*U31))+(IF(Y31<519,0,Y31-519)),2)+T31","v":2747.28},{"$f":"Z31+AA31","v":3049.4700000000003},null,null,0,{"$f":"IF(U31>0.01,(AA31-VLOOKUP(AA31,quincenal,1))*VLOOKUP(AA31,quincenal,3)+VLOOKUP(AA31,quincenal,2)-VLOOKUP(AA31,subquincenal,2),0)","v":49.470976000000007},{"$f":"TRUNC(IF(AF31>0.01,AF31,0),2)","v":49.47},{"$f":"TRUNC(IF(AF31<0.01,-AF31,0),2)","v":0},{"$f":"AB31-AD31-AE31-AG31+AH31","v":3000.0000000000005},null,null,16]
[16,null,null,"CARDENAS GUEVARA JORGE RAFAEL",null,null,null,"AUXILIAR ADMINISTRATIVO",null,null,null,null,null,null,null,15,"TARJETA",null,0,0,183.15199999999999,{"$f":"TRUNC(U32*P32,2)","v":2747.28},{"$f":"TRUNC(U32*P32*0.04,2)","v":109.89},{"$f":"TRUNC(U32*0.07*P32,2)","v":192.3},{"$f":"S32","v":0},{"$f":"TRUNC(X32+W32+(IF(Y32>519,519,Y32))+IF(R32=0,0,R32*U32),2)","v":302.19},{"$f":"TRUNC((IF(R32=0,P32*U32,(P32-R32)*U32))+(IF(Y32<519,0,Y32-519)),2)+T32","v":2747.28},{"$f":"Z32+AA32","v":3049.4700000000003},null,null,0,{"$f":"IF(U32>0.01,(AA32-VLOOKUP(AA32,quincenal,1))*VLOOKUP(AA32,quincenal,3)+VLOOKUP(AA32,quincenal,2)-VLOOKUP(AA32,subquincenal,2),0)","v":49.470976000000007},{"$f":"TRUNC(IF(AF32>0.01,AF32,0),2)","v":49.47},{"$f":"TRUNC(IF(AF32<0.01,-AF32,0),2)","v":0},{"$f":"AB32-AD32-AE32-AG32+AH32","v":3000.0000000000005},{"$f":"PORTADA!$D$10","v":1},null,17]
[null,null,null,"SECRETARIA GENERAL Y SINDICATURA",null,null,null,null,null,null,null,null,null,null,null,null,null,null,null,null,null,{"$f":"SUM(V29:V32)","v":25063.969999999998},1002.55,1754.4499999999998,0,2757,25063.969999999998,27820.97,0,0,0,{"$f":"SUM(AF29:AF32)","v":3185.7221600000003},3185.7099999999996,0,24635.260000000002]
[]
[null,null,null,"OFICIALIA MAYOR ADMINISTRATIVA"]
[null,null,null,"LEDESMA MORAN JOSE FEDERICO",null,null,null,"OFICIAL MAYOR",null,null,null,null,null,null,null,15,"TARJETA",null,0,0,491.06200000000001,{"$f":"TRUNC(U36*P36,2)","v":7365.93},{"$f":"TRUNC(U36*P36*0.04,2)","v":294.63},{"$f":"TRUNC(U36*0.07*P36,2)","v":515.61},{"$f":"S36","v":0},{"$f":"TRUNC(X36+W36+(IF(Y36>519,519,Y36))+IF(R36=0,0,R36*U36),2)","v":810.24},{"$f":"TRUNC((IF(R36=0,P36*U36,(P36-R36)*U36))+(IF(Y36<519,0,Y36-519)),2)+T36","v":7365.93},{"$f":"Z36+AA36","v":8176.17},null,null,0,{"$f":"IF(U36>0.01,(AA36-VLOOKUP(AA36,quincenal,1))*VLOOKUP(AA36,quincenal,3)+VLOOKUP(AA36,quincenal,2)-VLOOKUP(AA36,subquincenal,2),0)","v":1026.1734720000002},{"$f":"TRUNC(IF(AF36>0.01,AF36,0),2)","v":1026.17},{"$f":"TRUNC(IF(AF36<0.01,-AF36,0),2)","v":0},{"$f":"AB36-AD36-AE36-AG36+AH36","v":7150},null,null,18]
[null,null,null,"VENTURA PEREZ HERLINDA AURORA","VEPH840722PR4","VEPH840722MJCNRR04",null,"SECRETARIA",null,null,null,null,null,null,null,15,"TARJETA",null,0,0,{"$f":"3056/15","v":203.73333333333332},{"$f":"TRUNC(U37*P37,2)","v":3056},{"$f":"TRUNC(U37*P37*0.04,2)","v":122.24},{"$f":"TRUNC(U37*0.07*P37,2)","v":213.92},0,{"$f":"TRUNC(X37+W37+(IF(Y37>519,519,Y37))+IF(R37=0,0,R37*U37),2)","v":336.16},{"$f":"TRUNC((IF(R37=0,P37*U37,(P37-R37)*U37))+(IF(Y37<519,0,Y37-519)),2)+T37","v":3056},3392.16,null,0,0,{"$f":"IF(U37>0.01,(AA37-VLOOKUP(AA37,quincenal,1))*VLOOKUP(AA37,quincenal,3)+VLOOKUP(AA37,quincenal,2)-VLOOKUP(AA37,subquincenal,2),0)","v":83.059711999999962},83.05,0,3309.1099999999997,{"$f":"[2]PORTADA!$D$10","v":1},null,19]
[20,null,null,"BARAJAS DE LA TORRE ANA MARIA","GOTG850723",null,null,"ATENCION CIUDADANA",null,null,null,null,null,null,null,15,"TARJETA",null,0,0,113.977,{"$f":"TRUNC(U38*P38,2)","v":1709.65},{"$f":"TRUNC(U38*P38*0.04,2)","v":68.38},{"$f":"TRUNC(U38*0.07*P38,2)","v":119.67},{"$f":"S38","v":0},{"$f":"TRUNC(X38+W38+(IF(Y38>519,519,Y38))+IF(R38=0,0,R38*U38),2)","v":188.05},{"$f":"TRUNC((IF(R38=0,P38*U38,(P38-R38)*U38))+(IF(Y38<519,0,Y38-519)),2)+T38","v":1709.65},{"$f":"Z38+AA38","v":1897.7},null,null,0,{"$f":"IF(U38>0.01,(AA38-VLOOKUP(AA38,quincenal,1))*VLOOKUP(AA38,quincenal,3)+VLOOKUP(AA38,quincenal,2)-VLOOKUP(AA38,subquincenal,2),0)","v":-102.30023999999997},{"$f":"TRUNC(IF(AF38>0.01,AF38,0),2)","v":0},{"$f":"TRUNC(IF(AF38<0.01,-AF38,0),2)","v":102.3},{"$f":"AB38-AD38-AE38-AG38+AH38","v":2000},{"$f":"PORTADA!$D$10","v":1},null,20]
[22,null,null,"HERNANDEZ SANCHEZ ROSA ELIZABETH",null,null,null,"CONSERJE",null,null,null,null,null,null,null,15,"TARJETA",null,0,0,113.977,{"$f":"TRUNC(U39*P39,2)","v":1709.65},{"$f":"TRUNC(U39*P39*0.04,2)","v":68.38},{"$f":"TRUNC(U39*0.07*P39,2)","v":119.67},{"$f":"S39","v":0},{"$f":"TRUNC(X39+W39+(IF(Y39>519,519,Y39))+IF(R39=0,0,R39*U39),2)","v":188.05},{"$f":"TRUNC((IF(R39=0,P39*U39,(P39-R39)*U39))+(IF(Y39<519,0,Y39-519)),2)+T39","v":1709.65},{"$f":"Z39+AA39","v":1897.7},null,null,0,{"$f":"IF(U39>0.01,(AA39-VLOOKUP(AA39,quincenal,1))*VLOOKUP(AA39,quincenal,3)+VLOOKUP(AA39,quincenal,2)-VLOOKUP(AA39,subquincenal,2),0)","v":-102.30023999999997},{"$f":"TRUNC(IF(AF39>0.01,AF39,0),2)","v":0},{"$f":"TRUNC(IF(AF39<0.01,-AF39,0),2)","v":102.3},{"$f":"AB39-AD39-AE39-AG39+AH39","v":2000},{"$f":"PORTADA!$D$10","v":1},null,21]
[null,null,null,"OFICIALIA MAYOR ADMINISTRATIVA",null,null,null,null,null,null,null,null,null,null,null,null,null,null,null,null,null,{"$f":"SUM(V36:V39)","v":13841.23},553.63,968.86999999999989,0,1522.5,13841.23,15363.730000000001,0,0,0,904.6327040000001,1109.22,204.6,14459.11]
[]
[null,null,null,"DEPARTAMENTO JURIDICO"]
[23,1,7,"FREGOSO MEDRANO CARLOS ALEJANDRO ",null,null,null,"DIRECTOR JURIDICO",null,null,null,null,null,null,null,15,"TARJETA",null,0,0,665.83500000000004,{"$f":"TRUNC(U43*P43,2)","v":9987.52},{"$f":"TRUNC(U43*P43*0.04,2)","v":399.5},{"$f":"TRUNC(U43*0.07*P43,2)","v":699.12},{"$f":"S43","v":0},{"$f":"TRUNC(X43+W43+(IF(Y43>519,519,Y43))+IF(R43=0,0,R43*U43),2)","v":1098.6199999999999},{"$f":"TRUNC((IF(R43=0,P43*U43,(P43-R43)*U43))+(IF(Y43<519,0,Y43-519)),2)+T43","v":9987.52},{"$f":"Z43+AA43","v":11086.14},null,500,0,{"$f":"IF(U43>0.01,(AA43-VLOOKUP(AA43,quincenal,1))*VLOOKUP(AA43,quincenal,3)+VLOOKUP(AA43,quincenal,2)-VLOOKUP(AA43,subquincenal,2),0)","v":1586.1450960000002},{"$f":"TRUNC(IF(AF43>0.01,AF43,0),2)","v":1586.14},{"$f":"TRUNC(IF(AF43<0.01,-AF43,0),2)","v":0},{"$f":"AB43-AD43-AE43-AG43+AH43","v":9000},{"$f":"[2]PORTADA!$D$10","v":1},null,22]
[24,null,null,"REYNAGA LOPEZ NAHSDHELLY ALEJANDRA ",null,null,null,"AUXILIAR JURIDICO ",null,null,null,null,null,null,null,15,"TARJETA",null,0,0,{"$f":"3896/15","v":259.73333333333335},{"$f":"TRUNC(U44*P44,2)","v":3896},{"$f":"TRUNC(U44*P44*0.04,2)","v":155.84},{"$f":"TRUNC(U44*0.07*P44,2)","v":272.72000000000003},{"$f":"S44","v":0},{"$f":"TRUNC(X44+W44+(IF(Y44>519,519,Y44))+IF(R44=0,0,R44*U44),2)","v":428.56},{"$f":"TRUNC((IF(R44=0,P44*U44,(P44-R44)*U44))+(IF(Y44<519,0,Y44-519)),2)+T44","v":3896},{"$f":"Z44+AA44","v":4324.5600000000004},null,null,0,{"$f":"IF(U44>0.01,(AA44-VLOOKUP(AA44,quincenal,1))*VLOOKUP(AA44,quincenal,3)+VLOOKUP(AA44,quincenal,2)-VLOOKUP(AA44,subquincenal,2),0)","v":332.44839999999999},{"$f":"TRUNC(IF(AF44>0.01,AF44,0),2)","v":332.44},{"$f":"TRUNC(IF(AF44<0.01,-AF44,0),2)","v":0},{"$f":"AB44-AD44-AE44-AG44+AH44","v":3992.1200000000003},null,null,23]
[null,null,null,"CARRILLO MUÑOZ CESAR OMAR","CARH770717","CARH770717HJCRDG01",null,"JUEZ MUNICIPAL",null,null,null,null,null,null,null,15,"TARJETA",null,0,0,{"$f":"4612/15","v":307.46666666666664},{"$f":"TRUNC(U45*P45,2)","v":4612},{"$f":"TRUNC(U45*P45*0.04,2)","v":184.48},{"$f":"TRUNC(U45*0.07*P45,2)","v":322.83999999999997},{"$f":"S45","v":0},{"$f":"TRUNC(X45+W45+(IF(Y45>519,519,Y45))+IF(R45=0,0,R45*U45),2)","v":507.32},{"$f":"TRUNC((IF(R45=0,P45*U45,(P45-R45)*U45))+(IF(Y45<519,0,Y45-519)),2)+T45","v":4612},{"$f":"Z45+AA45","v":5119.32},null,null,0,{"$f":"IF(U45>0.01,(AA45-VLOOKUP(AA45,quincenal,1))*VLOOKUP(AA45,quincenal,3)+VLOOKUP(AA45,quincenal,2)-VLOOKUP(AA45,subquincenal,2),0)","v":453.97588800000005},{"$f":"TRUNC(IF(AF45>0.01,AF45,0),2)","v":453.97},{"$f":"TRUNC(IF(AF45<0.01,-AF45,0),2)","v":0},{"$f":"AB45-AD45-AE45-AG45+AH45","v":4665.3499999999995},null,null,24]
[null,null,null,"DEPARTAMENTO JURIDICO",null,null,null,null,null,null,null,null,null,null,null,null,null,null,null,null,null,{"$f":"SUM(V43:V45)","v":18495.52},739.82,1294.68,0,2034.4999999999998,18495.52,20530.02,0,500,0,2372.5693840000004,2372.5500000000002,0,17657.47]
[]
[null,null,null,"UNIDAD DE TRANSPARENCIA"]
[null,null,null,"ALDAZ VELEZ LORENZO MIGUEL","HEEG670312","HEER670312MJCRNS06","2007-01-08","DIRECTOR DE TRANSPARENCIA",null,null,null,null,null,null,null,15,"TARJETA",null,0,0,405.53410000000002,{"$f":"TRUNC(U49*P49,2)","v":6083.01},{"$f":"TRUNC(U49*P49*0.04,2)","v":243.32},{"$f":"TRUNC(U49*0.07*P49,2)","v":425.81},{"$f":"S49","v":0},{"$f":"TRUNC(X49+W49+(IF(Y49>519,519,Y49))+IF(R49=0,0,R49*U49),2)","v":669.13},{"$f":"TRUNC((IF(R49=0,P49*U49,(P49-R49)*U49))+(IF(Y49<519,0,Y49-519)),2)+T49","v":6083.01},{"$f":"Z49+AA49","v":6752.14},null,null,0,{"$f":"IF(U49>0.01,(AA49-VLOOKUP(AA49,quincenal,1))*VLOOKUP(AA49,quincenal,3)+VLOOKUP(AA49,quincenal,2)-VLOOKUP(AA49,subquincenal,2),0)","v":752.1417600000002},{"$f":"TRUNC(IF(AF49>0.01,AF49,0),2)","v":752.14},{"$f":"TRUNC(IF(AF49<0.01,-AF49,0),2)","v":0},{"$f":"AB49-AD49-AE49-AG49+AH49","v":6000},{"$f":"PORTADA!$D$10","v":1},null,25]
[null,null,null,"MONTERO REYES HECTOR CARLOS","PAGM780607","PAGM780607MJCLRR03",null,"AUXILIAR DE TRANSPARENCIA",null,null,null,null,null,null,null,15,"TARJETA",null,0,0,217.7938,{"$f":"TRUNC(U50*P50,2)","v":3266.9},{"$f":"TRUNC(U50*P50*0.04,2)","v":130.66999999999999},{"$f":"TRUNC(U50*0.07*P50,2)","v":228.68},{"$f":"S50","v":0},{"$f":"TRUNC(X50+W50+(IF(Y50>519,519,Y50))+IF(R50=0,0,R50*U50),2)","v":359.35},{"$f":"TRUNC((IF(R50=0,P50*U50,(P50-R50)*U50))+(IF(Y50<519,0,Y50-519)),2)+T50","v":3266.9},{"$f":"Z50+AA50","v":3626.25},null,null,0,{"$f":"IF(U50>0.01,(AA50-VLOOKUP(AA50,quincenal,1))*VLOOKUP(AA50,quincenal,3)+VLOOKUP(AA50,quincenal,2)-VLOOKUP(AA50,subquincenal,2),0)","v":126.25563199999996},{"$f":"TRUNC(IF(AF50>0.01,AF50,0),2)","v":126.25},{"$f":"TRUNC(IF(AF50<0.01,-AF50,0),2)","v":0},{"$f":"AB50-AD50-AE50-AG50+AH50","v":3500},{"$f":"PORTADA!$D$10","v":1},null,26]
[null,null,null,"UNIDAD DE TRANSPARENCIA",null,null,null,null,null,null,null,null,null,null,null,null,null,null,null,null,null,{"$f":"SUM(V49:V50)","v":9349.91},{"$f":"SUM(W49:W50)","v":373.99},654.49,0,1028.48,9349.91,10378.39,0,0,0,878.3973920000002,878.39,0,9500]
[]
[null,null,null,"DIRECCION DE REGISTRO CIVIL"]
[null,null,null,"NAVARRO HERNANDEZ ALMA SAGRARIO","HEEG670312","HEER670312MJCRNS06","2007-01-08","JEFE OFICIAL DE REGISTRO CIVIL",null,null,null,null,null,null,null,15,"TARJETA",null,0,0,183.15199999999999,{"$f":"TRUNC(U54*P54,2)","v":2747.28},{"$f":"TRUNC(U54*P54*0.04,2)","v":109.89},{"$f":"TRUNC(U54*0.07*P54,2)","v":192.3},{"$f":"S54","v":0},{"$f":"TRUNC(X54+W54+(IF(Y54>519,519,Y54))+IF(R54=0,0,R54*U54),2)","v":302.19},{"$f":"TRUNC((IF(R54=0,P54*U54,(P54-R54)*U54))+(IF(Y54<519,0,Y54-519)),2)+T54","v":2747.28},{"$f":"Z54+AA54","v":3049.4700000000003},null,null,0,{"$f":"IF(U54>0.01,(AA54-VLOOKUP(AA54,quincenal,1))*VLOOKUP(AA54,quincenal,3)+VLOOKUP(AA54,quincenal,2)-VLOOKUP(AA54,subquincenal,2),0)","v":49.470976000000007},{"$f":"TRUNC(IF(AF54>0.01,AF54,0),2)","v":49.47},{"$f":"TRUNC(IF(AF54<0.01,-AF54,0),2)","v":0},{"$f":"AB54-AD54-AE54-AG54+AH54","v":3000.0000000000005},{"$f":"[2]PORTADA!$D$10","v":1},null,27]
[null,null,null,"PLASCENCIA GARCIA MIREYA ESMERALDA","PAGM780607","PAGM780607MJCLRR03",null,"OFICIAL AUX. DE REGISTRO CIVIL",null,null,null,null,null,null,null,15,"TARJETA",null,0,0,{"$f":"2492/15","v":166.13333333333333},{"$f":"TRUNC(U55*P55,2)","v":2492},{"$f":"TRUNC(U55*P55*0.04,2)","v":99.68},{"$f":"TRUNC(U55*0.07*P55,2)","v":174.44},{"$f":"S55","v":0},{"$f":"TRUNC(X55+W55+(IF(Y55>519,519,Y55))+IF(R55=0,0,R55*U55),2)","v":274.12},{"$f":"TRUNC((IF(R55=0,P55*U55,(P55-R55)*U55))+(IF(Y55<519,0,Y55-519)),2)+T55","v":2492},{"$f":"Z55+AA55","v":2766.12},null,null,0,{"$f":"IF(U55>0.01,(AA55-VLOOKUP(AA55,quincenal,1))*VLOOKUP(AA55,quincenal,3)+VLOOKUP(AA55,quincenal,2)-VLOOKUP(AA55,subquincenal,2),0)","v":6.6965119999999843},{"$f":"TRUNC(IF(AF55>0.01,AF55,0),2)","v":6.69},{"$f":"TRUNC(IF(AF55<0.01,-AF55,0),2)","v":0},{"$f":"AB55-AD55-AE55-AG55+AH55","v":2759.43},{"$f":"[2]PORTADA!$D$10","v":1},null,28]
[null,null,null,"GONZALEZ MARTINEZ KARINA",null,null,null,"SECRETARIA EN REGISTRO CIVIL",null,null,null,null,null,null,null,15,"TARJETA",null,0,0,147.9015,{"$f":"TRUNC(U56*P56,2)","v":2218.52},{"$f":"TRUNC(U56*P56*0.04,2)","v":88.74},{"$f":"TRUNC(U56*0.07*P56,2)","v":155.29},{"$f":"S56","v":0},{"$f":"TRUNC(X56+W56+(IF(Y56>519,519,Y56))+IF(R56=0,0,R56*U56),2)","v":244.03},{"$f":"TRUNC((IF(R56=0,P56*U56,(P56-R56)*U56))+(IF(Y56<519,0,Y56-519)),2)+T56","v":2218.52},{"$f":"Z56+AA56","v":2462.5500000000002},null,null,null,{"$f":"IF(U56>0.01,(AA56-VLOOKUP(AA56,quincenal,1))*VLOOKUP(AA56,quincenal,3)+VLOOKUP(AA56,quincenal,2)-VLOOKUP(AA56,subquincenal,2),0)","v":-37.458112000000028},{"$f":"TRUNC(IF(AF56>0.01,AF56,0),2)","v":0},{"$f":"TRUNC(IF(AF56<0.01,-AF56,0),2)","v":37.450000000000003},{"$f":"AB56-AD56-AE56-AG56+AH56","v":2500},null,null,29]
[28,1,14,null,null,null,null,null,null,null,null,null,null,null,null,null,"TARJETA",null,0,0,183.15199999999999,{"$f":"TRUNC(U57*P57,2)","v":0},{"$f":"TRUNC(U57*P57*0.04,2)","v":0},{"$f":"TRUNC(U57*0.07*P57,2)","v":0},{"$f":"S57","v":0},{"$f":"TRUNC(X57+W57+(IF(Y57>519,519,Y57))+IF(R57=0,0,R57*U57),2)","v":0},{"$f":"TRUNC((IF(R57=0,P57*U57,(P57-R57)*U57))+(IF(Y57<519,0,Y57-519)),2)+T57","v":0},{"$f":"Z57+AA57","v":0},null,null,0,{"$f":"IF(U57>0.01,(AA57-VLOOKUP(AA57,quincenal,1))*VLOOKUP(AA57,quincenal,3)+VLOOKUP(AA57,quincenal,2)-VLOOKUP(AA57,subquincenal,2),0)","v":{"$error":"#N/A"}},null,null,null,{"$f":"PORTADA!$D$10","v":1},null,30]
[null,null,null,"DIRECCION DE REGISTRO CIVIL",null,null,null,null,null,null,null,null,null,null,null,null,null,null,null,null,null,{"$f":"SUM(V54:V57)","v":7457.8000000000011},{"$f":"SUM(W54:W57)","v":298.31},522.03,0,820.33999999999992,7457.8000000000011,8278.14,0,0,0,{"$error":"#N/A"},56.16,37.450000000000003,8259.43]
[]
[null,null,null,"OFICIALIA MAYOR DE CULTURA"]
[null,null,null,"GONZALEZ PEÑA LETICIA","MAM620222",null,null,"DIRECTOR DE CULTURA Y TURISMO",null,null,null,null,null,null,null,15,"TARJETA",null,0,0,331.43599999999998,{"$f":"TRUNC(U61*P61,2)","v":4971.54},{"$f":"TRUNC(U61*P61*0.04,2)","v":198.86},{"$f":"TRUNC(U61*0.07*P61,2)","v":348},{"$f":"S61","v":0},{"$f":"TRUNC(X61+W61+(IF(Y61>519,519,Y61))+IF(R61=0,0,R61*U61),2)","v":546.86},{"$f":"TRUNC((IF(R61=0,P61*U61,(P61-R61)*U61))+(IF(Y61<519,0,Y61-519)),2)+T61","v":4971.54},{"$f":"Z61+AA61","v":5518.4},null,null,0,{"$f":"IF(U61>0.01,(AA61-VLOOKUP(AA61,quincenal,1))*VLOOKUP(AA61,quincenal,3)+VLOOKUP(AA61,quincenal,2)-VLOOKUP(AA61,subquincenal,2),0)","v":518.40545600000007},{"$f":"TRUNC(IF(AF61>0.01,AF61,0),2)","v":518.4},{"$f":"TRUNC(IF(AF61<0.01,-AF61,0),2)","v":0},{"$f":"AB61-AD61-AE61-AG61+AH61","v":5000},{"$f":"[3]PORTADA!$D$10","v":1},null,31]
[null,null,null,"PARRA RON CARLOS ENRIQUE","PARC480708","PARC480708HJCRNR08","2004-01-01","CRONISTA",null,null,null,null,null,null,null,15,"TARJETA",null,0,0,{"$f":"3463/15","v":230.86666666666667},3463,138.52000000000001,242.41,0,380.93,3463,3843.93,null,null,0,{"$f":"IF(U62>0.01,(AA62-VLOOKUP(AA62,quincenal,1))*VLOOKUP(AA62,quincenal,3)+VLOOKUP(AA62,quincenal,2)-VLOOKUP(AA62,subquincenal,2),0)","v":147.59131199999999},147.59,0,3696.3399999999997,{"$f":"[2]PORTADA!$D$10","v":1},null,32]
[null,null,null,"GARCIA GONZALEZ JAIRO ESAU",null,null,null,"AUXILIAR DE DIRECCION DE CULTURA Y TURISMO",null,null,null,null,null,null,null,15,"TARJETA",null,0,0,165.506,{"$f":"TRUNC(U63*P63,2)","v":2482.59},{"$f":"TRUNC(U63*P63*0.04,2)","v":99.3},{"$f":"TRUNC(U63*0.07*P63,2)","v":173.78},{"$f":"S63","v":0},{"$f":"TRUNC(X63+W63+(IF(Y63>519,519,Y63))+IF(R63=0,0,R63*U63),2)","v":273.08},{"$f":"TRUNC((IF(R63=0,P63*U63,(P63-R63)*U63))+(IF(Y63<519,0,Y63-519)),2)+T63","v":2482.59},{"$f":"Z63+AA63","v":2755.67},null,null,0,{"$f":"IF(U63>0.01,(AA63-VLOOKUP(AA63,quincenal,1))*VLOOKUP(AA63,quincenal,3)+VLOOKUP(AA63,quincenal,2)-VLOOKUP(AA63,subquincenal,2),0)","v":5.6727039999999818},{"$f":"TRUNC(IF(AF63>0.01,AF63,0),2)","v":5.67},{"$f":"TRUNC(IF(AF63<0.01,-AF63,0),2)","v":0},{"$f":"AB63-AD63-AE63-AG63+AH63","v":2750}]
[null,null,null,"GONZALEZ JUAREZ ALEJANDRA AMANDA",null,null,null,"SECRETARIA DE CASA DE LA CULTURA",null,null,null,null,null,null,null,15,"TARJETA",null,0,0,147.9015,{"$f":"TRUNC(U64*P64,2)","v":2218.52},{"$f":"TRUNC(U64*P64*0.04,2)","v":88.74},{"$f":"TRUNC(U64*0.07*P64,2)","v":155.29},{"$f":"S64","v":0},{"$f":"TRUNC(X64+W64+(IF(Y64>519,519,Y64))+IF(R64=0,0,R64*U64),2)","v":244.03},{"$f":"TRUNC((IF(R64=0,P64*U64,(P64-R64)*U64))+(IF(Y64<519,0,Y64-519)),2)+T64","v":2218.52},{"$f":"Z64+AA64","v":2462.5500000000002},null,null,null,{"$f":"IF(U64>0.01,(AA64-VLOOKUP(AA64,quincenal,1))*VLOOKUP(AA64,quincenal,3)+VLOOKUP(AA64,quincenal,2)-VLOOKUP(AA64,subquincenal,2),0)","v":-37.458112000000028},0,37.450000000000003,{"$f":"AB64-AD64-AE64-AG64+AH64","v":2500},null,null,33]
[null,null,null,"GALLEGOS PEREZ DIEGO ARMANDO",null,null,null,"ENCARGADO DE LA CULTURA DEL AGUA",null,null,null,null,null,null,null,15,"TARJETA",null,0,0,172.83099999999999,{"$f":"TRUNC(U65*P65,2)","v":2592.46},{"$f":"TRUNC(U65*P65*0.04,2)","v":103.69},{"$f":"TRUNC(U65*0.07*P65,2)","v":181.47},{"$f":"S65","v":0},{"$f":"TRUNC(X65+W65+(IF(Y65>519,519,Y65))+IF(R65=0,0,R65*U65),2)","v":285.16000000000003},{"$f":"TRUNC((IF(R65=0,P65*U65,(P65-R65)*U65))+(IF(Y65<519,0,Y65-519)),2)+T65","v":2592.46},{"$f":"Z65+AA65","v":2877.62},null,null,null,{"$f":"IF(U65>0.01,(AA65-VLOOKUP(AA65,quincenal,1))*VLOOKUP(AA65,quincenal,3)+VLOOKUP(AA65,quincenal,2)-VLOOKUP(AA65,subquincenal,2),0)","v":17.626559999999984},{"$f":"TRUNC(IF(AF65>0.01,AF65,0),2)","v":17.62},{"$f":"TRUNC(IF(AF65<0.01,-AF65,0),2)","v":0},{"$f":"AB65-AD65-AE65-AG65+AH65","v":2860},null,null,34]
[null,null,null,"ESPARZA ZAVALZA INDALECIO",null,null,null,"MAESTRO DE MUSICA",null,null,null,null,null,null,null,15,"TARJETA",null,0,0,154.56,{"$f":"TRUNC(U66*P66,2)","v":2318.4},{"$f":"TRUNC(U66*P66*0.04,2)","v":92.73},{"$f":"TRUNC(U66*0.07*P66,2)","v":162.28},{"$f":"S66","v":0},{"$f":"TRUNC(X66+W66+(IF(Y66>519,519,Y66))+IF(R66=0,0,R66*U66),2)","v":255.01},{"$f":"TRUNC((IF(R66=0,P66*U66,(P66-R66)*U66))+(IF(Y66<519,0,Y66-519)),2)+T66","v":2318.4},{"$f":"Z66+AA66","v":2573.41},null,null,null,{"$f":"IF(U66>0.01,(AA66-VLOOKUP(AA66,quincenal,1))*VLOOKUP(AA66,quincenal,3)+VLOOKUP(AA66,quincenal,2)-VLOOKUP(AA66,subquincenal,2),0)","v":-26.59116800000001},0,26.59,{"$f":"AB66-AD66-AE66-AG66+AH66","v":2600},null,null,35]
[null,null,null,"CARRILLO DIAZ ANTONIO SALVADOR",null,null,null,"INTENDENTE",null,null,null,null,null,null,null,15,"TARJETA",null,0,0,113.977,{"$f":"TRUNC(U67*P67,2)","v":1709.65},{"$f":"TRUNC(U67*P67*0.04,2)","v":68.38},{"$f":"TRUNC(U67*0.07*P67,2)","v":119.67},{"$f":"S67","v":0},{"$f":"TRUNC(X67+W67+(IF(Y67>519,519,Y67))+IF(R67=0,0,R67*U67),2)","v":188.05},{"$f":"TRUNC((IF(R67=0,P67*U67,(P67-R67)*U67))+(IF(Y67<519,0,Y67-519)),2)+T67","v":1709.65},{"$f":"Z67+AA67","v":1897.7},null,null,0,{"$f":"IF(U67>0.01,(AA67-VLOOKUP(AA67,quincenal,1))*VLOOKUP(AA67,quincenal,3)+VLOOKUP(AA67,quincenal,2)-VLOOKUP(AA67,subquincenal,2),0)","v":-102.30023999999997},0,102.3,{"$f":"AB67-AD67-AE67-AG67+AH67","v":2000},null,null,36]
[null,null,null,"ARCINIEGA RODRIGUEZ ANTONIO",null,null,null,"ENCARGADO DE  EQUIPO DE SONIDO",null,null,null,null,null,null,null,15,"TARJETA",null,0,0,{"$f":"4060/15","v":270.66666666666669},4060,162.4,284.2,0,446.6,4060,4506.6000000000004,null,null,0,{"$f":"IF(U68>0.01,(AA68-VLOOKUP(AA68,quincenal,1))*VLOOKUP(AA68,quincenal,3)+VLOOKUP(AA68,quincenal,2)-VLOOKUP(AA68,subquincenal,2),0)","v":358.6884},358.68,0,4147.92,{"$f":"[2]PORTADA!$D$10","v":1},null,37]
[null,null,null,"OFICIALIA MAYOR DE CULTURA",null,null,null,null,null,null,null,null,null,null,null,null,null,null,null,null,null,{"$f":"SUM(V61:V68)","v":23816.160000000003},{"$f":"SUM(W61:W68)","v":952.61999999999989},1667.1,0,2619.7199999999998,23816.160000000003,26435.879999999997,0,0,0,881.63491199999999,1047.96,166.34,25554.260000000002]
[]
[null,null,null,"DEPARTAMENTO DE PRENSA Y PUBLICIDAD"]
[35,1,19,"DIAZ PEREZ SAMUEL",null,null,null,"DIRECTOR DE PRENSA Y PUBLICIDAD",null,null,null,null,null,null,null,15,"TARJETA",null,0,0,405.53410000000002,{"$f":"TRUNC(U72*P72,2)","v":6083.01},{"$f":"TRUNC(U72*P72*0.04,2)","v":243.32},{"$f":"TRUNC(U72*0.07*P72,2)","v":425.81},{"$f":"S72","v":0},{"$f":"TRUNC(X72+W72+(IF(Y72>519,519,Y72))+IF(R72=0,0,R72*U72),2)","v":669.13},{"$f":"TRUNC((IF(R72=0,P72*U72,(P72-R72)*U72))+(IF(Y72<519,0,Y72-519)),2)+T72","v":6083.01},{"$f":"Z72+AA72","v":6752.14},null,null,0,{"$f":"IF(U72>0.01,(AA72-VLOOKUP(AA72,quincenal,1))*VLOOKUP(AA72,quincenal,3)+VLOOKUP(AA72,quincenal,2)-VLOOKUP(AA72,subquincenal,2),0)","v":752.1417600000002},{"$f":"TRUNC(IF(AF72>0.01,AF72,0),2)","v":752.14},{"$f":"TRUNC(IF(AF72<0.01,-AF72,0),2)","v":0},{"$f":"AB72-AD72-AE72-AG72+AH72","v":6000},{"$f":"PORTADA!$D$10","v":1},null,38]
[36,null,null,"GOMEZ SANTIAGO MARIA DOLORES",null,null,null,"SECRETARIA DE COMUNICACIÓN SOCIAL",null,null,null,null,null,null,null,15,"TARJETA",null,0,0,101.23,{"$f":"TRUNC(U73*P73,2)","v":1518.45},{"$f":"TRUNC(U73*P73*0.04,2)","v":60.73},{"$f":"TRUNC(U73*0.07*P73,2)","v":106.29},{"$f":"S73","v":0},{"$f":"TRUNC(X73+W73+(IF(Y73>519,519,Y73))+IF(R73=0,0,R73*U73),2)","v":167.02},{"$f":"TRUNC((IF(R73=0,P73*U73,(P73-R73)*U73))+(IF(Y73<519,0,Y73-519)),2)+T73","v":1518.45},{"$f":"Z73+AA73","v":1685.47},null,0,0,{"$f":"IF(U73>0.01,(AA73-VLOOKUP(AA73,quincenal,1))*VLOOKUP(AA73,quincenal,3)+VLOOKUP(AA73,quincenal,2)-VLOOKUP(AA73,subquincenal,2),0)","v":-114.53703999999998},{"$f":"TRUNC(IF(AF73>0.01,AF73,0),2)","v":0},{"$f":"TRUNC(IF(AF73<0.01,-AF73,0),2)","v":114.53},{"$f":"AB73-AD73-AE73-AG73+AH73","v":1800},{"$f":"PORTADA!$D$10","v":1},null,39]
[null,null,null,"VAZQUEZ PEREZ LUIS ENRIQUE",null,null,null,"AUXILIAR DE COMUNICACIÓN SOCIAL (FOTOGRAFO Y VIDEO)",null,null,null,null,null,null,null,15,"TARJETA",null,0,0,183.15199999999999,{"$f":"TRUNC(U74*P74,2)","v":2747.28},{"$f":"TRUNC(U74*P74*0.04,2)","v":109.89},{"$f":"TRUNC(U74*0.07*P74,2)","v":192.3},{"$f":"S74","v":0},{"$f":"TRUNC(X74+W74+(IF(Y74>519,519,Y74))+IF(R74=0,0,R74*U74),2)","v":302.19},{"$f":"TRUNC((IF(R74=0,P74*U74,(P74-R74)*U74))+(IF(Y74<519,0,Y74-519)),2)+T74","v":2747.28},{"$f":"Z74+AA74","v":3049.4700000000003},null,null,0,{"$f":"IF(U74>0.01,(AA74-VLOOKUP(AA74,quincenal,1))*VLOOKUP(AA74,quincenal,3)+VLOOKUP(AA74,quincenal,2)-VLOOKUP(AA74,subquincenal,2),0)","v":49.470976000000007},{"$f":"TRUNC(IF(AF74>0.01,AF74,0),2)","v":49.47},{"$f":"TRUNC(IF(AF74<0.01,-AF74,0),2)","v":0},{"$f":"AB74-AD74-AE74-AG74+AH74","v":3000.0000000000005},null,null,40]
[null,null,null,"DEPARTAMENTO DE PRENSA Y PUBLICIDAD",null,null,null,null,null,null,null,null,null,null,null,null,null,null,null,null,null,{"$f":"SUM(V72:V74)","v":10348.74},{"$f":"SUM(W72:W74)","v":413.94},724.40000000000009,0,1138.3399999999999,10348.74,11487.080000000002,0,0,0,687.07569600000033,801.61,114.53,10800]
[]
[null,null,null,"DIRECCION DE EDUCACION"]
[37,null,null,"MARISCAL MORALES ILIANA PATRICIA",null,null,null,"SUBDIRECTORA DE TALLERES DE CAPACITACION",null,null,null,null,null,null,null,15,"TARJETA",null,0,0,217.7938,{"$f":"TRUNC(U78*P78,2)","v":3266.9},{"$f":"TRUNC(U78*P78*0.04,2)","v":130.66999999999999},{"$f":"TRUNC(U78*0.07*P78,2)","v":228.68},{"$f":"S78","v":0},{"$f":"TRUNC(X78+W78+(IF(Y78>519,519,Y78))+IF(R78=0,0,R78*U78),2)","v":359.35},{"$f":"TRUNC((IF(R78=0,P78*U78,(P78-R78)*U78))+(IF(Y78<519,0,Y78-519)),2)+T78","v":3266.9},{"$f":"Z78+AA78","v":3626.25},null,null,0,{"$f":"IF(U78>0.01,(AA78-VLOOKUP(AA78,quincenal,1))*VLOOKUP(AA78,quincenal,3)+VLOOKUP(AA78,quincenal,2)-VLOOKUP(AA78,subquincenal,2),0)","v":126.25563199999996},{"$f":"TRUNC(IF(AF78>0.01,AF78,0),2)","v":126.25},{"$f":"TRUNC(IF(AF78<0.01,-AF78,0),2)","v":0},{"$f":"AB78-AD78-AE78-AG78+AH78","v":3500},null,null,41]
[null,null,null,"ESPERICUETA HERNANDEZ EFRAIN",null,null,null,"TALLERES DE CAPACITACION",null,null,null,null,null,null,null,11,"TARJETA",null,0,0,260.28699999999998,{"$f":"TRUNC(U79*P79,2)","v":2863.15},{"$f":"TRUNC(U79*P79*0.04,2)","v":114.52},{"$f":"TRUNC(U79*0.07*P79,2)","v":200.42},{"$f":"S79","v":0},{"$f":"TRUNC(X79+W79+(IF(Y79>519,519,Y79))+IF(R79=0,0,R79*U79),2)","v":314.94},{"$f":"TRUNC((IF(R79=0,P79*U79,(P79-R79)*U79))+(IF(Y79<519,0,Y79-519)),2)+T79","v":2863.15},{"$f":"Z79+AA79","v":3178.09},null,null,0,{"$f":"IF(U79>0.01,(AA79-VLOOKUP(AA79,quincenal,1))*VLOOKUP(AA79,quincenal,3)+VLOOKUP(AA79,quincenal,2)-VLOOKUP(AA79,subquincenal,2),0)","v":62.077631999999994},{"$f":"TRUNC(IF(AF79>0.01,AF79,0),2)","v":62.07},{"$f":"TRUNC(IF(AF79<0.01,-AF79,0),2)","v":0},{"$f":"AB79-AD79-AE79-AG79+AH79","v":3116.02},null,null,42]
[null,null,null,"MADRID ZAINES DELIA CAROLINA",null,null,null,"SECRETARIA DE DIRECTOR DE EDUCACION",null,null,null,null,null,null,null,15,"TARJETA",null,0,0,183.15199999999999,{"$f":"TRUNC(U80*P80,2)","v":2747.28},{"$f":"TRUNC(U80*P80*0.04,2)","v":109.89},{"$f":"TRUNC(U80*0.07*P80,2)","v":192.3},{"$f":"S80","v":0},{"$f":"TRUNC(X80+W80+(IF(Y80>519,519,Y80))+IF(R80=0,0,R80*U80),2)","v":302.19},{"$f":"TRUNC((IF(R80=0,P80*U80,(P80-R80)*U80))+(IF(Y80<519,0,Y80-519)),2)+T80","v":2747.28},{"$f":"Z80+AA80","v":3049.4700000000003},null,null,0,{"$f":"IF(U80>0.01,(AA80-VLOOKUP(AA80,quincenal,1))*VLOOKUP(AA80,quincenal,3)+VLOOKUP(AA80,quincenal,2)-VLOOKUP(AA80,subquincenal,2),0)","v":49.470976000000007},{"$f":"TRUNC(IF(AF80>0.01,AF80,0),2)","v":49.47},{"$f":"TRUNC(IF(AF80<0.01,-AF80,0),2)","v":0},{"$f":"AB80-AD80-AE80-AG80+AH80","v":3000.0000000000005},null,null,43]
[37,null,null,"GAVILANES NAVARRO JOSE RICARDO",null,null,null,"CHIOFER CAMION ESTUDIANTES",null,null,null,null,null,null,null,15,"TARJETA",null,0,0,217.7938,{"$f":"TRUNC(U81*P81,2)","v":3266.9},{"$f":"TRUNC(U81*P81*0.04,2)","v":130.66999999999999},{"$f":"TRUNC(U81*0.07*P81,2)","v":228.68},{"$f":"S81","v":0},{"$f":"TRUNC(X81+W81+(IF(Y81>519,519,Y81))+IF(R81=0,0,R81*U81),2)","v":359.35},{"$f":"TRUNC((IF(R81=0,P81*U81,(P81-R81)*U81))+(IF(Y81<519,0,Y81-519)),2)+T81","v":3266.9},{"$f":"Z81+AA81","v":3626.25},null,null,0,{"$f":"IF(U81>0.01,(AA81-VLOOKUP(AA81,quincenal,1))*VLOOKUP(AA81,quincenal,3)+VLOOKUP(AA81,quincenal,2)-VLOOKUP(AA81,subquincenal,2),0)","v":126.25563199999996},{"$f":"TRUNC(IF(AF81>0.01,AF81,0),2)","v":126.25},{"$f":"TRUNC(IF(AF81<0.01,-AF81,0),2)","v":0},{"$f":"AB81-AD81-AE81-AG81+AH81","v":3500},{"$f":"PORTADA!$D$10","v":1},null,44]
[null,null,null,"DIRECCION DE EDUCACION",null,null,null,null,null,null,null,null,null,null,null,null,null,null,null,null,null,{"$f":"SUM(V78:V81)","v":12144.23},{"$f":"SUM(W78:W81)","v":485.75},850.08000000000015,0,1335.83,12144.23,13480.060000000001,0,0,0,364.05987199999993,364.03999999999996,0,13116.02]
[]
[null,null,null,"DEPARTAMENTO DE PROMOCION Y DESARROLLO ECONOMICO"]
[38,null,null,"RODRIGUEZ ARQUIETA FAUSTO RAFAEL",null,null,null,"DIRECTOR",null,null,null,null,null,null,null,15,"TARJETA",null,0,0,479.90589999999997,{"$f":"TRUNC(U85*P85,2)","v":7198.58},{"$f":"TRUNC(U85*P85*0.04,2)","v":287.94},{"$f":"TRUNC(U85*0.07*P85,2)","v":503.9},{"$f":"S85","v":0},{"$f":"TRUNC(X85+W85+(IF(Y85>519,519,Y85))+IF(R85=0,0,R85*U85),2)","v":791.84},{"$f":"TRUNC((IF(R85=0,P85*U85,(P85-R85)*U85))+(IF(Y85<519,0,Y85-519)),2)+T85","v":7198.58},{"$f":"Z85+AA85","v":7990.42},null,null,0,{"$f":"IF(U85>0.01,(AA85-VLOOKUP(AA85,quincenal,1))*VLOOKUP(AA85,quincenal,3)+VLOOKUP(AA85,quincenal,2)-VLOOKUP(AA85,subquincenal,2),0)","v":990.42751200000009},{"$f":"TRUNC(IF(AF85>0.01,AF85,0),2)","v":990.42},{"$f":"TRUNC(IF(AF85<0.01,-AF85,0),2)","v":0},{"$f":"AB85-AD85-AE85-AG85+AH85","v":7000},null,null,45]
[null,null,null,"HERNANDEZ ENRIQUEZ J. FILEMON",null,null,null,"DIRECTOR DE PROMOCION ECONOMICA",null,null,null,null,null,null,null,15,"TARJETA",null,0,0,442.72,6640.8,265.63,464.85,0,730.48,6640.8,7371.2800000000007,null,null,0,871.28570400000012,871.28,{"$f":"TRUNC(IF(AF86<0.01,-AF86,0),2)","v":0},6500.0000000000009,null,null,46]
[null,null,null,"PLASCENCIA GARCIA OSCARI","PAGO721112","PAGO721112HJCLRS01",null,"AUXILIAR ADMINISTRATIVO DE DESARROLLO RURAL",null,null,null,null,null,null,null,15,"TARJETA",null,0,0,{"$f":"3086/15","v":205.73333333333332},3086,123.44,216.02,0,339.46,3086,3425.46,null,null,0,106.57371199999997,106.57,{"$f":"TRUNC(IF(AF87<0.01,-AF87,0),2)","v":0},3318.89,null,null,47]
[null,null,null,"MARTINEZ MARTINEZ SALVADOR TAURINO JONATHAN","MAMS900118M80","MAMS900118HJCRRL02","2007-01-01","AYUDANTE",null,null,null,null,null,null,null,15,"TARJETA",null,0,0,{"$f":"2788/15","v":185.86666666666667},2788,111.52,195.16,0,306.68,2788,3094.68,null,null,0,53.90131199999999,53.9,0,3040.7799999999997,{"$f":"[2]PORTADA!$D$10","v":1},null,48]
[null,null,null,"ULLOA MARTINEZ MARCELA GUADALUPE","UOMM730612","UOMM730612MJCLRR02","1998-01-01","AUXILIAR ADMINISTRATIVO",null,null,null,null,null,null,null,15,"TARJETA",null,0,0,{"$f":"3261/15","v":217.4},3261,130.44,228.27,0,358.71,3261,3619.71,null,null,0,125.61371199999999,125.61,{"$f":"TRUNC(IF(AF89<0.01,-AF89,0),2)","v":0},3494.1,{"$f":"[2]PORTADA!$D$10","v":1},null,49]
[null,null,null,null,"FEIA870704","FEIA870704MJCRXN02",null,null,null,null,null,null,null,null,null,null,"TARJETA",null,0,0,{"$f":"2658/15","v":177.2},null,null,null,0,0,0,0,null,null,null,{"$error":"#N/A"},null,null,null,{"$f":"[2]PORTADA!$D$10","v":1},null,50]
[null,null,null,"DEPARTAMENTO DE PROMOCION Y DESARROLLO ECONOMICO",null,null,null,null,null,null,null,null,null,null,null,null,null,null,null,null,null,{"$f":"SUM(V85:V90)","v":22974.38},{"$f":"SUM(W85:W90)","v":918.97},1608.2,0,2527.17,22974.38,25501.55,0,0,0,{"$error":"#N/A"},2147.7799999999997,0,23353.769999999997]
[]
[null,null,null,"OFICINA DE ENLACE RELACIONES EXTERIORES"]
[null,null,null,"GUTIERREZ REYES CAROL","GURC680410","GURC680410MJCTYR00","2001-01-02","JEFE ADMINISTRADOR",null,null,null,null,null,null,null,15,"TARJETA",null,0,0,370.2,{"$f":"TRUNC(U94*P94,2)","v":5553},{"$f":"TRUNC(U94*P94*0.04,2)","v":222.12},{"$f":"TRUNC(U94*0.07*P94,2)","v":388.71},{"$f":"S94","v":0},{"$f":"TRUNC(X94+W94+(IF(Y94>519,519,Y94))+IF(R94=0,0,R94*U94),2)","v":610.83000000000004},{"$f":"TRUNC((IF(R94=0,P94*U94,(P94-R94)*U94))+(IF(Y94<519,0,Y94-519)),2)+T94","v":5553},{"$f":"Z94+AA94","v":6163.83},null,null,0,{"$f":"IF(U94>0.01,(AA94-VLOOKUP(AA94,quincenal,1))*VLOOKUP(AA94,quincenal,3)+VLOOKUP(AA94,quincenal,2)-VLOOKUP(AA94,subquincenal,2),0)","v":638.93162400000006},{"$f":"TRUNC(IF(AF94>0.01,AF94,0),2)","v":638.92999999999995},{"$f":"TRUNC(IF(AF94<0.01,-AF94,0),2)","v":0},{"$f":"AB94-AD94-AE94-AG94+AH94","v":5524.9},{"$f":"[2]PORTADA!$D$10","v":1},null,51]
[null,null,null,"FREGOSO HURTADO ALEJANDRA","FEHA831218","FEHA831218MJCRRL07","2007-04-10","AUX. ADMINISTRATIVO",null,null,null,null,null,null,null,15,"TARJETA",null,0,0,211.816,{"$f":"TRUNC(U95*P95,2)","v":3177.24},{"$f":"TRUNC(U95*P95*0.04,2)","v":127.08},{"$f":"TRUNC(U95*0.07*P95,2)","v":222.4},{"$f":"S95","v":0},{"$f":"TRUNC(X95+W95+(IF(Y95>519,519,Y95))+IF(R95=0,0,R95*U95),2)","v":349.48},{"$f":"TRUNC((IF(R95=0,P95*U95,(P95-R95)*U95))+(IF(Y95<519,0,Y95-519)),2)+T95","v":3177.24},{"$f":"Z95+AA95","v":3526.72},null,null,0,{"$f":"IF(U95>0.01,(AA95-VLOOKUP(AA95,quincenal,1))*VLOOKUP(AA95,quincenal,3)+VLOOKUP(AA95,quincenal,2)-VLOOKUP(AA95,subquincenal,2),0)","v":116.50062399999996},{"$f":"TRUNC(IF(AF95>0.01,AF95,0),2)","v":116.5},{"$f":"TRUNC(IF(AF95<0.01,-AF95,0),2)","v":0},{"$f":"AB95-AD95-AE95-AG95+AH95","v":3410.22},{"$f":"[2]PORTADA!$D$10","v":1},null,52]
[null,null,null,"LOPEZ MARTINEZ YVETTE AMALIA MARGARITA","LOMY681017","LOMY681017MJCPRV08","2001-01-01","SUPERVISOR",null,null,null,null,null,null,null,15,"TARJETA",null,0,0,211.816,{"$f":"TRUNC(U96*P96,2)","v":3177.24},{"$f":"TRUNC(U96*P96*0.04,2)","v":127.08},{"$f":"TRUNC(U96*0.07*P96,2)","v":222.4},{"$f":"S96","v":0},{"$f":"TRUNC(X96+W96+(IF(Y96>519,519,Y96))+IF(R96=0,0,R96*U96),2)","v":349.48},{"$f":"TRUNC((IF(R96=0,P96*U96,(P96-R96)*U96))+(IF(Y96<519,0,Y96-519)),2)+T96","v":3177.24},{"$f":"Z96+AA96","v":3526.72},null,null,0,{"$f":"IF(U96>0.01,(AA96-VLOOKUP(AA96,quincenal,1))*VLOOKUP(AA96,quincenal,3)+VLOOKUP(AA96,quincenal,2)-VLOOKUP(AA96,subquincenal,2),0)","v":116.50062399999996},{"$f":"TRUNC(IF(AF96>0.01,AF96,0),2)","v":116.5},{"$f":"TRUNC(IF(AF96<0.01,-AF96,0),2)","v":0},{"$f":"AB96-AD96-AE96-AG96+AH96","v":3410.22},{"$f":"[2]PORTADA!$D$10","v":1},null,53]
[null,null,null,"ESTRADA GOMEZ JUAN CARLOS","EAGJ510220NR1","EAGJ510220HJCSMN09",null,"MENSAJERO",null,null,null,null,null,null,null,15,"TARJETA",null,0,0,216.7235,{"$f":"TRUNC(U97*P97,2)","v":3250.85},{"$f":"TRUNC(U97*P97*0.04,2)","v":130.03},{"$f":"TRUNC(U97*0.07*P97,2)","v":227.55},{"$f":"S97","v":0},{"$f":"TRUNC(X97+W97+(IF(Y97>519,519,Y97))+IF(R97=0,0,R97*U97),2)","v":357.58},{"$f":"TRUNC((IF(R97=0,P97*U97,(P97-R97)*U97))+(IF(Y97<519,0,Y97-519)),2)+T97","v":3250.85},{"$f":"Z97+AA97","v":3608.43},null,0,0,{"$f":"IF(U97>0.01,(AA97-VLOOKUP(AA97,quincenal,1))*VLOOKUP(AA97,quincenal,3)+VLOOKUP(AA97,quincenal,2)-VLOOKUP(AA97,subquincenal,2),0)","v":124.50939199999996},{"$f":"TRUNC(IF(AF97>0.01,AF97,0),2)","v":124.5},{"$f":"TRUNC(IF(AF97<0.01,-AF97,0),2)","v":0},{"$f":"AB97-AD97-AE97-AG97+AH97","v":3483.93},{"$f":"[2]PORTADA!$D$10","v":1},null,54]
[null,null,null,"OFICINA DE ENLACE RELACIONES EXTERIORES",null,null,null,null,null,null,null,null,null,null,null,null,null,null,null,null,null,{"$f":"SUM(V94:V97)","v":15158.33},606.30999999999995,1061.06,0,1667.37,15158.33,16825.699999999997,0,0,0,996.44226400000002,996.43,0,15829.269999999999]
[]
[null,null,null,"AGENCIAS MUNICIPALES"]
[46,"2","2","GOMEZ HERNANDEZ FRANCISCO JAVIER",null,null,null,"AGENTE MUNICIPAL STA. ROSALIA",null,null,null,null,null,null,null,15,"TARJETA",null,0,0,101.23,{"$f":"TRUNC(U101*P101,2)","v":1518.45},{"$f":"TRUNC(U101*P101*0.04,2)","v":60.73},{"$f":"TRUNC(U101*0.07*P101,2)","v":106.29},{"$f":"S101","v":0},{"$f":"TRUNC(X101+W101+(IF(Y101>519,519,Y101))+IF(R101=0,0,R101*U101),2)","v":167.02},{"$f":"TRUNC((IF(R101=0,P101*U101,(P101-R101)*U101))+(IF(Y101<519,0,Y101-519)),2)+T101","v":1518.45},{"$f":"Z101+AA101","v":1685.47},null,null,0,{"$f":"IF(U101>0.01,(AA101-VLOOKUP(AA101,quincenal,1))*VLOOKUP(AA101,quincenal,3)+VLOOKUP(AA101,quincenal,2)-VLOOKUP(AA101,subquincenal,2),0)","v":-114.53703999999998},{"$f":"TRUNC(IF(AF101>0.01,AF101,0),2)","v":0},{"$f":"TRUNC(IF(AF101<0.01,-AF101,0),2)","v":114.53},{"$f":"AB101-AD101-AE101-AG101+AH101","v":1800},{"$f":"PORTADA!$D$10","v":1},null,55]
[47,"2","2","BERNAL LOPEZ JUAN MANUEL","PALR",null,null,"AGENTE MUNICIPAL SAN RAFAEL",null,null,null,null,null,null,null,15,"TARJETA",null,0,0,82.109700000000004,1231.6400000000001,49.26,86.21,0,135.47,1231.6400000000001,1367.1100000000001,null,null,0,-132.89287999999999,{"$f":"TRUNC(IF(AF102>0.01,AF102,0),2)","v":0},{"$f":"TRUNC(IF(AF102<0.01,-AF102,0),2)","v":132.88999999999999},1500,{"$f":"PORTADA!$D$10","v":1},null,56]
[48,"2","2","GONZALEZ RUIZ JOSE ANGEL","GORA710130M39","GORA710130HJCNZN08",null,"AGENTE MUNICIPAL SAN SEBASTIAN",null,null,null,null,null,null,null,15,"TARJETA",null,0,0,75.735900000000001,1136.03,45.44,79.52,0,124.96,1136.03,1260.99,null,null,0,-139.01191999999998,{"$f":"TRUNC(IF(AF103>0.01,AF103,0),2)","v":0},{"$f":"TRUNC(IF(AF103<0.01,-AF103,0),2)","v":139.01},1400,{"$f":"PORTADA!$D$10","v":1},null,57]
[49,"2","2","SIERRA LLAMAS JUAN JOSE","SILJ660418","SILJ660418HJCRLN17",null,"AGENTE MUNICIPAL DE PUERTA DE PERICOS",null,null,null,null,null,null,null,15,"TARJETA",null,0,0,88.483400000000003,1327.25,53.09,92.9,0,145.99,1327.25,1473.24,null,null,0,-126.77383999999998,{"$f":"TRUNC(IF(AF104>0.01,AF104,0),2)","v":0},{"$f":"TRUNC(IF(AF104<0.01,-AF104,0),2)","v":126.77},1600.01,{"$f":"PORTADA!$D$10","v":1},null,58]
[null,null,null,"NAVARRO AYON RAUL JAIME",null,null,null,"AGENTE MUNICIPAL DE LA MAZATA",null,null,null,null,null,null,null,15,"TARJETA",null,0,0,82.109700000000004,{"$f":"TRUNC(U105*P105,2)","v":1231.6400000000001},{"$f":"TRUNC(U105*P105*0.04,2)","v":49.26},{"$f":"TRUNC(U105*0.07*P105,2)","v":86.21},{"$f":"S105","v":0},{"$f":"TRUNC(X105+W105+(IF(Y105>519,519,Y105))+IF(R105=0,0,R105*U105),2)","v":135.47},{"$f":"TRUNC((IF(R105=0,P105*U105,(P105-R105)*U105))+(IF(Y105<519,0,Y105-519)),2)+T105","v":1231.6400000000001},{"$f":"Z105+AA105","v":1367.1100000000001},null,null,0,{"$f":"IF(U105>0.01,(AA105-VLOOKUP(AA105,quincenal,1))*VLOOKUP(AA105,quincenal,3)+VLOOKUP(AA105,quincenal,2)-VLOOKUP(AA105,subquincenal,2),0)","v":-132.89287999999999},0,132.88999999999999,{"$f":"AB105-AD105-AE105-AG105+AH105","v":1500},null,null,59]
[null,null,null,"PEREZ LLAMAS SAMUEL",null,null,null,"AGENTE MUNICIPAL DE LA QUEBRADA",null,null,null,null,null,null,null,15,"TARJETA",null,0,0,113.977,1709.65,68.38,119.67,0,188.05,1709.65,1897.7,null,null,0,-102.30023999999997,0,102.3,2000,null,null,60]
[null,null,null,"MURILLO HERNANDEZ MARIANO",null,null,null,"AGENTE MUNICIPAL DE LA EMBOCADA",null,null,null,null,null,null,null,15,"TARJETA",null,0,0,95.6,1434,57.36,100.38,0,157.74,1434,1591.74,null,null,0,-119.94183999999998,0,119.94,1711.68]
[54,null,null,"SANCHEZ NAVARRO ARTURO",null,null,null,"ASEO LA MAZATA",null,null,null,null,null,null,null,15,"TARJETA",null,null,null,90.65,{"$f":"TRUNC(U108*P108,2)","v":1359.75},{"$f":"TRUNC(U108*P108*0.04,2)","v":54.39},{"$f":"TRUNC(U108*0.07*P108,2)","v":95.18},{"$f":"S108","v":0},{"$f":"TRUNC(X108+W108+(IF(Y108>519,519,Y108))+IF(R108=0,0,R108*U108),2)","v":149.57},{"$f":"TRUNC((IF(R108=0,P108*U108,(P108-R108)*U108))+(IF(Y108<519,0,Y108-519)),2)+T108","v":1359.75},{"$f":"Z108+AA108","v":1509.32},null,null,0,{"$f":"IF(U108>0.01,(AA108-VLOOKUP(AA108,quincenal,1))*VLOOKUP(AA108,quincenal,3)+VLOOKUP(AA108,quincenal,2)-VLOOKUP(AA108,subquincenal,2),0)","v":-124.69383999999998},{"$f":"TRUNC(IF(AF108>0.01,AF108,0),2)","v":0},{"$f":"TRUNC(IF(AF108<0.01,-AF108,0),2)","v":124.69},{"$f":"AB108-AD108-AE108-AG108+AH108","v":1634.01},null,null,61]
[null,null,null,"LOPEZ SILVA CARLOS DAMIAN","GOHV780710","GOHV780710HJCMRL00","2007-02-01","CHOFER RECOLECTOR",null,null,null,null,null,null,null,15,"TARJETA",null,0,0,{"$f":"2530/15","v":168.66666666666666},{"$f":"TRUNC(U109*P109,2)","v":2530},{"$f":"TRUNC(U109*P109*0.04,2)","v":101.2},{"$f":"TRUNC(U109*0.07*P109,2)","v":177.1},{"$f":"S109","v":0},{"$f":"TRUNC(X109+W109+(IF(Y109>519,519,Y109))+IF(R109=0,0,R109*U109),2)","v":278.3},{"$f":"TRUNC((IF(R109=0,P109*U109,(P109-R109)*U109))+(IF(Y109<519,0,Y109-519)),2)+T109","v":2530},{"$f":"Z109+AA109","v":2808.3},null,null,0,{"$f":"IF(U109>0.01,(AA109-VLOOKUP(AA109,quincenal,1))*VLOOKUP(AA109,quincenal,3)+VLOOKUP(AA109,quincenal,2)-VLOOKUP(AA109,subquincenal,2),0)","v":10.830911999999984},{"$f":"TRUNC(IF(AF109>0.01,AF109,0),2)","v":10.83},{"$f":"TRUNC(IF(AF109<0.01,-AF109,0),2)","v":0},{"$f":"AB109-AD109-AE109-AG109+AH109","v":2797.4700000000003},{"$f":"[2]PORTADA!$D$10","v":1},null,62]
[null,null,null,"AGENCIAS MUNICIPALES",null,null,null,null,null,null,null,null,null,null,null,null,null,null,null,null,null,{"$f":"SUM(V101:V109)","v":13478.41},539.11,943.45999999999992,0,1482.57,13478.41,14960.98,0,0,0,-982.2135679999999,10.83,993.02,15943.170000000002]
[]
[null,null,null,"ADMIN ISTRACION DE LA HACIENDA MUNICIPAL"]
[56,"3","1","CAMARENA GONZALEZ RUBIO MARIO",null,null,null,"ENCARGADO DE HACIENDA PUBLICA",null,null,null,null,null,null,null,15,"TARJETA",null,0,0,{"$f":"8355/15","v":557},{"$f":"TRUNC(U113*P113,2)","v":8355},{"$f":"TRUNC(U113*P113*0.04,2)","v":334.2},{"$f":"TRUNC(U113*0.07*P113,2)","v":584.85},{"$f":"S113","v":0},{"$f":"TRUNC(X113+W113+(IF(Y113>519,519,Y113))+IF(R113=0,0,R113*U113),2)","v":919.05},{"$f":"TRUNC((IF(R113=0,P113*U113,(P113-R113)*U113))+(IF(Y113<519,0,Y113-519)),2)+T113","v":8355},{"$f":"Z113+AA113","v":9274.0499999999993},null,null,0,{"$f":"IF(U113>0.01,(AA113-VLOOKUP(AA113,quincenal,1))*VLOOKUP(AA113,quincenal,3)+VLOOKUP(AA113,quincenal,2)-VLOOKUP(AA113,subquincenal,2),0)","v":1237.4388240000001},{"$f":"TRUNC(IF(AF113>0.01,AF113,0),2)","v":1237.43},{"$f":"TRUNC(IF(AF113<0.01,-AF113,0),2)","v":0},{"$f":"AB113-AD113-AE113-AG113+AH113","v":8036.619999999999},{"$f":"PORTADA!$D$10","v":1},null,63]
[null,null,null,"PEREZ JAIME ARTURO","PEJA600718","PEXJ600718HJCRXM09","2009-01-05","AUXILIAR CONTABLE",null,null,null,null,null,null,null,15,"TARJETA",null,0,0,{"$f":"5198/15","v":346.53333333333336},{"$f":"TRUNC(U114*P114,2)","v":5198},{"$f":"TRUNC(U114*P114*0.04,2)","v":207.92},{"$f":"TRUNC(U114*0.07*P114,2)","v":363.86},{"$f":"S114","v":0},{"$f":"TRUNC(X114+W114+(IF(Y114>519,519,Y114))+IF(R114=0,0,R114*U114),2)","v":571.78},{"$f":"TRUNC((IF(R114=0,P114*U114,(P114-R114)*U114))+(IF(Y114<519,0,Y114-519)),2)+T114","v":5198},{"$f":"Z114+AA114","v":5769.78},null,null,0,{"$f":"IF(U114>0.01,(AA114-VLOOKUP(AA114,quincenal,1))*VLOOKUP(AA114,quincenal,3)+VLOOKUP(AA114,quincenal,2)-VLOOKUP(AA114,subquincenal,2),0)","v":563.10362400000008},{"$f":"TRUNC(IF(AF114>0.01,AF114,0),2)","v":563.1},{"$f":"TRUNC(IF(AF114<0.01,-AF114,0),2)","v":0},{"$f":"AB114-AD114-AE114-AG114+AH114","v":5206.6799999999994},null,null,64]
[null,null,null,"VALENZUELA PARRA PERLA PATRICIA",null,null,null,"SECRETARIA",null,null,null,null,null,null,null,15,"TARJETA",null,0,0,147.369,{"$f":"TRUNC(U115*P115,2)","v":2210.5300000000002},{"$f":"TRUNC(U115*P115*0.04,2)","v":88.42},{"$f":"TRUNC(U115*0.07*P115,2)","v":154.72999999999999},{"$f":"S115","v":0},{"$f":"TRUNC(X115+W115+(IF(Y115>519,519,Y115))+IF(R115=0,0,R115*U115),2)","v":243.15},{"$f":"TRUNC((IF(R115=0,P115*U115,(P115-R115)*U115))+(IF(Y115<519,0,Y115-519)),2)+T115","v":2210.5300000000002},{"$f":"Z115+AA115","v":2453.6800000000003},null,null,0,{"$f":"IF(U115>0.01,(AA115-VLOOKUP(AA115,quincenal,1))*VLOOKUP(AA115,quincenal,3)+VLOOKUP(AA115,quincenal,2)-VLOOKUP(AA115,subquincenal,2),0)","v":-38.327424000000008},{"$f":"TRUNC(IF(AF115>0.01,AF115,0),2)","v":0},{"$f":"TRUNC(IF(AF115<0.01,-AF115,0),2)","v":38.32},{"$f":"AB115-AD115-AE115-AG115+AH115","v":2492.0000000000005}]
[null,null,null,"ARQUIETA GONZALEZ IRENE MAGALI",null,null,null,"ENCARGADO DEL DEPTO DE ADQUISICIONES",null,null,null,null,null,null,null,15,"TARJETA",null,0,0,217.7938,{"$f":"TRUNC(U116*P116,2)","v":3266.9},{"$f":"TRUNC(U116*P116*0.04,2)","v":130.66999999999999},{"$f":"TRUNC(U116*0.07*P116,2)","v":228.68},{"$f":"S116","v":0},{"$f":"TRUNC(X116+W116+(IF(Y116>519,519,Y116))+IF(R116=0,0,R116*U116),2)","v":359.35},{"$f":"TRUNC((IF(R116=0,P116*U116,(P116-R116)*U116))+(IF(Y116<519,0,Y116-519)),2)+T116","v":3266.9},{"$f":"Z116+AA116","v":3626.25},null,null,0,{"$f":"IF(U116>0.01,(AA116-VLOOKUP(AA116,quincenal,1))*VLOOKUP(AA116,quincenal,3)+VLOOKUP(AA116,quincenal,2)-VLOOKUP(AA116,subquincenal,2),0)","v":126.25563199999996},{"$f":"TRUNC(IF(AF116>0.01,AF116,0),2)","v":126.25},{"$f":"TRUNC(IF(AF116<0.01,-AF116,0),2)","v":0},{"$f":"AB116-AD116-AE116-AG116+AH116","v":3500},{"$f":"PORTADA!$D$10","v":1},null,65]
[null,null,null,"GOMEZ ESQUIVEL JULIO ISRAEL",null,null,null,"CAPTURISTA EN TESORERIA",null,null,null,null,null,null,null,15,"TARJETA",null,0,0,147.9014,{"$f":"TRUNC(U117*P117,2)","v":2218.52},{"$f":"TRUNC(U117*P117*0.04,2)","v":88.74},{"$f":"TRUNC(U117*0.07*P117,2)","v":155.29},{"$f":"S117","v":0},{"$f":"TRUNC(X117+W117+(IF(Y117>519,519,Y117))+IF(R117=0,0,R117*U117),2)","v":244.03},{"$f":"TRUNC((IF(R117=0,P117*U117,(P117-R117)*U117))+(IF(Y117<519,0,Y117-519)),2)+T117","v":2218.52},{"$f":"Z117+AA117","v":2462.5500000000002},null,500,0,{"$f":"IF(U117>0.01,(AA117-VLOOKUP(AA117,quincenal,1))*VLOOKUP(AA117,quincenal,3)+VLOOKUP(AA117,quincenal,2)-VLOOKUP(AA117,subquincenal,2),0)","v":-37.458112000000028},{"$f":"TRUNC(IF(AF117>0.01,AF117,0),2)","v":0},{"$f":"TRUNC(IF(AF117<0.01,-AF117,0),2)","v":37.450000000000003},{"$f":"AB117-AD117-AE117-AG117+AH117","v":2000.0000000000002},null,null,66]
[null,null,null,"MARTINEZ PAREDES ANNA VERONICA","MAPA820618","MAPA820618MJCRRN00","2007-01-31","AUXILIAR CONTABLE",null,null,null,null,null,null,null,15,"TARJETA",null,0,0,{"$f":"4693/15","v":312.86666666666667},{"$f":"TRUNC(U118*P118,2)","v":4693},{"$f":"TRUNC(U118*P118*0.04,2)","v":187.72},{"$f":"TRUNC(U118*0.07*P118,2)","v":328.51},{"$f":"S118","v":0},{"$f":"TRUNC(X118+W118+(IF(Y118>519,519,Y118))+IF(R118=0,0,R118*U118),2)","v":516.23},{"$f":"TRUNC((IF(R118=0,P118*U118,(P118-R118)*U118))+(IF(Y118<519,0,Y118-519)),2)+T118","v":4693},{"$f":"Z118+AA118","v":5209.2299999999996},null,null,0,{"$f":"IF(U118>0.01,(AA118-VLOOKUP(AA118,quincenal,1))*VLOOKUP(AA118,quincenal,3)+VLOOKUP(AA118,quincenal,2)-VLOOKUP(AA118,subquincenal,2),0)","v":468.4910880000001},{"$f":"TRUNC(IF(AF118>0.01,AF118,0),2)","v":468.49},{"$f":"TRUNC(IF(AF118<0.01,-AF118,0),2)","v":0},{"$f":"AB118-AD118-AE118-AG118+AH118","v":4740.74},{"$f":"[2]PORTADA!$D$10","v":1},null,67]
[null,null,null,"ADMIN ISTRACION DE LA HACIENDA MUNICIPAL",null,null,null,null,null,null,null,null,null,null,null,null,null,null,null,null,null,{"$f":"SUM(V113:V118)","v":25941.95},{"$f":"SUM(W113:W118)","v":1037.6699999999998},1815.92,0,2853.59,25941.95,28795.539999999997,0,500,0,2319.5036319999999,2395.2700000000004,75.77000000000001,25976.04]
[]
[null,null,null,"DEPARTAMENTO DE INGRESOS"]
[61,"11","17","ARIAS RAMOS MARIA DEL SOCORRO","AIRS650514","AIRS650514MJCRMC06",null,"CAJERA",null,null,null,null,null,null,null,15,"TARJETA",null,0,0,{"$f":"3228/15","v":215.2},{"$f":"TRUNC(U122*P122,2)","v":3228},{"$f":"TRUNC(U122*P122*0.04,2)","v":129.12},{"$f":"TRUNC(U122*0.07*P122,2)","v":225.96},{"$f":"S122","v":0},{"$f":"TRUNC(X122+W122+(IF(Y122>519,519,Y122))+IF(R122=0,0,R122*U122),2)","v":355.08},{"$f":"TRUNC((IF(R122=0,P122*U122,(P122-R122)*U122))+(IF(Y122<519,0,Y122-519)),2)+T122","v":3228},{"$f":"Z122+AA122","v":3583.08},null,null,0,{"$f":"IF(U122>0.01,(AA122-VLOOKUP(AA122,quincenal,1))*VLOOKUP(AA122,quincenal,3)+VLOOKUP(AA122,quincenal,2)-VLOOKUP(AA122,subquincenal,2),0)","v":122.02331199999998},{"$f":"TRUNC(IF(AF122>0.01,AF122,0),2)","v":122.02},{"$f":"TRUNC(IF(AF122<0.01,-AF122,0),2)","v":0},{"$f":"AB122-AD122-AE122-AG122+AH122","v":3461.06},{"$f":"[2]PORTADA!$D$10","v":1},null,68]
[null,null,null,"CABRALES GONZALEZ JOSE MANUEL","CAGM680912","CAGM680912HJCBNN06","2007-01-01","RECAUDADOR DE PISO",null,null,null,null,null,null,null,15,"TARJETA",null,0,0,{"$f":"3016/15","v":201.06666666666666},{"$f":"TRUNC(U123*P123,2)","v":3016},{"$f":"TRUNC(U123*P123*0.04,2)","v":120.64},{"$f":"TRUNC(U123*0.07*P123,2)","v":211.12},{"$f":"S123","v":0},{"$f":"TRUNC(X123+W123+(IF(Y123>519,519,Y123))+IF(R123=0,0,R123*U123),2)","v":331.76},{"$f":"TRUNC((IF(R123=0,P123*U123,(P123-R123)*U123))+(IF(Y123<519,0,Y123-519)),2)+T123","v":3016},{"$f":"Z123+AA123","v":3347.76},null,null,0,{"$f":"IF(U123>0.01,(AA123-VLOOKUP(AA123,quincenal,1))*VLOOKUP(AA123,quincenal,3)+VLOOKUP(AA123,quincenal,2)-VLOOKUP(AA123,subquincenal,2),0)","v":78.707711999999987},{"$f":"TRUNC(IF(AF123>0.01,AF123,0),2)","v":78.7},{"$f":"TRUNC(IF(AF123<0.01,-AF123,0),2)","v":0},{"$f":"AB123-AD123-AE123-AG123+AH123","v":3269.0600000000004},{"$f":"[2]PORTADA!$D$10","v":1},null,69]
["LAURO",null,null,"BERNAL RUIZ LAURO",null,null,null,"NOTIFICADOR",null,null,null,null,null,null,null,15,null,null,null,null,203.12799999999999,{"$f":"TRUNC(U124*P124,2)","v":3046.92},{"$f":"TRUNC(U124*P124*0.04,2)","v":121.87},{"$f":"TRUNC(U124*0.07*P124,2)","v":213.28},{"$f":"S124","v":0},{"$f":"TRUNC(X124+W124+(IF(Y124>519,519,Y124))+IF(R124=0,0,R124*U124),2)","v":335.15},{"$f":"TRUNC((IF(R124=0,P124*U124,(P124-R124)*U124))+(IF(Y124<519,0,Y124-519)),2)+T124","v":3046.92},{"$f":"Z124+AA124","v":3382.07},null,null,0,{"$f":"IF(U124>0.01,(AA124-VLOOKUP(AA124,quincenal,1))*VLOOKUP(AA124,quincenal,3)+VLOOKUP(AA124,quincenal,2)-VLOOKUP(AA124,subquincenal,2),0)","v":82.071808000000004},{"$f":"TRUNC(IF(AF124>0.01,AF124,0),2)","v":82.07},{"$f":"TRUNC(IF(AF124<0.01,-AF124,0),2)","v":0},{"$f":"AB124-AD124-AE124-AG124+AH124","v":3300},null,null,70]
[null,null,null,null,null,null,null,null,null,null,null,null,null,null,null,null,"TARJETA",null,0,0,133.09739999999999,null,null,null,{"$f":"S125","v":0},{"$f":"TRUNC(X125+W125+(IF(Y125>519,519,Y125))+IF(R125=0,0,R125*U125),2)","v":0},{"$f":"TRUNC((IF(R125=0,P125*U125,(P125-R125)*U125))+(IF(Y125<519,0,Y125-519)),2)+T125","v":0},{"$f":"Z125+AA125","v":0},null,null,null,{"$f":"IF(U125>0.01,(AA125-VLOOKUP(AA125,quincenal,1))*VLOOKUP(AA125,quincenal,3)+VLOOKUP(AA125,quincenal,2)-VLOOKUP(AA125,subquincenal,2),0)","v":{"$error":"#N/A"}}]
[null,null,null,"GONZALEZ ARQUIETA CESAR ARMANDO","MAGG",null,null,"INSPECTOR TESORERIA",null,null,null,null,null,null,null,15,"TARJETA",null,0,0,147.9014,{"$f":"TRUNC(U126*P126,2)","v":2218.52},{"$f":"TRUNC(U126*P126*0.04,2)","v":88.74},{"$f":"TRUNC(U126*0.07*P126,2)","v":155.29},{"$f":"S126","v":0},{"$f":"TRUNC(X126+W126+(IF(Y126>519,519,Y126))+IF(R126=0,0,R126*U126),2)","v":244.03},{"$f":"TRUNC((IF(R126=0,P126*U126,(P126-R126)*U126))+(IF(Y126<519,0,Y126-519)),2)+T126","v":2218.52},{"$f":"Z126+AA126","v":2462.5500000000002},null,null,0,{"$f":"IF(U126>0.01,(AA126-VLOOKUP(AA126,quincenal,1))*VLOOKUP(AA126,quincenal,3)+VLOOKUP(AA126,quincenal,2)-VLOOKUP(AA126,subquincenal,2),0)","v":-37.458112000000028},{"$f":"TRUNC(IF(AF126>0.01,AF126,0),2)","v":0},{"$f":"TRUNC(IF(AF126<0.01,-AF126,0),2)","v":37.450000000000003},{"$f":"AB126-AD126-AE126-AG126+AH126","v":2500},null,null,71]
[null,null,null,"DEPARTAMENTO DE INGRESOS",null,null,null,null,null,null,null,null,null,null,null,null,null,null,null,null,null,{"$f":"SUM(V122:V126)","v":11509.44},{"$f":"SUM(W122:W126)","v":460.37},805.65,0,1266.02,11509.44,12775.46,0,0,0,{"$error":"#N/A"},282.78999999999996,37.450000000000003,12530.12]
[]
[null,null,null,"INSTITUTO DE LA MUJER"]
[63,"3","7","MEDINA FLORES MIRIAM CONCEPCION","LEGJ",null,null,"ENCARGADA",null,null,null,null,null,null,null,15,"TARJETA",null,0,0,217.7938,{"$f":"TRUNC(U130*P130,2)","v":3266.9},{"$f":"TRUNC(U130*P130*0.04,2)","v":130.66999999999999},{"$f":"TRUNC(U130*0.07*P130,2)","v":228.68},{"$f":"S130","v":0},{"$f":"TRUNC(X130+W130+(IF(Y130>519,519,Y130))+IF(R130=0,0,R130*U130),2)","v":359.35},{"$f":"TRUNC((IF(R130=0,P130*U130,(P130-R130)*U130))+(IF(Y130<519,0,Y130-519)),2)+T130","v":3266.9},{"$f":"Z130+AA130","v":3626.25},null,null,0,{"$f":"IF(U130>0.01,(AA130-VLOOKUP(AA130,quincenal,1))*VLOOKUP(AA130,quincenal,3)+VLOOKUP(AA130,quincenal,2)-VLOOKUP(AA130,subquincenal,2),0)","v":126.25563199999996},{"$f":"TRUNC(IF(AF130>0.01,AF130,0),2)","v":126.25},{"$f":"TRUNC(IF(AF130<0.01,-AF130,0),2)","v":0},{"$f":"AB130-AD130-AE130-AG130+AH130","v":3500},{"$f":"PORTADA!$D$10","v":1},null,72]
[null,null,null,"DEPARTAMENTO DE EGRESOS",null,null,null,null,null,null,null,null,null,null,null,null,null,null,null,null,null,{"$f":"SUM(V130)","v":3266.9},130.66999999999999,228.68,0,359.35,3266.9,3626.25,0,0,0,126.25563199999996,126.25,0,3500]
[]
[null,null,null,"DEPARTAMENTO DE  INFORMATICA"]
[64,"3","12","ILLAN ARIAS CESAR","DIME",null,null,"DIRECTOR DE IDE NFORMATICA Y SISTEMAS",null,null,null,null,null,null,null,15,"TARJETA",null,0,0,260.28699999999998,{"$f":"TRUNC(U134*P134,2)","v":3904.3},{"$f":"TRUNC(U134*P134*0.04,2)","v":156.16999999999999},{"$f":"TRUNC(U134*0.07*P134,2)","v":273.3},{"$f":"S134","v":0},{"$f":"TRUNC(X134+W134+(IF(Y134>519,519,Y134))+IF(R134=0,0,R134*U134),2)","v":429.47},{"$f":"TRUNC((IF(R134=0,P134*U134,(P134-R134)*U134))+(IF(Y134<519,0,Y134-519)),2)+T134","v":3904.3},{"$f":"Z134+AA134","v":4333.7700000000004},null,null,0,{"$f":"IF(U134>0.01,(AA134-VLOOKUP(AA134,quincenal,1))*VLOOKUP(AA134,quincenal,3)+VLOOKUP(AA134,quincenal,2)-VLOOKUP(AA134,subquincenal,2),0)","v":333.77639999999997},{"$f":"TRUNC(IF(AF134>0.01,AF134,0),2)","v":333.77},{"$f":"TRUNC(IF(AF134<0.01,-AF134,0),2)","v":0},{"$f":"AB134-AD134-AE134-AG134+AH134","v":4000.0000000000005},{"$f":"PORTADA!$D$10","v":1},null,73]
[null,null,null,"BERNAL ESTRADA EDGAR FERNANDO",null,null,null,"AUXILIAR DEL DEPARTAMENTO DE NFORMATICA",null,null,null,null,null,null,null,15,"TARJETA",null,0,0,147.9015,{"$f":"TRUNC(U135*P135,2)","v":2218.52},{"$f":"TRUNC(U135*P135*0.04,2)","v":88.74},{"$f":"TRUNC(U135*0.07*P135,2)","v":155.29},{"$f":"S135","v":0},{"$f":"TRUNC(X135+W135+(IF(Y135>519,519,Y135))+IF(R135=0,0,R135*U135),2)","v":244.03},{"$f":"TRUNC((IF(R135=0,P135*U135,(P135-R135)*U135))+(IF(Y135<519,0,Y135-519)),2)+T135","v":2218.52},{"$f":"Z135+AA135","v":2462.5500000000002},null,null,null,{"$f":"IF(U135>0.01,(AA135-VLOOKUP(AA135,quincenal,1))*VLOOKUP(AA135,quincenal,3)+VLOOKUP(AA135,quincenal,2)-VLOOKUP(AA135,subquincenal,2),0)","v":-37.458112000000028},{"$f":"TRUNC(IF(AF135>0.01,AF135,0),2)","v":0},{"$f":"TRUNC(IF(AF135<0.01,-AF135,0),2)","v":37.450000000000003},{"$f":"AB135-AD135-AE135-AG135+AH135","v":2500},{"$f":"PORTADA!$D$10","v":1},null,74]
[null,null,null,"DEPARTAMENTO DE COMPUTO E INFORMATICA",null,null,null,null,null,null,null,null,null,null,null,null,null,null,null,null,null,{"$f":"SUM(V134:V135)","v":6122.82},{"$f":"SUM(W134:W135)","v":244.90999999999997},428.59000000000003,0,673.5,6122.82,6796.3200000000006,0,0,0,296.31828799999994,333.77,37.450000000000003,6500]
[]
[null,null,null,"DEPARTAMENTO DE IMPUESTO PREDIAL Y CATASTRO"]
[null,null,null,"ROBLES VENEGAS OSCAR HUMBERTO",null,null,null,"DIRECTOR",null,null,null,null,null,null,null,15,"TARJETA",null,0,0,405.53410000000002,{"$f":"TRUNC(U139*P139,2)","v":6083.01},{"$f":"TRUNC(U139*P139*0.04,2)","v":243.32},{"$f":"TRUNC(U139*0.07*P139,2)","v":425.81},{"$f":"S139","v":0},{"$f":"TRUNC(X139+W139+(IF(Y139>519,519,Y139))+IF(R139=0,0,R139*U139),2)","v":669.13},{"$f":"TRUNC((IF(R139=0,P139*U139,(P139-R139)*U139))+(IF(Y139<519,0,Y139-519)),2)+T139","v":6083.01},{"$f":"Z139+AA139","v":6752.14},null,null,0,{"$f":"IF(U139>0.01,(AA139-VLOOKUP(AA139,quincenal,1))*VLOOKUP(AA139,quincenal,3)+VLOOKUP(AA139,quincenal,2)-VLOOKUP(AA139,subquincenal,2),0)","v":752.1417600000002},{"$f":"TRUNC(IF(AF139>0.01,AF139,0),2)","v":752.14},{"$f":"TRUNC(IF(AF139<0.01,-AF139,0),2)","v":0},{"$f":"AB139-AD139-AE139-AG139+AH139","v":6000},null,null,75]
[66,"3","13","CASTELLANOS LOPEZ FRANCISCO JAVIER","CAPB801105","CAPB801105MJCMRR06","2007-01-01","SUB-DIRECTOR DE CATASTRO",null,null,null,null,null,null,null,15,"TARJETA",null,0,0,274.0419,{"$f":"TRUNC(U140*P140,2)","v":4110.62},{"$f":"TRUNC(U140*P140*0.04,2)","v":164.42},{"$f":"TRUNC(U140*0.07*P140,2)","v":287.74},{"$f":"S140","v":0},{"$f":"TRUNC(X140+W140+(IF(Y140>519,519,Y140))+IF(R140=0,0,R140*U140),2)","v":452.16},{"$f":"TRUNC((IF(R140=0,P140*U140,(P140-R140)*U140))+(IF(Y140<519,0,Y140-519)),2)+T140","v":4110.62},{"$f":"Z140+AA140","v":4562.78},null,null,0,{"$f":"IF(U140>0.01,(AA140-VLOOKUP(AA140,quincenal,1))*VLOOKUP(AA140,quincenal,3)+VLOOKUP(AA140,quincenal,2)-VLOOKUP(AA140,subquincenal,2),0)","v":366.78759999999994},{"$f":"TRUNC(IF(AF140>0.01,AF140,0),2)","v":366.78},{"$f":"TRUNC(IF(AF140<0.01,-AF140,0),2)","v":0},{"$f":"AB140-AD140-AE140-AG140+AH140","v":4196},{"$f":"PORTADA!$D$10","v":1},null,76]
[63,3,13,null,"GOME840310","GOME840310MJCNRR06","2009-01-01","SECRETARIA",null,null,null,null,null,null,null,0,"TARJETA",null,0,0,170.38,0,0,0,0,0,0,0,null,0,0,null,null,null,0,{"$f":"PORTADA!$D$10","v":1}]
[67,null,null,"GARCIA LOPEZ MARIA ESMERALDA","HEBC",null,null,"SECRETARIA EN CATASTRO",null,null,null,null,null,null,null,15,"TARJETA",null,0,0,147.369,2210.5300000000002,88.42,154.72999999999999,0,243.15,2210.5300000000002,2453.6800000000003,null,null,null,{"$f":"IF(U142>0.01,(AA142-VLOOKUP(AA142,quincenal,1))*VLOOKUP(AA142,quincenal,3)+VLOOKUP(AA142,quincenal,2)-VLOOKUP(AA142,subquincenal,2),0)","v":-38.327424000000008},{"$f":"TRUNC(IF(AF142>0.01,AF142,0),2)","v":0},{"$f":"TRUNC(IF(AF142<0.01,-AF142,0),2)","v":38.32},2492.0000000000005,null,null,77]
[null,null,null,"ORTEGA CRUZ ERIKA NARSEDALIA",null,null,null,"SECRETARIA EN CATASTRO",null,null,null,null,null,null,null,15,"TARJETA",null,0,0,147.369,{"$f":"TRUNC(U143*P143,2)","v":2210.5300000000002},{"$f":"TRUNC(U143*P143*0.04,2)","v":88.42},{"$f":"TRUNC(U143*0.07*P143,2)","v":154.72999999999999},{"$f":"S143","v":0},{"$f":"TRUNC(X143+W143+(IF(Y143>519,519,Y143))+IF(R143=0,0,R143*U143),2)","v":243.15},{"$f":"TRUNC((IF(R143=0,P143*U143,(P143-R143)*U143))+(IF(Y143<519,0,Y143-519)),2)+T143","v":2210.5300000000002},{"$f":"Z143+AA143","v":2453.6800000000003},null,null,0,{"$f":"IF(U143>0.01,(AA143-VLOOKUP(AA143,quincenal,1))*VLOOKUP(AA143,quincenal,3)+VLOOKUP(AA143,quincenal,2)-VLOOKUP(AA143,subquincenal,2),0)","v":-38.327424000000008},{"$f":"TRUNC(IF(AF143>0.01,AF143,0),2)","v":0},{"$f":"TRUNC(IF(AF143<0.01,-AF143,0),2)","v":38.32},{"$f":"AB143-AD143-AE143-AG143+AH143","v":2492.0000000000005},null,null,78]
[null,null,null,"DEPARTAMENTO DE IMPUESTO PREDIAL Y CATASTRO",null,null,null,null,null,null,null,null,null,null,null,null,null,null,null,null,null,{"$f":"SUM(V139:V143)","v":14614.690000000002},584.58000000000004,1023.01,0,1607.5900000000001,14614.690000000002,16222.28,0,0,0,1042.274512,1118.92,76.64,15180]
[]
[null,null,null,"ADMINISTRACION DE LOS SERVICIOS PUBLICOS MUNICIPALES"]
[69,null,null,"MARISCAL MORALES JESUS RICARDO","HEAM740507","HEAM740507HJCRGN04","2008-05-01","DIRECTOR DE SERVICIOS ´PÚBLICOS  MUNICIPALES",null,null,null,null,null,null,null,15,"TARJETA",null,0,0,491.06200000000001,{"$f":"TRUNC(U147*P147,2)","v":7365.93},{"$f":"TRUNC(U147*P147*0.04,2)","v":294.63},{"$f":"TRUNC(U147*0.07*P147,2)","v":515.61},{"$f":"S147","v":0},{"$f":"TRUNC(X147+W147+(IF(Y147>519,519,Y147))+IF(R147=0,0,R147*U147),2)","v":810.24},{"$f":"TRUNC((IF(R147=0,P147*U147,(P147-R147)*U147))+(IF(Y147<519,0,Y147-519)),2)+T147","v":7365.93},{"$f":"Z147+AA147","v":8176.17},null,null,0,{"$f":"IF(U147>0.01,(AA147-VLOOKUP(AA147,quincenal,1))*VLOOKUP(AA147,quincenal,3)+VLOOKUP(AA147,quincenal,2)-VLOOKUP(AA147,subquincenal,2),0)","v":1026.1734720000002},{"$f":"TRUNC(IF(AF147>0.01,AF147,0),2)","v":1026.17},{"$f":"TRUNC(IF(AF147<0.01,-AF147,0),2)","v":0},{"$f":"AB147-AD147-AE147-AG147+AH147","v":7150},{"$f":"PORTADA!$D$10","v":1},null,79]
[70,null,null,"CERVANTES VELAZCO ISAIAS","IAOR",null,null,"ENCARGADO DE MANTENIMIENTO A VEHICULOS",null,null,null,null,null,null,null,15,"TARJETA",null,0,0,295.625,{"$f":"TRUNC(U148*P148,2)","v":4434.37},{"$f":"TRUNC(U148*P148*0.04,2)","v":177.37},{"$f":"TRUNC(U148*0.07*P148,2)","v":310.39999999999998},{"$f":"S148","v":0},{"$f":"TRUNC(X148+W148+(IF(Y148>519,519,Y148))+IF(R148=0,0,R148*U148),2)","v":487.77},{"$f":"TRUNC((IF(R148=0,P148*U148,(P148-R148)*U148))+(IF(Y148<519,0,Y148-519)),2)+T148","v":4434.37},{"$f":"Z148+AA148","v":4922.1399999999994},null,null,0,{"$f":"IF(U148>0.01,(AA148-VLOOKUP(AA148,quincenal,1))*VLOOKUP(AA148,quincenal,3)+VLOOKUP(AA148,quincenal,2)-VLOOKUP(AA148,subquincenal,2),0)","v":422.14459200000005},{"$f":"TRUNC(IF(AF148>0.01,AF148,0),2)","v":422.14},{"$f":"TRUNC(IF(AF148<0.01,-AF148,0),2)","v":0},{"$f":"AB148-AD148-AE148-AG148+AH148","v":4499.9999999999991},null,null,80]
[null,null,null,"HERNANDEZ AGUIRRE JOSE MANUEL",null,null,null,"OPERADOR DE MAQUINARIA",null,null,null,null,null,null,null,15,null,null,null,null,228.53,{"$f":"TRUNC(U149*P149,2)","v":3427.95},{"$f":"TRUNC(U149*P149*0.04,2)","v":137.11000000000001},{"$f":"TRUNC(U149*0.07*P149,2)","v":239.95},{"$f":"S149","v":0},{"$f":"TRUNC(X149+W149+(IF(Y149>519,519,Y149))+IF(R149=0,0,R149*U149),2)","v":377.06},{"$f":"TRUNC((IF(R149=0,P149*U149,(P149-R149)*U149))+(IF(Y149<519,0,Y149-519)),2)+T149","v":3427.95},{"$f":"Z149+AA149","v":3805.0099999999998},null,null,0,{"$f":"IF(U149>0.01,(AA149-VLOOKUP(AA149,quincenal,1))*VLOOKUP(AA149,quincenal,3)+VLOOKUP(AA149,quincenal,2)-VLOOKUP(AA149,subquincenal,2),0)","v":143.77787199999997},{"$f":"TRUNC(IF(AF149>0.01,AF149,0),2)","v":143.77000000000001},{"$f":"TRUNC(IF(AF149<0.01,-AF149,0),2)","v":0},{"$f":"AB149-AD149-AE149-AG149+AH149","v":3661.24},null,null,81]
[80,null,null,"JUAREZ FLORES HUGO",null,null,null,"CHOFER   ",null,null,null,null,null,null,null,15,"TARJETA",null,0,0,183.15199999999999,{"$f":"TRUNC(U150*P150,2)","v":2747.28},{"$f":"TRUNC(U150*P150*0.04,2)","v":109.89},{"$f":"TRUNC(U150*0.07*P150,2)","v":192.3},{"$f":"S150","v":0},{"$f":"TRUNC(X150+W150+(IF(Y150>519,519,Y150))+IF(R150=0,0,R150*U150),2)","v":302.19},{"$f":"TRUNC((IF(R150=0,P150*U150,(P150-R150)*U150))+(IF(Y150<519,0,Y150-519)),2)+T150","v":2747.28},{"$f":"Z150+AA150","v":3049.4700000000003},null,null,0,{"$f":"IF(U150>0.01,(AA150-VLOOKUP(AA150,quincenal,1))*VLOOKUP(AA150,quincenal,3)+VLOOKUP(AA150,quincenal,2)-VLOOKUP(AA150,subquincenal,2),0)","v":49.470976000000007},{"$f":"TRUNC(IF(AF150>0.01,AF150,0),2)","v":49.47},{"$f":"TRUNC(IF(AF150<0.01,-AF150,0),2)","v":0},{"$f":"AB150-AD150-AE150-AG150+AH150","v":3000.0000000000005},null,null,82]
[null,null,null,"GARCIA MARTINEZ FRANCISCO RIGOBERTO",null,null,null,"AUX ILIAR DE LIMPIEZA PLAZA DE TOROS",null,null,null,null,null,null,null,15,"TARJETA",null,null,null,147.9015,2218.52,88.74,155.29,0,244.03,2218.52,2462.5500000000002,null,null,0,-37.458112000000028,{"$f":"TRUNC(IF(AF151>0.01,AF151,0),2)","v":0},{"$f":"TRUNC(IF(AF151<0.01,-AF151,0),2)","v":37.450000000000003},2500,null,null,84]
[null,null,null,"DOMINGUEZ HECTOR FREDDI","BECR460228","BECR460207HJCRHS07","2004-01-01","CHOFER ",null,null,null,null,null,null,null,15,"TARJETA",null,0,0,217.7938,3266.9,130.66999999999999,228.68,0,359.35,3266.9,3626.25,null,null,0,126.25563199999996,{"$f":"TRUNC(IF(AF152>0.01,AF152,0),2)","v":126.25},{"$f":"TRUNC(IF(AF152<0.01,-AF152,0),2)","v":0},3500,null,null,85]
[null,null,null,"DELGADO PACHECO RICARDO",null,null,null,"AYUDANTE",null,null,null,null,null,null,null,15,"TARJETA",null,0,0,183.15199999999999,2747.28,109.89,192.3,0,302.19,2747.28,3049.4700000000003,null,null,0,49.470976000000007,{"$f":"TRUNC(IF(AF153>0.01,AF153,0),2)","v":49.47},{"$f":"TRUNC(IF(AF153<0.01,-AF153,0),2)","v":0},3000.0000000000005,null,null,86]
[null,null,null,"JUAREZ JIMENEZ ALFREDO","BECR460228","BECR460207HJCRHS07","2004-01-01","CHOFER ",null,null,null,null,null,null,null,15,"TARJETA",null,0,0,147.9015,2218.52,88.74,155.29,0,244.03,2218.52,2462.5500000000002,null,null,null,-37.458112000000028,{"$f":"TRUNC(IF(AF154>0.01,AF154,0),2)","v":0},{"$f":"TRUNC(IF(AF154<0.01,-AF154,0),2)","v":37.450000000000003},2500,null,null,87]
[null,null,null,"MOJARRO BERUMEN ENRIQUE",null,null,null,"EMPEDRADOR",null,null,null,null,null,null,null,15,"TARJETA",null,0,0,{"$f":"2866/15","v":191.06666666666666},{"$f":"TRUNC(U155*P155,2)","v":2866},{"$f":"TRUNC(U155*P155*0.04,2)","v":114.64},{"$f":"TRUNC(U155*0.07*P155,2)","v":200.62},{"$f":"S155","v":0},{"$f":"TRUNC(X155+W155+(IF(Y155>519,519,Y155))+IF(R155=0,0,R155*U155),2)","v":315.26},{"$f":"TRUNC((IF(R155=0,P155*U155,(P155-R155)*U155))+(IF(Y155<519,0,Y155-519)),2)+T155","v":2866},{"$f":"Z155+AA155","v":3181.26},null,null,null,{"$f":"IF(U155>0.01,(AA155-VLOOKUP(AA155,quincenal,1))*VLOOKUP(AA155,quincenal,3)+VLOOKUP(AA155,quincenal,2)-VLOOKUP(AA155,subquincenal,2),0)","v":62.387711999999993},{"$f":"TRUNC(IF(AF155>0.01,AF155,0),2)","v":62.38},{"$f":"TRUNC(IF(AF155<0.01,-AF155,0),2)","v":0},{"$f":"AB155-AD155-AE155-AG155+AH155","v":3118.88},null,null,88]
[null,null,null,"FERREL ALCANTAR EDMUNDO",null,null,null,"EMPEDRADOR",null,null,null,null,null,null,null,15,"TARJETA",null,0,0,{"$f":"2866/15","v":191.06666666666666},2866,114.64,200.62,0,315.26,2866,3181.26,null,null,null,62.387711999999993,62.38,0,3118.88,null,null,89]
[null,null,null,"NAVARRO GUTIERREZ MOISES EDMUNDO",null,null,null,"AYUDANTE",null,null,null,null,null,null,null,15,"TARJETA",null,0,0,{"$f":"2222/15","v":148.13333333333333},2222,88.88,155.54,0,244.42,2222,2466.42,null,null,null,{"$f":"IF(U157>0.01,(AA157-VLOOKUP(AA157,quincenal,1))*VLOOKUP(AA157,quincenal,3)+VLOOKUP(AA157,quincenal,2)-VLOOKUP(AA157,subquincenal,2),0)","v":-37.079488000000026},0,37.07,2503.4900000000002,null,null,90]
[null,null,null,"GALLEGOS RIVAS ADRIAN",null,null,null,"AYUDANTE",null,null,null,null,null,null,null,14,"TARJETA",null,0,0,{"$f":"2222/15","v":148.13333333333333},2073.86,82.95,145.16999999999999,0,228.12,2073.86,2301.98,null,null,null,-66.990799999999965,0,66.989999999999995,2368.9699999999998,null,null,91]
[null,null,null,"RAMIREZ GARCIA J. JESUS",null,null,null,"AYUDANTE",null,null,null,null,null,null,null,15,"TARJETA",null,0,0,{"$f":"2222/15","v":148.13333333333333},2222,88.88,155.54,0,244.42,2222,2466.42,null,null,null,-37.079488000000026,0,37.07,2503.4900000000002,null,null,92]
[null,null,null,"ORENDAIN BERNAL ROBERTO",null,null,null,"AYUDANTE",null,null,null,null,null,null,null,15,"TARJETA",null,0,0,{"$f":"2222/15","v":148.13333333333333},2222,88.88,155.54,0,244.42,2222,2466.42,null,null,null,-37.079488000000026,0,37.07,2503.4900000000002,null,null,93]
[null,null,null,"ACEVEDO OCHOA J. GUADALUPE",null,null,null,"ALMACENISTA",null,null,null,null,null,null,null,15,"TARJETA",null,0,0,183.15199999999999,{"$f":"TRUNC(U161*P161,2)","v":2747.28},{"$f":"TRUNC(U161*P161*0.04,2)","v":109.89},{"$f":"TRUNC(U161*0.07*P161,2)","v":192.3},{"$f":"S161","v":0},{"$f":"TRUNC(X161+W161+(IF(Y161>519,519,Y161))+IF(R161=0,0,R161*U161),2)","v":302.19},{"$f":"TRUNC((IF(R161=0,P161*U161,(P161-R161)*U161))+(IF(Y161<519,0,Y161-519)),2)+T161","v":2747.28},{"$f":"Z161+AA161","v":3049.4700000000003},null,null,0,{"$f":"IF(U161>0.01,(AA161-VLOOKUP(AA161,quincenal,1))*VLOOKUP(AA161,quincenal,3)+VLOOKUP(AA161,quincenal,2)-VLOOKUP(AA161,subquincenal,2),0)","v":49.470976000000007},{"$f":"TRUNC(IF(AF161>0.01,AF161,0),2)","v":49.47},{"$f":"TRUNC(IF(AF161<0.01,-AF161,0),2)","v":0},{"$f":"AB161-AD161-AE161-AG161+AH161","v":3000.0000000000005},null,null,94]
[null,null,null,null,null,null,null,null,null,null,null,null,null,null,null,null,"TARJETA",null,0,0,{"$f":"1989/15","v":132.6},{"$f":"TRUNC(U162*P162,2)","v":0},{"$f":"TRUNC(U162*P162*0.04,2)","v":0},{"$f":"TRUNC(U162*0.07*P162,2)","v":0},{"$f":"S162","v":0},{"$f":"TRUNC(X162+W162+(IF(Y162>519,519,Y162))+IF(R162=0,0,R162*U162),2)","v":0},{"$f":"TRUNC((IF(R162=0,P162*U162,(P162-R162)*U162))+(IF(Y162<519,0,Y162-519)),2)+T162","v":0},{"$f":"Z162+AA162","v":0},null,null,null,{"$f":"IF(U162>0.01,(AA162-VLOOKUP(AA162,quincenal,1))*VLOOKUP(AA162,quincenal,3)+VLOOKUP(AA162,quincenal,2)-VLOOKUP(AA162,subquincenal,2),0)","v":{"$error":"#N/A"}},null,null,{"$f":"AB162-AD162-AE162-AG162+AH162","v":0},null,null,95]
[null,null,null,"ARQUIETA VADILLO ARTURO","AUVA551030FJ0","AUVA551030HJCRDR15",null,"PINTOR GENERAL",null,null,null,null,null,null,null,15,"SOBRE",null,0,0,{"$f":"4527/15","v":301.8},4527,181.08,316.89,{"$f":"S163","v":0},497.97,4527,{"$f":"Z163+AA163","v":5024.97},null,500,null,{"$f":"IF(U163>0.01,(AA163-VLOOKUP(AA163,quincenal,1))*VLOOKUP(AA163,quincenal,3)+VLOOKUP(AA163,quincenal,2)-VLOOKUP(AA163,subquincenal,2),0)","v":438.74388800000008},{"$f":"TRUNC(IF(AF163>0.01,AF163,0),2)","v":438.74},{"$f":"TRUNC(IF(AF163<0.01,-AF163,0),2)","v":0},{"$f":"AB163-AD163-AE163-AG163+AH163","v":4086.2300000000005},null,null,96]
[null,null,null,"ADMINISTRACION DE LOS SERVICIOS PUBLICOS MUNICIPALES",null,null,null,null,null,null,null,null,null,null,null,null,null,null,null,null,null,{"$f":"SUM(V147:V163)","v":50172.89},{"$f":"SUM(W147:W163)","v":2006.8800000000003},3512.04,0,5518.92,50172.89,55691.810000000005,0,500,0,{"$error":"#N/A"},2430.2400000000002,253.09999999999997,53014.67]
[null,null,null,"DIRECCION GENERAL  DE OBRAS PUBLICAS"]
[83,"4","1","DAVALOS SALCEDO MIGUEL CARLOS",null,null,null,"DIRECTOR DE OBRAS PÚBLICAS",null,null,null,null,null,null,null,15,"TARJETA",null,0,0,479.90589999999997,{"$f":"TRUNC(U166*P166,2)","v":7198.58},{"$f":"TRUNC(U166*P166*0.04,2)","v":287.94},{"$f":"TRUNC(U166*0.07*P166,2)","v":503.9},{"$f":"S166","v":0},{"$f":"TRUNC(X166+W166+(IF(Y166>519,519,Y166))+IF(R166=0,0,R166*U166),2)","v":791.84},{"$f":"TRUNC((IF(R166=0,P166*U166,(P166-R166)*U166))+(IF(Y166<519,0,Y166-519)),2)+T166","v":7198.58},{"$f":"Z166+AA166","v":7990.42},null,null,0,{"$f":"IF(U166>0.01,(AA166-VLOOKUP(AA166,quincenal,1))*VLOOKUP(AA166,quincenal,3)+VLOOKUP(AA166,quincenal,2)-VLOOKUP(AA166,subquincenal,2),0)","v":990.42751200000009},{"$f":"TRUNC(IF(AF166>0.01,AF166,0),2)","v":990.42},{"$f":"TRUNC(IF(AF166<0.01,-AF166,0),2)","v":0},{"$f":"AB166-AD166-AE166-AG166+AH166","v":7000},{"$f":"PORTADA!$D$10","v":1},null,97]
[null,null,null,"GUTIERREZ MARTINEZ JORGE",null,null,null,"SUB DIRECTOR DE OBRAS PÚBLICAS",null,null,null,null,null,null,null,15,"TARJETA",null,0,0,331.43599999999998,{"$f":"TRUNC(U167*P167,2)","v":4971.54},{"$f":"TRUNC(U167*P167*0.04,2)","v":198.86},{"$f":"TRUNC(U167*0.07*P167,2)","v":348},{"$f":"S167","v":0},{"$f":"TRUNC(X167+W167+(IF(Y167>519,519,Y167))+IF(R167=0,0,R167*U167),2)","v":546.86},{"$f":"TRUNC((IF(R167=0,P167*U167,(P167-R167)*U167))+(IF(Y167<519,0,Y167-519)),2)+T167","v":4971.54},{"$f":"Z167+AA167","v":5518.4},null,null,0,{"$f":"IF(U167>0.01,(AA167-VLOOKUP(AA167,quincenal,1))*VLOOKUP(AA167,quincenal,3)+VLOOKUP(AA167,quincenal,2)-VLOOKUP(AA167,subquincenal,2),0)","v":518.40545600000007},{"$f":"TRUNC(IF(AF167>0.01,AF167,0),2)","v":518.4},{"$f":"TRUNC(IF(AF167<0.01,-AF167,0),2)","v":0},{"$f":"AB167-AD167-AE167-AG167+AH167","v":5000},null,null,98]
[null,null,null,"FLORES IÑIGUEZ JUAN RAYMUNDO","FOIJ8508313Z1","FOIJ850831HJCLXN07","2007-01-01","SUB-DIRECTOR DESARROLLO URBANO",null,null,null,null,null,null,null,15,"TARJETA",null,0,0,{"$f":"3741/15","v":249.4},3741,149.63999999999999,261.87,0,411.51,3741,4152.51,null,null,0,{"$f":"IF(U168>0.01,(AA168-VLOOKUP(AA168,quincenal,1))*VLOOKUP(AA168,quincenal,3)+VLOOKUP(AA168,quincenal,2)-VLOOKUP(AA168,subquincenal,2),0)","v":307.64839999999998},307.64,0,3844.8700000000003,{"$f":"[2]PORTADA!$D$10","v":1},null,99]
[null,null,null,"RENTERIA MENDEZ FRANCISCO","REMF850816I26","REMF850816HJCNNR00","2008-03-05","AUXILIAR DE DIRECCIÓN",null,null,null,null,null,null,null,15,"TARJETA",null,0,0,{"$f":"4385/15","v":292.33333333333331},4385,175.4,306.95,0,482.35,4385,4867.3500000000004,null,null,0,413.29748800000004,413.29,0,4454.0600000000004,{"$f":"[2]PORTADA!$D$10","v":1},null,100]
[null,null,null,null,null,null,null,null,null,null,null,null,null,null,null,null,null,null,null,null,{"$f":"2411.14/15","v":160.74266666666665},null,null,null,{"$f":"S170","v":0},{"$f":"TRUNC(X170+W170+(IF(Y170>519,519,Y170))+IF(R170=0,0,R170*U170),2)","v":0},{"$f":"TRUNC((IF(R170=0,P170*U170,(P170-R170)*U170))+(IF(Y170<519,0,Y170-519)),2)+T170","v":0},{"$f":"Z170+AA170","v":0},null,null,null,{"$f":"IF(U170>0.01,(AA170-VLOOKUP(AA170,quincenal,1))*VLOOKUP(AA170,quincenal,3)+VLOOKUP(AA170,quincenal,2)-VLOOKUP(AA170,subquincenal,2),0)","v":{"$error":"#N/A"}},null,null,{"$f":"AB170-AD170-AE170-AG170+AH170","v":0},null,null,101]
[null,null,null,"NOLASCO VALLE ARTURO","NOVA",null,null,"CHOFER   ",null,null,null,null,null,null,null,15,"TARJETA",null,0,0,{"$f":"2866/15","v":191.06666666666666},2866,114.64,200.62,0,315.26,2866,3181.26,null,0,0,{"$f":"IF(U171>0.01,(AA171-VLOOKUP(AA171,quincenal,1))*VLOOKUP(AA171,quincenal,3)+VLOOKUP(AA171,quincenal,2)-VLOOKUP(AA171,subquincenal,2),0)","v":62.387711999999993},62.38,0,3118.88,{"$f":"[2]PORTADA!$D$10","v":1},null,102]
[null,null,null,{"$f":"D165","v":"DIRECCION GENERAL  DE OBRAS PUBLICAS"},null,null,null,null,null,null,null,null,null,null,null,null,null,null,null,null,null,{"$f":"SUM(V166:V171)","v":23162.12},{"$f":"SUM(W166:W171)","v":926.48},1621.3400000000001,0,2547.8199999999997,23162.12,25709.940000000002,0,0,0,{"$error":"#N/A"},2292.13,0,23417.81]
[]
[null,null,null,"DEPARTAMENTO DE CEMENTERIOS"]
[null,null,null,"ILLAN RUIZ FERNANDO","RIOA520619","RIOA520619HJCVRD05",null,"ADMINISTRADOR DE CEMENTERIOS",null,null,null,null,null,null,null,15,"TARJETA",null,0,0,217.7938,{"$f":"TRUNC(U175*P175,2)","v":3266.9},{"$f":"TRUNC(U175*P175*0.04,2)","v":130.66999999999999},{"$f":"TRUNC(U175*0.07*P175,2)","v":228.68},{"$f":"S175","v":0},{"$f":"TRUNC(X175+W175+(IF(Y175>519,519,Y175))+IF(R175=0,0,R175*U175),2)","v":359.35},{"$f":"TRUNC((IF(R175=0,P175*U175,(P175-R175)*U175))+(IF(Y175<519,0,Y175-519)),2)+T175","v":3266.9},{"$f":"Z175+AA175","v":3626.25},null,null,0,{"$f":"IF(U175>0.01,(AA175-VLOOKUP(AA175,quincenal,1))*VLOOKUP(AA175,quincenal,3)+VLOOKUP(AA175,quincenal,2)-VLOOKUP(AA175,subquincenal,2),0)","v":126.25563199999996},{"$f":"TRUNC(IF(AF175>0.01,AF175,0),2)","v":126.25},{"$f":"TRUNC(IF(AF175<0.01,-AF175,0),2)","v":0},{"$f":"AB175-AD175-AE175-AG175+AH175","v":3500},null,null,103]
[null,null,null,"MURILLO SUAREZ HECTOR","RIOA520619","RIOA520619HJCVRD05",null,"AYUDANTE DE CEMENTERIOS",null,null,null,null,null,null,null,15,"TARJETA",null,0,0,113.977,{"$f":"TRUNC(U176*P176,2)","v":1709.65},{"$f":"TRUNC(U176*P176*0.04,2)","v":68.38},{"$f":"TRUNC(U176*0.07*P176,2)","v":119.67},{"$f":"S176","v":0},{"$f":"TRUNC(X176+W176+(IF(Y176>519,519,Y176))+IF(R176=0,0,R176*U176),2)","v":188.05},{"$f":"TRUNC((IF(R176=0,P176*U176,(P176-R176)*U176))+(IF(Y176<519,0,Y176-519)),2)+T176","v":1709.65},{"$f":"Z176+AA176","v":1897.7},null,null,0,{"$f":"IF(U176>0.01,(AA176-VLOOKUP(AA176,quincenal,1))*VLOOKUP(AA176,quincenal,3)+VLOOKUP(AA176,quincenal,2)-VLOOKUP(AA176,subquincenal,2),0)","v":-102.30023999999997},0,{"$f":"TRUNC(IF(AF176<0.01,-AF176,0),2)","v":102.3},{"$f":"AB176-AD176-AE176-AG176+AH176","v":2000},null,null,104]
[null,null,null,"HERNANDEZ BAILON JUAN ALFREDO",null,null,null,null,null,null,null,null,null,null,null,15,"TARJETA",null,0,0,113.977,{"$f":"TRUNC(U177*P177,2)","v":1709.65},{"$f":"TRUNC(U177*P177*0.04,2)","v":68.38},{"$f":"TRUNC(U177*0.07*P177,2)","v":119.67},{"$f":"S177","v":0},{"$f":"TRUNC(X177+W177+(IF(Y177>519,519,Y177))+IF(R177=0,0,R177*U177),2)","v":188.05},{"$f":"TRUNC((IF(R177=0,P177*U177,(P177-R177)*U177))+(IF(Y177<519,0,Y177-519)),2)+T177","v":1709.65},{"$f":"Z177+AA177","v":1897.7},null,null,0,{"$f":"IF(U177>0.01,(AA177-VLOOKUP(AA177,quincenal,1))*VLOOKUP(AA177,quincenal,3)+VLOOKUP(AA177,quincenal,2)-VLOOKUP(AA177,subquincenal,2),0)","v":-102.30023999999997},0,{"$f":"TRUNC(IF(AF177<0.01,-AF177,0),2)","v":102.3},{"$f":"AB177-AD177-AE177-AG177+AH177","v":2000},null,null,105]
[91,"5","2","FAJARDO LOPEZ JORGE ANTONIO","RIOA520619","RIOA520619HJCVRD05",null,"ADMINISTRADOR DE CEMENTERIOS",null,null,null,null,null,null,null,15,"TARJETA",null,0,0,113.977,{"$f":"TRUNC(U178*P178,2)","v":1709.65},{"$f":"TRUNC(U178*P178*0.04,2)","v":68.38},{"$f":"TRUNC(U178*0.07*P178,2)","v":119.67},{"$f":"S178","v":0},{"$f":"TRUNC(X178+W178+(IF(Y178>519,519,Y178))+IF(R178=0,0,R178*U178),2)","v":188.05},{"$f":"TRUNC((IF(R178=0,P178*U178,(P178-R178)*U178))+(IF(Y178<519,0,Y178-519)),2)+T178","v":1709.65},{"$f":"Z178+AA178","v":1897.7},null,null,0,{"$f":"IF(U178>0.01,(AA178-VLOOKUP(AA178,quincenal,1))*VLOOKUP(AA178,quincenal,3)+VLOOKUP(AA178,quincenal,2)-VLOOKUP(AA178,subquincenal,2),0)","v":-102.30023999999997},0,{"$f":"TRUNC(IF(AF178<0.01,-AF178,0),2)","v":102.3},{"$f":"AB178-AD178-AE178-AG178+AH178","v":2000},{"$f":"PORTADA!$D$10","v":1},null,106]
[null,null,null,"DEPARTAMENTO DE CEMENTERIOS",null,null,null,null,null,null,null,null,null,null,null,null,null,null,null,null,null,{"$f":"SUM(V175:V178)","v":8395.85},335.80999999999995,587.69000000000005,0,923.5,8395.85,9319.35,0,0,0,-180.64508799999996,126.25,306.89999999999998,9500]
[]
[null,null,null,"DEPARTAMENTO DE RASTRO"]
[null,null,null,"LOPEZ VILLEGAS J. JESUS","LOVJ470602UN7","LOVJ470602HJCPLS07",null,"GUARDA RASTRO",null,null,null,null,null,null,null,15,"TARJETA",null,0,0,{"$f":"2367/15","v":157.80000000000001},{"$f":"TRUNC(U182*P182,2)","v":2367},{"$f":"TRUNC(U182*P182*0.04,2)","v":94.68},{"$f":"TRUNC(U182*0.07*P182,2)","v":165.69},{"$f":"S182","v":0},{"$f":"TRUNC(X182+W182+(IF(Y182>519,519,Y182))+IF(R182=0,0,R182*U182),2)","v":260.37},{"$f":"TRUNC((IF(R182=0,P182*U182,(P182-R182)*U182))+(IF(Y182<519,0,Y182-519)),2)+T182","v":2367},{"$f":"Z182+AA182","v":2627.37},null,null,0,{"$f":"IF(U182>0.01,(AA182-VLOOKUP(AA182,quincenal,1))*VLOOKUP(AA182,quincenal,3)+VLOOKUP(AA182,quincenal,2)-VLOOKUP(AA182,subquincenal,2),0)","v":-6.9034880000000101},{"$f":"TRUNC(IF(AF182>0.01,AF182,0),2)","v":0},{"$f":"TRUNC(IF(AF182<0.01,-AF182,0),2)","v":6.9},{"$f":"AB182-AD182-AE182-AG182+AH182","v":2634.27},{"$f":"[2]PORTADA!$D$10","v":1},null,107]
[null,null,null,"FREGOSO BARBOZA CARLOS RAFAEL","PARR",null,null,"VETERINARIO",null,null,null,null,null,null,null,15,"TARJETA",null,0,0,{"$f":"3669/15","v":244.6},{"$f":"TRUNC(U183*P183,2)","v":3669},{"$f":"TRUNC(U183*P183*0.04,2)","v":146.76},{"$f":"TRUNC(U183*0.07*P183,2)","v":256.83},{"$f":"S183","v":0},{"$f":"TRUNC(X183+W183+(IF(Y183>519,519,Y183))+IF(R183=0,0,R183*U183),2)","v":403.59},{"$f":"TRUNC((IF(R183=0,P183*U183,(P183-R183)*U183))+(IF(Y183<519,0,Y183-519)),2)+T183","v":3669},{"$f":"Z183+AA183","v":4072.59},null,null,0,{"$f":"IF(U183>0.01,(AA183-VLOOKUP(AA183,quincenal,1))*VLOOKUP(AA183,quincenal,3)+VLOOKUP(AA183,quincenal,2)-VLOOKUP(AA183,subquincenal,2),0)","v":296.12839999999994},{"$f":"TRUNC(IF(AF183>0.01,AF183,0),2)","v":296.12},{"$f":"TRUNC(IF(AF183<0.01,-AF183,0),2)","v":0},{"$f":"AB183-AD183-AE183-AG183+AH183","v":3776.4700000000003},{"$f":"[2]PORTADA!$D$10","v":1},null,108]
[null,null,null,"MARTINEZ TORRES JUSTINO","MATJ",null,null,"AUXILIAR DE MENTENIMIENTO",null,null,null,null,null,null,null,15,"TARJETA",null,0,0,{"$f":"1591/15","v":106.06666666666666},{"$f":"TRUNC(U184*P184,2)","v":1591},{"$f":"TRUNC(U184*P184*0.04,2)","v":63.64},{"$f":"TRUNC(U184*0.07*P184,2)","v":111.37},{"$f":"S184","v":0},{"$f":"TRUNC(X184+W184+(IF(Y184>519,519,Y184))+IF(R184=0,0,R184*U184),2)","v":175.01},{"$f":"TRUNC((IF(R184=0,P184*U184,(P184-R184)*U184))+(IF(Y184<519,0,Y184-519)),2)+T184","v":1591},{"$f":"Z184+AA184","v":1766.01},null,null,0,{"$f":"IF(U184>0.01,(AA184-VLOOKUP(AA184,quincenal,1))*VLOOKUP(AA184,quincenal,3)+VLOOKUP(AA184,quincenal,2)-VLOOKUP(AA184,subquincenal,2),0)","v":-109.89383999999998},{"$f":"TRUNC(IF(AF184>0.01,AF184,0),2)","v":0},{"$f":"TRUNC(IF(AF184<0.01,-AF184,0),2)","v":109.89},{"$f":"AB184-AD184-AE184-AG184+AH184","v":1875.9},null,null,109]
[null,null,null,"DEPARTAMENTO DE RASTRO",null,null,null,null,null,null,null,null,null,null,null,null,null,null,null,null,null,{"$f":"SUM(V182:V184)","v":7627},{"$f":"SUM(W182:W184)","v":305.08},533.89,0,838.97,7627,8465.9699999999993,0,0,0,179.33107199999992,296.12,116.79,8286.64,2,0]
[]
[]
[null,null,null,"DEPARTAMENTO DE ASEO PUBLICO"]
[97,"5","7","NAVARRO HERNANDEZ SOSTENES","HUAB811011","HUAB810114HJCRGR01","2007-02-01","SUPERVISOR DE ASEO PUBLICO",null,null,null,null,null,null,null,15,"TARJETA",null,0,0,196.46899999999999,{"$f":"TRUNC(U189*P189,2)","v":2947.03},{"$f":"TRUNC(U189*P189*0.04,2)","v":117.88},{"$f":"TRUNC(U189*0.07*P189,2)","v":206.29},{"$f":"S189","v":0},{"$f":"TRUNC(X189+W189+(IF(Y189>519,519,Y189))+IF(R189=0,0,R189*U189),2)","v":324.17},{"$f":"TRUNC((IF(R189=0,P189*U189,(P189-R189)*U189))+(IF(Y189<519,0,Y189-519)),2)+T189","v":2947.03},{"$f":"Z189+AA189","v":3271.2000000000003},null,null,0,{"$f":"IF(U189>0.01,(AA189-VLOOKUP(AA189,quincenal,1))*VLOOKUP(AA189,quincenal,3)+VLOOKUP(AA189,quincenal,2)-VLOOKUP(AA189,subquincenal,2),0)","v":71.203776000000005},{"$f":"TRUNC(IF(AF189>0.01,AF189,0),2)","v":71.2},{"$f":"TRUNC(IF(AF189<0.01,-AF189,0),2)","v":0},{"$f":"AB189-AD189-AE189-AG189+AH189","v":3200.0000000000005},{"$f":"PORTADA!$D$10","v":1},null,112]
[null,null,null,"HUERTA AGUILA BERNARDINO","HUAB811011","HUAB810114HJCRGR01","2007-02-01","RECOLECTOR ASEO PUBLICO",null,null,null,null,null,null,null,15,"TARJETA",null,0,0,{"$f":"2222/15","v":148.13333333333333},2222,88.88,155.54,0,244.42,2222,2466.42,null,null,0,{"$f":"IF(U190>0.01,(AA190-VLOOKUP(AA190,quincenal,1))*VLOOKUP(AA190,quincenal,3)+VLOOKUP(AA190,quincenal,2)-VLOOKUP(AA190,subquincenal,2),0)","v":-37.079488000000026},0,37.07,2503.4900000000002,{"$f":"[2]PORTADA!$D$10","v":1},null,113]
[null,null,null,"GRACIA GOMEZ JAVIER","GAGJ731114","GAGJ731114HJCRMV00","2004-01-01","RECOLECTOR ASEO PUBLICO",null,null,null,null,null,null,null,14,"TARJETA",null,0,0,{"$f":"2222/15","v":148.13333333333333},2073.86,82.95,145.16999999999999,0,228.12,2073.86,2301.98,null,null,0,-66.990799999999965,0,66.989999999999995,2368.9699999999998,{"$f":"[2]PORTADA!$D$10","v":1},null,114]
[null,null,null,"FREGOZO ALVARADO ALFONSO","FEAA650918","FEAA650818HJCRLL05","2003-01-01","RECOLECTOR ASEO PUBLICO",null,null,null,null,null,null,null,15,"TARJETA",null,0,0,148.13333333333333,2222,88.88,155.54,0,244.42,2222,2466.42,null,null,0,-37.079488000000026,0,37.07,2503.4900000000002,{"$f":"[2]PORTADA!$D$10","v":1},null,115]
[null,null,null,"TELLEZ GOMEZ VICENTE",null,null,null,"RECOLECTOR ASEO PUBLICO",null,null,null,null,null,null,null,15,"TARJETA",null,0,0,148.13333333333333,2222,88.88,155.54,{"$f":"S193","v":0},244.42,2222,{"$f":"Z193+AA193","v":2466.42},null,0,0,{"$f":"IF(U193>0.01,(AA193-VLOOKUP(AA193,quincenal,1))*VLOOKUP(AA193,quincenal,3)+VLOOKUP(AA193,quincenal,2)-VLOOKUP(AA193,subquincenal,2),0)","v":-37.079488000000026},0,{"$f":"TRUNC(IF(AF193<0.01,-AF193,0),2)","v":37.07},{"$f":"AB193-AD193-AE193-AG193+AH193","v":2503.4900000000002},null,null,116]
[null,null,null,"MARTINEZ VEJAR JUAN JOSE","MAVJ710822","MAVJ710822HJCRJN04","2004-01-01","CHOFER ASEO PUBLICO",null,null,null,null,null,null,null,15,"TARJETA",null,0,0,{"$f":"2659/15","v":177.26666666666668},2659,106.36,186.13,{"$f":"S194","v":0},292.49,2659,{"$f":"Z194+AA194","v":2951.49},null,null,0,{"$f":"IF(U194>0.01,(AA194-VLOOKUP(AA194,quincenal,1))*VLOOKUP(AA194,quincenal,3)+VLOOKUP(AA194,quincenal,2)-VLOOKUP(AA194,subquincenal,2),0)","v":39.866111999999987},39.86,{"$f":"TRUNC(IF(AF194<0.01,-AF194,0),2)","v":0},{"$f":"AB194-AD194-AE194-AG194+AH194","v":2911.6299999999997},{"$f":"[2]PORTADA!$D$10","v":1},null,117]
[null,null,null,"HERNANDEZ RICO JUAN JOSE","MATM450918","MATM451028HJCRRG08","2004-01-01","CHOFER ASEO PUBLICO",null,null,null,null,null,null,null,15,"TARJETA",null,0,0,{"$f":"2745/15","v":183},2745,109.8,192.15,0,301.95,2745,3046.95,null,null,0,49.22291199999998,{"$f":"TRUNC(IF(AF195>0.01,AF195,0),2)","v":49.22},{"$f":"TRUNC(IF(AF195<0.01,-AF195,0),2)","v":0},2997.73,{"$f":"[2]PORTADA!$D$10","v":1},null,118]
[null,null,null,"RICO ARCE VICTOR","BECR460228","BECR460207HJCRHS07","2004-01-01","CHOFER ASEO PUBLICO",null,null,null,null,null,null,null,15,"TARJETA",null,0,0,{"$f":"2745/15","v":183},2745,109.8,192.15,0,301.95,2745,3046.95,null,null,0,49.22291199999998,{"$f":"TRUNC(IF(AF196>0.01,AF196,0),2)","v":49.22},{"$f":"TRUNC(IF(AF196<0.01,-AF196,0),2)","v":0},2997.73,null,null,119]
[null,null,null,"MENDEZ GARCIA MIGUEL ANGEL","MEGM851109","MEGM851109HJCNRG03","2009-01-16","AUX. DE LIMPIEZA GRAL. ",null,null,null,null,null,null,null,14,"TARJETA",null,0,0,{"$f":"2745/15","v":183},2562,102.48,179.34,0,281.82,2562,2843.82,null,null,0,14.312511999999998,14.31,0,2829.51,{"$f":"[2]PORTADA!$D$10","v":1},null,120]
[null,null,null,"CISNEROS VAZQUEZ RAMIRO","CIVR540430","CIVR540430HJCSZM04","2007-01-01","RECOLECTOR ASEO PUBLICO",null,null,null,null,null,null,null,15,"TARJETA",null,0,0,{"$f":"2222/15","v":148.13333333333333},2222,88.88,155.54,0,244.42,2222,2466.42,null,null,0,-37.079488000000026,0,37.07,2503.4900000000002,{"$f":"[2]PORTADA!$D$10","v":1},null,121]
[null,null,null,"DEPARTAMENTO DE ASEO PUBLICO",null,null,null,null,null,null,null,null,null,null,null,null,null,null,null,null,null,{"$f":"SUM(V189:V198)","v":24619.89},{"$f":"SUM(W189:W198)","v":984.78999999999985},1723.3899999999999,0,2708.1800000000003,24619.89,27328.07,0,0,0,8.5194719999998796,223.81,215.26999999999998,27319.530000000002]
[]
[null,null,null,"DEPARTAMENTO DE PARQUES Y JARDINES"]
[107,"5","8","NAVARRO HUERTA ISIDRO","HUCR450811","HUCR450831HJCRRM08","2004-01-01","SUPERVISOR DE PARQUES Y JARDINES",null,null,null,null,null,null,null,15,"TARJETA",null,0,0,196.46899999999999,{"$f":"TRUNC(U202*P202,2)","v":2947.03},{"$f":"TRUNC(U202*P202*0.04,2)","v":117.88},{"$f":"TRUNC(U202*0.07*P202,2)","v":206.29},{"$f":"S202","v":0},{"$f":"TRUNC(X202+W202+(IF(Y202>519,519,Y202))+IF(R202=0,0,R202*U202),2)","v":324.17},{"$f":"TRUNC((IF(R202=0,P202*U202,(P202-R202)*U202))+(IF(Y202<519,0,Y202-519)),2)+T202","v":2947.03},{"$f":"Z202+AA202","v":3271.2000000000003},null,null,0,{"$f":"IF(U202>0.01,(AA202-VLOOKUP(AA202,quincenal,1))*VLOOKUP(AA202,quincenal,3)+VLOOKUP(AA202,quincenal,2)-VLOOKUP(AA202,subquincenal,2),0)","v":71.203776000000005},{"$f":"TRUNC(IF(AF202>0.01,AF202,0),2)","v":71.2},{"$f":"TRUNC(IF(AF202<0.01,-AF202,0),2)","v":0},{"$f":"AB202-AD202-AE202-AG202+AH202","v":3200.0000000000005},{"$f":"PORTADA!$D$10","v":1},null,122]
[null,null,null,"HUERTA CORTES RAMON","HUCR450811","HUCR450831HJCRRM08","2004-01-01","JARDINERO",null,null,null,null,null,null,null,15,"TARJETA",null,0,0,{"$f":"2307/15","v":153.80000000000001},2307,92.28,161.49,0,253.77,2307,2560.77,null,null,0,{"$f":"IF(U203>0.01,(AA203-VLOOKUP(AA203,quincenal,1))*VLOOKUP(AA203,quincenal,3)+VLOOKUP(AA203,quincenal,2)-VLOOKUP(AA203,subquincenal,2),0)","v":-27.831488000000036},0,27.83,2588.6,{"$f":"[2]PORTADA!$D$10","v":1},null,123]
[null,null,null,"SILVA PINTO J ASUNCIÓN","SIPA400815","SIPA400815HJCLNS02","2004-01-01","JARDINERO",null,null,null,null,null,null,null,15,"TARJETA",null,0,0,{"$f":"2222/15","v":148.13333333333333},2222,88.88,155.54,0,244.42,2222,2466.42,null,null,0,-37.079488000000026,0,37.07,2503.4900000000002,{"$f":"[2]PORTADA!$D$10","v":1},null,124]
[null,null,null,"MILLAN GARCIA J. JESUS",null,null,null,"JARDINERO",null,null,null,null,null,null,null,15,"TARJETA",null,0,0,{"$f":"2222/15","v":148.13333333333333},2222,88.88,155.54,0,244.42,2222,2466.42,null,null,0,-37.079488000000026,0,37.07,2503.4900000000002,null,null,125]
[null,null,null,"MARTINEZ CRUZ JUAN",null,null,null,"JARDINERO",null,null,null,null,null,null,null,15,"TARJETA",null,0,0,148.13333333333333,2222,88.88,155.54,0,244.42,2222,2466.42,null,0,0,-37.079488000000026,0,37.07,2503.4900000000002,null,null,126]
[null,null,null,"ACOSTA MURILLO JOAQUIN",null,null,null,"JARDINERO",null,null,null,null,null,null,null,15,"TARJETA",null,0,0,148.13333333333333,2222,88.88,155.54,0,244.42,2222,2466.42,null,null,0,-37.079488000000026,0,37.07,2503.4900000000002,null,null,127]
[null,null,null,"REGALADO BAÑUELOS FRANCISCO","REBF441211","REBF441211HJCGXR05","2005-01-01","BARRENDERO",null,null,null,null,null,null,null,15,"TARJETA",null,0,0,148.13333333333333,2222,88.88,155.54,0,244.42,2222,2466.42,null,null,0,-37.079488000000026,{"$f":"TRUNC(IF(AF208>0.01,AF208,0),2)","v":0},37.07,2503.4900000000002,{"$f":"[2]PORTADA!$D$10","v":1},null,128]
[null,null,null,"RUIZ MUÑOZ LUIS","RUML530529GL7","RUML530529HJCZXS03","2006-01-01","VIGILANTE",null,null,null,null,null,null,null,15,"TARJETA",null,0,0,{"$f":"2118/15","v":141.19999999999999},2118,84.72,148.26,{"$f":"S209","v":0},232.98,2118,{"$f":"Z209+AA209","v":2350.98},null,0,0,{"$f":"IF(U209>0.01,(AA209-VLOOKUP(AA209,quincenal,1))*VLOOKUP(AA209,quincenal,3)+VLOOKUP(AA209,quincenal,2)-VLOOKUP(AA209,subquincenal,2),0)","v":-62.344688000000005},{"$f":"TRUNC(IF(AF209>0.01,AF209,0),2)","v":0},{"$f":"TRUNC(IF(AF209<0.01,-AF209,0),2)","v":62.34},{"$f":"AB209-AD209-AE209-AG209+AH209","v":2413.3200000000002},null,null,129]
[null,null,null,"AYALA RODRIGUEZ MIGUEL ANGEL","AARM690504","AARM690504HJCYDG04","2004-01-01","PODADOR",null,null,null,null,null,null,null,15,"TARJETA",null,0,0,{"$f":"2758/15","v":183.86666666666667},2758,110.32,193.06,0,303.38,2758,3061.38,null,null,0,50.63731199999998,{"$f":"TRUNC(IF(AF210>0.01,AF210,0),2)","v":50.63},0,3010.75,{"$f":"[2]PORTADA!$D$10","v":1},null,130]
[null,null,null,"GARCIA NAVARRO VICENTE",null,null,null,"PODADOR",null,null,null,null,null,null,null,15,"TARJETA",null,0,0,183.15199999999999,{"$f":"TRUNC(U211*P211,2)","v":2747.28},{"$f":"TRUNC(U211*P211*0.04,2)","v":109.89},{"$f":"TRUNC(U211*0.07*P211,2)","v":192.3},{"$f":"S211","v":0},{"$f":"TRUNC(X211+W211+(IF(Y211>519,519,Y211))+IF(R211=0,0,R211*U211),2)","v":302.19},{"$f":"TRUNC((IF(R211=0,P211*U211,(P211-R211)*U211))+(IF(Y211<519,0,Y211-519)),2)+T211","v":2747.28},{"$f":"Z211+AA211","v":3049.4700000000003},null,null,0,{"$f":"IF(U211>0.01,(AA211-VLOOKUP(AA211,quincenal,1))*VLOOKUP(AA211,quincenal,3)+VLOOKUP(AA211,quincenal,2)-VLOOKUP(AA211,subquincenal,2),0)","v":49.470976000000007},{"$f":"TRUNC(IF(AF211>0.01,AF211,0),2)","v":49.47},{"$f":"TRUNC(IF(AF211<0.01,-AF211,0),2)","v":0},{"$f":"AB211-AD211-AE211-AG211+AH211","v":3000.0000000000005}]
[null,null,null,"VERTEDERO MUNICIPAL",null,null,null,null,null,null,null,null,null,null,null,null,null,null,null,null,null,{"$f":"SUM(V202:V210)","v":21240.03},{"$f":"SUM(W202:W210)","v":849.59999999999991},1486.7999999999997,0,2336.4,21240.03,23576.43,0,0,0,-153.7325280000002,121.83000000000001,275.52,{"$f":"SUM(AI202:AI211)","v":26730.12}]
[]
[null,null,null,"DEPARTAMENTO DE ALUMBRADO PUBLICO"]
[null,null,null,"RUIZ HERNANDEZ CELESTINO","RUHC540519","RUHC540519HJCZRL03","2004-01-01","JEFE DE ALUMBRADO PUBLICO",null,null,null,null,null,null,null,15,"TARJETA",null,0,0,{"$f":"3428/15","v":228.53333333333333},{"$f":"TRUNC(U215*P215,2)","v":3428},{"$f":"TRUNC(U215*P215*0.04,2)","v":137.12},{"$f":"TRUNC(U215*0.07*P215,2)","v":239.96},{"$f":"S215","v":0},{"$f":"TRUNC(X215+W215+(IF(Y215>519,519,Y215))+IF(R215=0,0,R215*U215),2)","v":377.08},{"$f":"TRUNC((IF(R215=0,P215*U215,(P215-R215)*U215))+(IF(Y215<519,0,Y215-519)),2)+T215","v":3428},{"$f":"Z215+AA215","v":3805.08},null,null,0,{"$f":"IF(U215>0.01,(AA215-VLOOKUP(AA215,quincenal,1))*VLOOKUP(AA215,quincenal,3)+VLOOKUP(AA215,quincenal,2)-VLOOKUP(AA215,subquincenal,2),0)","v":143.783312},{"$f":"TRUNC(IF(AF215>0.01,AF215,0),2)","v":143.78},{"$f":"TRUNC(IF(AF215<0.01,-AF215,0),2)","v":0},{"$f":"AB215-AD215-AE215-AG215+AH215","v":3661.2999999999997},{"$f":"[2]PORTADA!$D$10","v":1},null,131]
[null,null,null,"LARES RODRIGUEZ JOSE ANGEL",null,null,null,"ENCARGADO DE ALUMBRADO PUBLICO",null,null,null,null,null,null,null,15,"TARJETA",null,0,0,217.7938,{"$f":"TRUNC(U216*P216,2)","v":3266.9},{"$f":"TRUNC(U216*P216*0.04,2)","v":130.66999999999999},{"$f":"TRUNC(U216*0.07*P216,2)","v":228.68},{"$f":"S216","v":0},{"$f":"TRUNC(X216+W216+(IF(Y216>519,519,Y216))+IF(R216=0,0,R216*U216),2)","v":359.35},{"$f":"TRUNC((IF(R216=0,P216*U216,(P216-R216)*U216))+(IF(Y216<519,0,Y216-519)),2)+T216","v":3266.9},{"$f":"Z216+AA216","v":3626.25},null,null,0,{"$f":"IF(U216>0.01,(AA216-VLOOKUP(AA216,quincenal,1))*VLOOKUP(AA216,quincenal,3)+VLOOKUP(AA216,quincenal,2)-VLOOKUP(AA216,subquincenal,2),0)","v":126.25563199999996},{"$f":"TRUNC(IF(AF216>0.01,AF216,0),2)","v":126.25},{"$f":"TRUNC(IF(AF216<0.01,-AF216,0),2)","v":0},{"$f":"AB216-AD216-AE216-AG216+AH216","v":3500},null,null,132]
[null,null,null,"HERNANDEZ ALCARAZ ALVARO",null,null,null,"AUXILIARDE ALUMBRADO PUBLICO",null,null,null,null,null,null,null,15,"TARJETA",null,0,0,217.7938,{"$f":"TRUNC(U217*P217,2)","v":3266.9},{"$f":"TRUNC(U217*P217*0.04,2)","v":130.66999999999999},{"$f":"TRUNC(U217*0.07*P217,2)","v":228.68},{"$f":"S217","v":0},{"$f":"TRUNC(X217+W217+(IF(Y217>519,519,Y217))+IF(R217=0,0,R217*U217),2)","v":359.35},{"$f":"TRUNC((IF(R217=0,P217*U217,(P217-R217)*U217))+(IF(Y217<519,0,Y217-519)),2)+T217","v":3266.9},{"$f":"Z217+AA217","v":3626.25},null,null,0,{"$f":"IF(U217>0.01,(AA217-VLOOKUP(AA217,quincenal,1))*VLOOKUP(AA217,quincenal,3)+VLOOKUP(AA217,quincenal,2)-VLOOKUP(AA217,subquincenal,2),0)","v":126.25563199999996},{"$f":"TRUNC(IF(AF217>0.01,AF217,0),2)","v":126.25},{"$f":"TRUNC(IF(AF217<0.01,-AF217,0),2)","v":0},{"$f":"AB217-AD217-AE217-AG217+AH217","v":3500},null,null,133]
[null,null,null,"ROJAS HUERTA CARLOS ALFREDO",null,null,null,"AUXILIARDE ALUMBRADO PUBLICO",null,null,null,null,null,null,null,15,"TARJETA",null,0,0,{"$f":"2222/15","v":148.13333333333333},{"$f":"TRUNC(U218*P218,2)","v":2222},{"$f":"TRUNC(U218*P218*0.04,2)","v":88.88},{"$f":"TRUNC(U218*0.07*P218,2)","v":155.54},{"$f":"S218","v":0},{"$f":"TRUNC(X218+W218+(IF(Y218>519,519,Y218))+IF(R218=0,0,R218*U218),2)","v":244.42},{"$f":"TRUNC((IF(R218=0,P218*U218,(P218-R218)*U218))+(IF(Y218<519,0,Y218-519)),2)+T218","v":2222},{"$f":"Z218+AA218","v":2466.42},null,null,0,{"$f":"IF(U218>0.01,(AA218-VLOOKUP(AA218,quincenal,1))*VLOOKUP(AA218,quincenal,3)+VLOOKUP(AA218,quincenal,2)-VLOOKUP(AA218,subquincenal,2),0)","v":-37.079488000000026},{"$f":"TRUNC(IF(AF218>0.01,AF218,0),2)","v":0},{"$f":"TRUNC(IF(AF218<0.01,-AF218,0),2)","v":37.07},{"$f":"AB218-AD218-AE218-AG218+AH218","v":2503.4900000000002},null,null,134]
[null,null,null,"DEPARTAMENTO DE ALUMBRADO PUBLICO",null,null,null,null,null,null,null,null,null,null,null,null,null,null,null,null,null,{"$f":"SUM(V215:V218)","v":12183.8},{"$f":"SUM(W215:W218)","v":487.33999999999992},852.8599999999999,0,1340.2000000000003,12183.8,13524,0,0,0,359.21508799999987,396.28,37.07,13164.789999999999]
[]
[]
[null,null,null,"DEPARTAMENTO DE DEPORTES"]
[120,5,14,"ACOSTA GONZALEZ MIGUEL",null,null,null,"ENCARGADO DE LA UNIDAD DEPORTIVA",null,null,null,null,null,null,null,15,"TARJETA",null,0,0,147.9014,{"$f":"TRUNC(U223*P223,2)","v":2218.52},{"$f":"TRUNC(U223*P223*0.04,2)","v":88.74},{"$f":"TRUNC(U223*0.07*P223,2)","v":155.29},{"$f":"S223","v":0},{"$f":"TRUNC(X223+W223+(IF(Y223>519,519,Y223))+IF(R223=0,0,R223*U223),2)","v":244.03},{"$f":"TRUNC((IF(R223=0,P223*U223,(P223-R223)*U223))+(IF(Y223<519,0,Y223-519)),2)+T223","v":2218.52},{"$f":"Z223+AA223","v":2462.5500000000002},null,null,0,{"$f":"IF(U223>0.01,(AA223-VLOOKUP(AA223,quincenal,1))*VLOOKUP(AA223,quincenal,3)+VLOOKUP(AA223,quincenal,2)-VLOOKUP(AA223,subquincenal,2),0)","v":-37.458112000000028},{"$f":"TRUNC(IF(AF223>0.01,AF223,0),2)","v":0},{"$f":"TRUNC(IF(AF223<0.01,-AF223,0),2)","v":37.450000000000003},{"$f":"AB223-AD223-AE223-AG223+AH223","v":2500},null,null,135]
[121,null,null,"GONZALEZ FLORES RAMON",null,null,null,"AUXILIAR DE MANTENIMIENTO DE LA UNIDAD DEPORTIVA",null,null,null,null,null,null,null,15,"TARJETA",null,0,0,113.977,1709.65,68.38,119.67,0,188.05,1709.65,1897.7,null,null,0,-102.30023999999997,0,102.3,2000,null,null,136]
[null,null,null,"RODRIGUEZ ARQUIETA DANIEL ORLANDO",null,null,null,"JARDINERO EN LA UNIDAD DEPORTIVA",null,null,null,null,null,null,null,15,"TARJETA",null,0,0,113.977,{"$f":"TRUNC(U225*P225,2)","v":1709.65},{"$f":"TRUNC(U225*P225*0.04,2)","v":68.38},{"$f":"TRUNC(U225*0.07*P225,2)","v":119.67},{"$f":"S225","v":0},{"$f":"TRUNC(X225+W225+(IF(Y225>519,519,Y225))+IF(R225=0,0,R225*U225),2)","v":188.05},{"$f":"TRUNC((IF(R225=0,P225*U225,(P225-R225)*U225))+(IF(Y225<519,0,Y225-519)),2)+T225","v":1709.65},{"$f":"Z225+AA225","v":1897.7},null,null,0,{"$f":"IF(U225>0.01,(AA225-VLOOKUP(AA225,quincenal,1))*VLOOKUP(AA225,quincenal,3)+VLOOKUP(AA225,quincenal,2)-VLOOKUP(AA225,subquincenal,2),0)","v":-102.30023999999997},0,{"$f":"TRUNC(IF(AF225<0.01,-AF225,0),2)","v":102.3},{"$f":"AB225-AD225-AE225-AG225+AH225","v":2000},null,null,137]
[null,null,null,"MORA SANCHEZ EUSTACIO",null,null,null,"JARDINERO EN LA UNIDAD DEPORTIVA",null,null,null,null,null,null,null,15,"TARJETA",null,0,0,113.977,1709.65,68.38,119.67,0,188.05,1709.65,1897.7,null,null,0,-102.30023999999997,0,102.3,2000,null,null,138]
[null,null,null,"BERNAL PRECIADO JUAN JOSE",null,null,null,"JARDINERO",null,null,null,null,null,null,null,15,"TARJETA",null,0,0,{"$f":"2222/15","v":148.13333333333333},2222,88.88,155.54,0,244.42,2222,2466.42,null,0,0,-37.079488000000026,{"$f":"TRUNC(IF(AF227>0.01,AF227,0),2)","v":0},37.07,2503.4900000000002,null,null,139]
[null,null,null,"OCHOA FLORES RAMON",null,null,null,"AUXILIAR DE MANTENIMIENTO DEL DEPTO. DE DEPORTES",null,null,null,null,null,null,null,15,"TARJETA",null,0,0,{"$f":"1989/15","v":132.6},1989,79.56,139.22999999999999,0,218.79,1989,2207.79,null,null,0,{"$f":"IF(U228>0.01,(AA228-VLOOKUP(AA228,quincenal,1))*VLOOKUP(AA228,quincenal,3)+VLOOKUP(AA228,quincenal,2)-VLOOKUP(AA228,subquincenal,2),0)","v":-72.421839999999975},0,72.42,2280.21,null,null,140]
[null,null,null,"ILLAN LARA SAYDA",null,null,null,"NUTRIOLOGA EN EL DOMO POLIDEPORTIVO",null,null,null,null,null,null,null,15,"TARJETA",null,0,0,113.977,1709.65,68.38,119.67,0,188.05,1709.65,1897.7,null,null,0,-102.30023999999997,0,102.3,2000]
[null,null,null,"GODINA ENRIQUEZ SILVIA","GOES781103IAA","GOES781103MJCDNL05","2009-01-01","CONSERJE DOMO POLIDEPORTIVO",null,null,null,null,null,null,null,15,"TARJETA",null,0,0,{"$f":"2106/15","v":140.4},{"$f":"TRUNC(U230*P230,2)","v":2106},{"$f":"TRUNC(U230*P230*0.04,2)","v":84.24},{"$f":"TRUNC(U230*0.07*P230,2)","v":147.41999999999999},{"$f":"S230","v":0},{"$f":"TRUNC(X230+W230+(IF(Y230>519,519,Y230))+IF(R230=0,0,R230*U230),2)","v":231.66},{"$f":"TRUNC((IF(R230=0,P230*U230,(P230-R230)*U230))+(IF(Y230<519,0,Y230-519)),2)+T230","v":2106},{"$f":"Z230+AA230","v":2337.66},null,null,0,{"$f":"IF(U230>0.01,(AA230-VLOOKUP(AA230,quincenal,1))*VLOOKUP(AA230,quincenal,3)+VLOOKUP(AA230,quincenal,2)-VLOOKUP(AA230,subquincenal,2),0)","v":-63.650288000000003},{"$f":"TRUNC(IF(AF230>0.01,AF230,0),2)","v":0},{"$f":"TRUNC(IF(AF230<0.01,-AF230,0),2)","v":63.65},{"$f":"AB230-AD230-AE230-AG230+AH230","v":2401.31}]
[null,null,null,"CABRALES MEZA CECILIO","GOES781103IAA","GOES781103MJCDNL05","2009-01-01","VIGILANTE EN EL DOMO",null,null,null,null,null,null,null,15,"TARJETA",null,0,0,101.23,1518.45,60.73,106.29,0,167.02,1518.45,1685.47,null,null,0,-114.53703999999998,{"$f":"TRUNC(IF(AF231>0.01,AF231,0),2)","v":0},114.53,1800,{"$f":"[2]PORTADA!$D$10","v":1},null,141]
[null,null,null,"DEPARTAMENTO DE DEPORTES",null,null,null,null,null,null,null,null,null,null,null,null,null,null,null,null,null,{"$f":"SUM(V223:V231)","v":16892.57},{"$f":"SUM(W223:W231)","v":675.67000000000007},1182.4499999999998,0,1858.1200000000001,16892.57,18750.690000000002,0,0,0,-734.34772799999996,0,734.31999999999994,19485.010000000002]
[]
[null,null,null,"SERVICIOS MEDICOS"]
[null,null,null,"MARTINEZ VALDIVIA FRANCISCO","MAVF520525","MAVF520525HJCRLR02","2004-01-01","MEDICO MUNICIPAL",null,null,null,null,null,null,null,15,"TARJETA",null,0,0,{"$f":"3634/15","v":242.26666666666668},{"$f":"TRUNC(U235*P235,2)","v":3634},{"$f":"TRUNC(U235*P235*0.04,2)","v":145.36000000000001},{"$f":"TRUNC(U235*0.07*P235,2)","v":254.38},{"$f":"S235","v":0},{"$f":"TRUNC(X235+W235+(IF(Y235>519,519,Y235))+IF(R235=0,0,R235*U235),2)","v":399.74},{"$f":"TRUNC((IF(R235=0,P235*U235,(P235-R235)*U235))+(IF(Y235<519,0,Y235-519)),2)+T235","v":3634},{"$f":"Z235+AA235","v":4033.74},null,null,0,{"$f":"IF(U235>0.01,(AA235-VLOOKUP(AA235,quincenal,1))*VLOOKUP(AA235,quincenal,3)+VLOOKUP(AA235,quincenal,2)-VLOOKUP(AA235,subquincenal,2),0)","v":183.89611199999999},{"$f":"TRUNC(IF(AF235>0.01,AF235,0),2)","v":183.89},{"$f":"TRUNC(IF(AF235<0.01,-AF235,0),2)","v":0},{"$f":"AB235-AD235-AE235-AG235+AH235","v":3849.85},{"$f":"[2]PORTADA!$D$10","v":1},null,142]
[null,null,null,"LEAL FRANCISCO JAVIER","MAVF520525","MAVF520525HJCRLR02","2004-01-01","PEDIATRA",null,null,null,null,null,null,null,15,"TARJETA",null,0,0,260.28699999999998,{"$f":"TRUNC(U236*P236,2)","v":3904.3},{"$f":"TRUNC(U236*P236*0.04,2)","v":156.16999999999999},{"$f":"TRUNC(U236*0.07*P236,2)","v":273.3},{"$f":"S236","v":0},{"$f":"TRUNC(X236+W236+(IF(Y236>519,519,Y236))+IF(R236=0,0,R236*U236),2)","v":429.47},{"$f":"TRUNC((IF(R236=0,P236*U236,(P236-R236)*U236))+(IF(Y236<519,0,Y236-519)),2)+T236","v":3904.3},{"$f":"Z236+AA236","v":4333.7700000000004},null,null,0,{"$f":"IF(U236>0.01,(AA236-VLOOKUP(AA236,quincenal,1))*VLOOKUP(AA236,quincenal,3)+VLOOKUP(AA236,quincenal,2)-VLOOKUP(AA236,subquincenal,2),0)","v":333.77639999999997},{"$f":"TRUNC(IF(AF236>0.01,AF236,0),2)","v":333.77},{"$f":"TRUNC(IF(AF236<0.01,-AF236,0),2)","v":0},{"$f":"AB236-AD236-AE236-AG236+AH236","v":4000.0000000000005},null,null,143]
[null,null,null,"ROBLES GONZALEZ CLAUDIA SUSANA","MAVF520525","MAVF520525HJCRLR02","2004-01-01","MEDICO MUNICIPAL",null,null,null,null,null,null,null,15,"TARJETA",null,0,0,260.28699999999998,3904.3,156.16999999999999,273.3,0,429.47,3904.3,4333.7700000000004,null,null,0,{"$f":"IF(U237>0.01,(AA237-VLOOKUP(AA237,quincenal,1))*VLOOKUP(AA237,quincenal,3)+VLOOKUP(AA237,quincenal,2)-VLOOKUP(AA237,subquincenal,2),0)","v":333.77639999999997},333.77,0,4000.0000000000005,null,null,144]
[null,null,null,"COVARRUBIAS RUIZ LUIS RICARDO",null,null,null,"ENFERMERO CENTRO DE SALUD SANTA ROSALIA",null,null,null,null,null,null,null,15,"TARJETA",null,0,0,82.109700000000004,1231.6400000000001,49.26,86.21,0,135.47,1231.6400000000001,1367.1100000000001,null,null,0,{"$f":"IF(U238>0.01,(AA238-VLOOKUP(AA238,quincenal,1))*VLOOKUP(AA238,quincenal,3)+VLOOKUP(AA238,quincenal,2)-VLOOKUP(AA238,subquincenal,2),0)","v":-132.89287999999999},0,132.88999999999999,1500]
[null,null,null,"SERVICIOS MEDICOS",null,null,null,null,null,null,null,null,null,null,null,null,null,null,null,null,null,{"$f":"SUM(V235:V237)","v":11442.6},457.69999999999993,800.98,0,1258.68,11442.6,12701.28,0,0,0,851.44891199999995,851.43,0,{"$f":"SUM(AI235:AI238)","v":13349.85},1,0]
[]
[null,null,null,"INSPECCION AGRICOLA Y GANADERA"]
[null,null,null,"MORAN MARROQUIN GRICELDA ELIZABETH",null,null,null,"SECRETARIADEL DEPTO DE INSPECCION AGRICOLA Y GANADERA",null,null,null,null,null,null,null,15,"TARJETA",null,0,0,{"$f":"2107/15","v":140.46666666666667},{"$f":"TRUNC(U242*P242,2)","v":2107},{"$f":"TRUNC(U242*P242*0.04,2)","v":84.28},{"$f":"TRUNC(U242*0.07*P242,2)","v":147.49},{"$f":"S242","v":0},{"$f":"TRUNC(X242+W242+(IF(Y242>519,519,Y242))+IF(R242=0,0,R242*U242),2)","v":231.77},{"$f":"TRUNC((IF(R242=0,P242*U242,(P242-R242)*U242))+(IF(Y242<519,0,Y242-519)),2)+T242","v":2107},{"$f":"Z242+AA242","v":2338.77},null,null,0,{"$f":"IF(U242>0.01,(AA242-VLOOKUP(AA242,quincenal,1))*VLOOKUP(AA242,quincenal,3)+VLOOKUP(AA242,quincenal,2)-VLOOKUP(AA242,subquincenal,2),0)","v":-63.541488000000015},{"$f":"TRUNC(IF(AF242>0.01,AF242,0),2)","v":0},{"$f":"TRUNC(IF(AF242<0.01,-AF242,0),2)","v":63.54},{"$f":"AB242-AD242-AE242-AG242+AH242","v":2402.31},{"$f":"[2]PORTADA!$D$10","v":1},null,145]
[null,null,null,"INSPECCION AGRICOLA Y GANADERA",null,null,null,null,null,null,null,null,null,null,null,null,null,null,null,null,null,{"$f":"SUM(V242)","v":2107},{"$f":"SUM(W242)","v":84.28},147.49,0,231.77,2107,2338.77,0,0,0,-63.541488000000015,0,63.54,2402.31,1,0]
[]
[null,null,null,"DEPARTAMENTO DE DESARROLLO RURAL"]
[129,1,19,"PARRA AGUAYO JORGE","MENV711022","MENV711022HJCNVC07",null,"ENCARGADO DE DESARROLLO RURAL",null,null,null,null,null,null,null,15,"TARJETA",null,0,0,405.53410000000002,{"$f":"TRUNC(U246*P246,2)","v":6083.01},{"$f":"TRUNC(U246*P246*0.04,2)","v":243.32},{"$f":"TRUNC(U246*0.07*P246,2)","v":425.81},{"$f":"S246","v":0},{"$f":"TRUNC(X246+W246+(IF(Y246>519,519,Y246))+IF(R246=0,0,R246*U246),2)","v":669.13},{"$f":"TRUNC((IF(R246=0,P246*U246,(P246-R246)*U246))+(IF(Y246<519,0,Y246-519)),2)+T246","v":6083.01},{"$f":"Z246+AA246","v":6752.14},null,null,0,{"$f":"IF(U246>0.01,(AA246-VLOOKUP(AA246,quincenal,1))*VLOOKUP(AA246,quincenal,3)+VLOOKUP(AA246,quincenal,2)-VLOOKUP(AA246,subquincenal,2),0)","v":752.1417600000002},{"$f":"TRUNC(IF(AF246>0.01,AF246,0),2)","v":752.14},{"$f":"TRUNC(IF(AF246<0.01,-AF246,0),2)","v":0},{"$f":"AB246-AD246-AE246-AG246+AH246","v":6000},null,null,146]
[null,null,null,"MONTES COLIMA DIANA ROCIO","PAGO721112","PAGO721112HJCLRS01",null,"AUXILIAR DE DESARROLLO RURAL",null,null,null,null,null,null,null,15,"TARJETA",null,0,0,183.15199999999999,{"$f":"TRUNC(U247*P247,2)","v":2747.28},{"$f":"TRUNC(U247*P247*0.04,2)","v":109.89},{"$f":"TRUNC(U247*0.07*P247,2)","v":192.3},{"$f":"S247","v":0},{"$f":"TRUNC(X247+W247+(IF(Y247>519,519,Y247))+IF(R247=0,0,R247*U247),2)","v":302.19},{"$f":"TRUNC((IF(R247=0,P247*U247,(P247-R247)*U247))+(IF(Y247<519,0,Y247-519)),2)+T247","v":2747.28},{"$f":"Z247+AA247","v":3049.4700000000003},null,null,0,{"$f":"IF(U247>0.01,(AA247-VLOOKUP(AA247,quincenal,1))*VLOOKUP(AA247,quincenal,3)+VLOOKUP(AA247,quincenal,2)-VLOOKUP(AA247,subquincenal,2),0)","v":49.470976000000007},{"$f":"TRUNC(IF(AF247>0.01,AF247,0),2)","v":49.47},{"$f":"TRUNC(IF(AF247<0.01,-AF247,0),2)","v":0},{"$f":"AB247-AD247-AE247-AG247+AH247","v":3000.0000000000005},null,null,147]
[130,null,null,"VELAZCO SIORDIA ANA KAREN","PAGO721112","PAGO721112HJCLRS01",null,"SECRETARIADE DESARROLLO RURAL",null,null,null,null,null,null,null,15,"TARJETA",null,0,0,147.9015,{"$f":"TRUNC(U248*P248,2)","v":2218.52},{"$f":"TRUNC(U248*P248*0.04,2)","v":88.74},{"$f":"TRUNC(U248*0.07*P248,2)","v":155.29},{"$f":"S248","v":0},{"$f":"TRUNC(X248+W248+(IF(Y248>519,519,Y248))+IF(R248=0,0,R248*U248),2)","v":244.03},{"$f":"TRUNC((IF(R248=0,P248*U248,(P248-R248)*U248))+(IF(Y248<519,0,Y248-519)),2)+T248","v":2218.52},{"$f":"Z248+AA248","v":2462.5500000000002},null,null,0,{"$f":"IF(U248>0.01,(AA248-VLOOKUP(AA248,quincenal,1))*VLOOKUP(AA248,quincenal,3)+VLOOKUP(AA248,quincenal,2)-VLOOKUP(AA248,subquincenal,2),0)","v":-37.458112000000028},{"$f":"TRUNC(IF(AF248>0.01,AF248,0),2)","v":0},{"$f":"TRUNC(IF(AF248<0.01,-AF248,0),2)","v":37.450000000000003},{"$f":"AB248-AD248-AE248-AG248+AH248","v":2500},null,null,148]
[null,null,null,"DEPARTAMENTO DE DESARROLLO RURAL",null,null,null,null,null,null,null,null,null,null,null,null,null,null,null,null,null,{"$f":"SUM(V246:V248)","v":11048.810000000001},441.95,773.4,0,1215.3499999999999,11048.810000000001,12264.16,0,0,0,764.15462400000024,801.61,37.450000000000003,11500]
[]
[]
[null,null,null,"CONTRALORIA"]
[131,"3","1","MATA COVARRUBIAS ALAN MARCOS","BUHM840914",null,null,"CONTRALOR",null,null,null,null,null,null,null,15,"TARJETA",null,0,0,405.53410000000002,{"$f":"TRUNC(U253*P253,2)","v":6083.01},{"$f":"TRUNC(U253*P253*0.04,2)","v":243.32},{"$f":"TRUNC(U253*0.07*P253,2)","v":425.81},{"$f":"S253","v":0},{"$f":"TRUNC(X253+W253+(IF(Y253>519,519,Y253))+IF(R253=0,0,R253*U253),2)","v":669.13},{"$f":"TRUNC((IF(R253=0,P253*U253,(P253-R253)*U253))+(IF(Y253<519,0,Y253-519)),2)+T253","v":6083.01},{"$f":"Z253+AA253","v":6752.14},null,null,0,{"$f":"IF(U253>0.01,(AA253-VLOOKUP(AA253,quincenal,1))*VLOOKUP(AA253,quincenal,3)+VLOOKUP(AA253,quincenal,2)-VLOOKUP(AA253,subquincenal,2),0)","v":752.1417600000002},{"$f":"TRUNC(IF(AF253>0.01,AF253,0),2)","v":752.14},{"$f":"TRUNC(IF(AF253<0.01,-AF253,0),2)","v":0},{"$f":"AB253-AD253-AE253-AG253+AH253","v":6000},{"$f":"PORTADA!$D$10","v":1},null,149]
[132,null,null,"RODRIGUEZ CASTELLANOS ANGELICA IVETTE","LEPC870628",null,null,"ASISITENTEDE CONTRALORIA",null,null,null,null,null,null,null,15,"TARJETA",null,0,0,183.1515,{"$f":"TRUNC(U254*P254,2)","v":2747.27},{"$f":"TRUNC(U254*P254*0.04,2)","v":109.89},{"$f":"TRUNC(U254*0.07*P254,2)","v":192.3},{"$f":"S254","v":0},{"$f":"TRUNC(X254+W254+(IF(Y254>519,519,Y254))+IF(R254=0,0,R254*U254),2)","v":302.19},{"$f":"TRUNC((IF(R254=0,P254*U254,(P254-R254)*U254))+(IF(Y254<519,0,Y254-519)),2)+T254","v":2747.27},{"$f":"Z254+AA254","v":3049.46},null,null,0,{"$f":"IF(U254>0.01,(AA254-VLOOKUP(AA254,quincenal,1))*VLOOKUP(AA254,quincenal,3)+VLOOKUP(AA254,quincenal,2)-VLOOKUP(AA254,subquincenal,2),0)","v":49.469887999999997},{"$f":"TRUNC(IF(AF254>0.01,AF254,0),2)","v":49.46},{"$f":"TRUNC(IF(AF254<0.01,-AF254,0),2)","v":0},{"$f":"AB254-AD254-AE254-AG254+AH254","v":3000},{"$f":"PORTADA!$D$10","v":1},null,150]
[null,null,null,"CONTRALORIA",null,null,null,null,null,null,null,null,null,null,null,null,null,null,null,null,null,{"$f":"SUM(V253:V254)","v":8830.2800000000007},{"$f":"SUM(W253:W254)","v":353.21},618.11,0,971.31999999999994,8830.2800000000007,9801.6,0,0,0,801.61164800000017,801.6,0,9000]
[]
[null,null,null,"DELEGACIONES"]
[133,"2","1","ARVIZU BACILIO ALONSO CANUTO",null,null,null,"DELEGADO MUNICIPAL DE  OCONAHUA",null,null,null,null,null,null,null,15,"TARJETA",null,0,0,113.977,{"$f":"TRUNC(U258*P258,2)","v":1709.65},{"$f":"TRUNC(U258*P258*0.04,2)","v":68.38},{"$f":"TRUNC(U258*0.07*P258,2)","v":119.67},{"$f":"S258","v":0},{"$f":"TRUNC(X258+W258+(IF(Y258>519,519,Y258))+IF(R258=0,0,R258*U258),2)","v":188.05},{"$f":"TRUNC((IF(R258=0,P258*U258,(P258-R258)*U258))+(IF(Y258<519,0,Y258-519)),2)+T258","v":1709.65},{"$f":"Z258+AA258","v":1897.7},null,null,0,{"$f":"IF(U258>0.01,(AA258-VLOOKUP(AA258,quincenal,1))*VLOOKUP(AA258,quincenal,3)+VLOOKUP(AA258,quincenal,2)-VLOOKUP(AA258,subquincenal,2),0)","v":-102.30023999999997},0,{"$f":"TRUNC(IF(AF258<0.01,-AF258,0),2)","v":102.3},{"$f":"AB258-AD258-AE258-AG258+AH258","v":2000},{"$f":"PORTADA!$D$10","v":1},null,151]
[null,null,null,"CORONA TIZNADO OSIRIS ELVIA",null,null,null,"SECRETARIA DEL REGISTRO CIVIL",null,null,null,null,null,null,null,15,"TARJETA",null,0,0,126.06699999999999,1891,75.64,132.37,0,208.01,1891,2099.0100000000002,null,null,0,-78.69383999999998,{"$f":"TRUNC(IF(AF259>0.01,AF259,0),2)","v":0},78.69,2177.7000000000003]
[null,null,null,"BRAMBILA MELCHOR ADRIAN",null,null,null,"ENCARGADO DE OBRAS ´PUBLICAS EN OCONAHUA",null,null,null,null,null,null,null,15,"TARJETA",null,0,0,217.7938,{"$f":"TRUNC(U260*P260,2)","v":3266.9},{"$f":"TRUNC(U260*P260*0.04,2)","v":130.66999999999999},{"$f":"TRUNC(U260*0.07*P260,2)","v":228.68},{"$f":"S260","v":0},{"$f":"TRUNC(X260+W260+(IF(Y260>519,519,Y260))+IF(R260=0,0,R260*U260),2)","v":359.35},{"$f":"TRUNC((IF(R260=0,P260*U260,(P260-R260)*U260))+(IF(Y260<519,0,Y260-519)),2)+T260","v":3266.9},{"$f":"Z260+AA260","v":3626.25},null,null,0,{"$f":"IF(U260>0.01,(AA260-VLOOKUP(AA260,quincenal,1))*VLOOKUP(AA260,quincenal,3)+VLOOKUP(AA260,quincenal,2)-VLOOKUP(AA260,subquincenal,2),0)","v":126.25563199999996},{"$f":"TRUNC(IF(AF260>0.01,AF260,0),2)","v":126.25},{"$f":"TRUNC(IF(AF260<0.01,-AF260,0),2)","v":0},{"$f":"AB260-AD260-AE260-AG260+AH260","v":3500}]
[null,null,null,"HERNANDEZ NARANJO VICTOR MANUEL","HENV720810","HENV700810HJCRRC03","2004-02-08","RECOLECTOR",null,null,null,null,null,null,null,15,"TARJETA",null,0,0,{"$f":"1882/15","v":125.46666666666667},{"$f":"TRUNC(U261*P261,2)","v":1882},{"$f":"TRUNC(U261*P261*0.04,2)","v":75.28},{"$f":"TRUNC(U261*0.07*P261,2)","v":131.74},{"$f":"S261","v":0},{"$f":"TRUNC(X261+W261+(IF(Y261>519,519,Y261))+IF(R261=0,0,R261*U261),2)","v":207.02},{"$f":"TRUNC((IF(R261=0,P261*U261,(P261-R261)*U261))+(IF(Y261<519,0,Y261-519)),2)+T261","v":1882},{"$f":"Z261+AA261","v":2089.02},null,null,0,{"$f":"IF(U261>0.01,(AA261-VLOOKUP(AA261,quincenal,1))*VLOOKUP(AA261,quincenal,3)+VLOOKUP(AA261,quincenal,2)-VLOOKUP(AA261,subquincenal,2),0)","v":-79.269839999999974},{"$f":"TRUNC(IF(AF261>0.01,AF261,0),2)","v":0},{"$f":"TRUNC(IF(AF261<0.01,-AF261,0),2)","v":79.260000000000005},{"$f":"AB261-AD261-AE261-AG261+AH261","v":2168.2800000000002},{"$f":"[2]PORTADA!$D$10","v":1},null,152]
[null,null,null,"TIZNADO CHAVEZ LUIS RAMON","TICL781119J37","TICL781119HJCZHS05","2009-01-16","RECOLECTOR",null,null,null,null,null,null,null,15,"TARJETA",null,0,0,{"$f":"1882/15","v":125.46666666666667},1882,75.28,131.74,0,207.02,1882,2089.02,null,null,0,-79.269839999999974,0,79.260000000000005,2168.2800000000002,{"$f":"[2]PORTADA!$D$10","v":1},null,153]
[null,null,null,"ORTIZ HERNANDEZ FRANCISCO JAVIER","OIHF661005","OIHF661005HJCRRR01","2004-02-08","RECOLECTOR",null,null,null,null,null,null,null,15,"TARJETA",null,0,0,125.46666666666667,1882,75.28,131.74,0,207.02,1882,2089.02,null,0,0,-79.269839999999974,0,79.260000000000005,2168.2800000000002,{"$f":"[2]PORTADA!$D$10","v":1},null,154]
[null,null,null,"LOPEZ REYES LINO","LORL560923","LORL560923HJCPYN00",null,"GUARDARRASTRO",null,null,null,null,null,null,null,15,"TARJETA",null,0,0,{"$f":"1433/15","v":95.533333333333331},1433,57.32,100.31,0,157.63,1433,1590.63,null,null,0,-120.00583999999998,0,120,1710.63,{"$f":"[2]PORTADA!$D$10","v":1},null,155]
[null,null,null,"LOPEZ MARTINEZ LEOPOLDO",null,null,null,"AUX. DE LIMPIEZA",null,null,null,null,null,null,null,15,"TARJETA",null,0,0,{"$f":"1281/15","v":85.4},1281,51.24,89.67,0,140.91,1281,1421.91,null,null,0,-129.73383999999999,0,129.72999999999999,1551.64,{"$f":"[2]PORTADA!$D$10","v":1},null,156]
[null,null,null,"MELCHOR MARTINEZ RAFAEL ",null,null,null,"ENCARGADO UNIDAD DEPORTIVA",null,null,null,null,null,null,null,15,"TARJETA",null,0,0,{"$f":"1383/15","v":92.2},1383,55.32,96.81,{"$f":"S266","v":0},152.13,1383,{"$f":"Z266+AA266","v":1535.13},null,null,0,{"$f":"IF(U266>0.01,(AA266-VLOOKUP(AA266,quincenal,1))*VLOOKUP(AA266,quincenal,3)+VLOOKUP(AA266,quincenal,2)-VLOOKUP(AA266,subquincenal,2),0)","v":-123.20583999999998},0,{"$f":"TRUNC(IF(AF266<0.01,-AF266,0),2)","v":123.2},{"$f":"AB266-AD266-AE266-AG266+AH266","v":1658.3300000000002},{"$f":"[2]PORTADA!$D$10","v":1},null,157]
[null,null,null,"CERVANTES SANCHEZ GABRIEL","CESG4509243P3","CESG450924HMNRNB03","2004-02-08","ENCARGADO DE CEMENTERIOS",null,null,null,null,null,null,null,15,"TARJETA",null,0,0,{"$f":"904/15","v":60.266666666666666},904,36.159999999999997,63.28,0,99.44,904,1003.44,null,null,0,-153.86183999999997,0,153.86000000000001,1157.3000000000002,{"$f":"[2]PORTADA!$D$10","v":1},null,158]
[null,null,null,"DELEGACIONES",null,null,null,null,null,null,null,null,null,null,null,null,null,null,null,null,null,{"$f":"SUM(V258:V267)","v":17514.55},{"$f":"SUM(W258:W267)","v":700.56999999999994},1226.01,0,1926.58,17514.55,19441.13,0,0,0,-819.35532799999987,126.25,945.56000000000006,20260.440000000002,8,0]
[]
[]
[null,null,null,null,null,null,null,null,null,null,null,null,null,null,null,null,null,null,null,null,null,{"$f":"V19+V26+V33+V40+V46+V51+V58+V69+V75+V82+V91+V98+V110+V119+V127+V131+V136+V144+V164+V172+V179+V185+V199+V212+V219+V232+V239+V243+V249+V255+V268","v":545243.18000000005},{"$f":"W19+W26+W33+W40+W46+W51+W58+W69+W75+W82+W91+W98+W110+W119+W127+W131+W136+W144+W164+W172+W179+W185+W199+W212+W219+W232+W239+W243+W249+W255+W268","v":21809.410000000003},38166.609999999993,0,59976.01999999999,545243.18000000005,605219.20000000007,0,1500,0,{"$error":"#N/A"},39857.32,4728.7700000000004,573090.64999999991]
[]
[]
[]
[]
[null,null,null,"L.A.F. EDUARDO RON RAMOS",null,null,null,null,null,null,null,null,null,null,null,"L.C.P. MARTIN DANIEL FREGOSO BARBOZA",null,null,null,null,null,null,null,null,null,null,null,null,null,null,null,null,null,"ING. MARIO CAMARENA GONZALEZ RUBIO"]
[null,null,null,"PRESIDENTE MUNICIPAL  ",null,null,null,null,null,null,null,null,null,null,null,"SINDICO MUNICIPAL",null,null,null,null,null,null,null,null,null,null,null,null,null,null,null,null,null,"ENCARGADO DE LA HACIENDA PUBLICA"]
[]
[]
[]
[]
[]
[]
[]
[null,null,null,"DIRECCION DE SEGURIDAD PUBLICA"]
[null,null,null,"AGUIRRE REYES RAUL ANTONIO",null,null,null,"POLICIA DE LINEA",null,null,null,null,null,null,null,15,"TARJETA",null,0,0,{"$f":"3291/15","v":219.4},{"$f":"TRUNC(U286*P286,2)","v":3291},{"$f":"TRUNC(U286*P286*0.04,2)","v":131.63999999999999},{"$f":"TRUNC(U286*0.07*P286,2)","v":230.37},{"$f":"S286","v":0},{"$f":"TRUNC(X286+W286+(IF(Y286>519,519,Y286))+IF(R286=0,0,R286*U286),2)","v":362.01},{"$f":"TRUNC((IF(R286=0,P286*U286,(P286-R286)*U286))+(IF(Y286<519,0,Y286-519)),2)+T286","v":3291},{"$f":"Z286+AA286","v":3653.01},null,0,0,{"$f":"IF(U286>0.01,(AA286-VLOOKUP(AA286,quincenal,1))*VLOOKUP(AA286,quincenal,3)+VLOOKUP(AA286,quincenal,2)-VLOOKUP(AA286,subquincenal,2),0)","v":128.877712},{"$f":"TRUNC(IF(AF286>0.01,AF286,0),2)","v":128.87},{"$f":"TRUNC(IF(AF286<0.01,-AF286,0),2)","v":0},{"$f":"AB286-AD286-AE286-AG286+AH286","v":3524.1400000000003},null,null,2]
[145,11,17,"ARVIZU GIL HOMERO JOSE","AIGH730225LE1","AIGH730225HJCRLM08",null,"POLICIA DE LINEA",null,null,null,null,null,null,null,15,"TARJETA",null,0,0,219.4,3291,131.63999999999999,230.37,0,362.01,3291,3653.01,null,null,0,128.877712,128.87,0,3524.1400000000003,{"$f":"PORTADA!$D$10","v":1},null,3]
[146,"11","17","CAMPERO MARTINEZ JUAN DANIEL","ROMP450629DNA","ROMP450629HJCSCB04",null,"POLICIA EN LINEA",null,null,null,null,null,null,null,15,"TARJETA",null,0,0,219.4,3291,131.63999999999999,230.37,0,362.01,3291,3653.01,null,null,0,128.877712,128.87,0,3524.1400000000003,null,null,4]
[147,11,17,"CARRILLO MURILLO SALVADOR","CAMS620429F91","CAMS620429HNTRRL00",null,"POLICIA DE LINEA",null,null,null,null,null,null,null,15,"TARJETA",null,0,0,219.4,3291,131.63999999999999,230.37,0,362.01,3291,3653.01,null,null,0,128.877712,128.87,0,3524.1400000000003,{"$f":"PORTADA!$D$10","v":1},null,5]
[167,"11","17","CASTAÑEDA ARANDAS EFREN",null,null,null,"POLICIA EN LINEA",null,null,null,null,null,null,null,15,"TARJETA",null,0,0,219.4,3291,131.63999999999999,230.37,0,362.01,3291,3653.01,null,0,0,128.877712,128.87,0,3524.1400000000003,{"$f":"PORTADA!$D$10","v":1},null,6]
[null,null,null,"CASTELLANOS RODRIGUEZ SUSANA LIZETH","CAMS620429F91","CAMS620429HNTRRL00",null,"POLICIA DE LINEA",null,null,null,null,null,null,null,15,"TARJETA",null,0,0,219.4,3291,131.63999999999999,230.37,0,362.01,3291,3653.01,null,null,0,128.877712,128.87,0,3524.1400000000003,null,null,7]
[null,null,null,"CORONA MARTINEZ JESUS MARIANO",null,null,null,"POLICIA DE LINEA",null,null,null,null,null,null,null,15,"TARJETA",null,0,0,219.4,3291,131.63999999999999,230.37,0,362.01,3291,3653.01,null,0,0,128.877712,128.87,0,3524.1400000000003,null,null,9]
[152,"11","17","DOMINGUEZ PEREZ NOE","GASR",null,null,"POLICIA DE LINEA",null,null,null,null,null,null,null,15,"TARJETA",null,0,0,219.4,3291,131.63999999999999,230.37,0,362.01,3291,3653.01,null,null,0,128.877712,128.87,0,3524.1400000000003,{"$f":"PORTADA!$D$10","v":1},null,10]
[155,"11","17","FIGUEROA SANTIAGO JAVIER ANTONIO","CAPV791223","CAPU791223HJCMTC05",null,"POLICIA EN LINEA",null,null,null,null,null,null,null,15,"TARJETA",null,0,0,219.4,3291,131.63999999999999,230.37,0,362.01,3291,3653.01,null,null,0,128.877712,128.87,0,3524.1400000000003,{"$f":"PORTADA!$D$10","v":1},null,11]
[null,null,null,"GARCIA FIGUEROA GUSTAVO ","HEAS",null,null,"POLICIA DE LINEA",null,null,null,null,null,null,null,15,"TARJETA",null,0,0,219.4,3291,131.63999999999999,230.37,0,362.01,3291,3653.01,null,null,0,128.877712,128.87,{"$f":"TRUNC(IF(AF295<0.01,-AF295,0),2)","v":0},3524.1400000000003,null,null,13]
[null,null,null,"GARCIA FIGUEROA JOSE MANUEL",null,null,null,"POLICIA DE LINEA",null,null,null,null,null,null,null,15,"TARJETA",null,0,0,219.4,3291,131.63999999999999,230.37,0,362.01,3291,3653.01,null,0,0,128.877712,128.87,0,3524.1400000000003,null,null,14]
[null,null,null,"GARCIA GARCIA ROGELIO",null,null,null,"POLICIA DE LINEA",null,null,null,null,null,null,null,15,"TARJETA",null,0,0,{"$f":"3291/15","v":219.4},3291,131.63999999999999,230.37,0,362.01,3291,3653.01,null,0,0,128.877712,128.87,0,3524.1400000000003,null,null,16]
[159,"11","17","GARCIA MAGALLANES FRANCISCO",null,null,null,"POLICIA DE LINEA",null,null,null,null,null,null,null,15,"TARJETA",null,0,0,{"$f":"3291/15","v":219.4},3291,131.63999999999999,230.37,0,362.01,3291,3653.01,null,0,0,128.877712,128.87,0,3524.1400000000003,{"$f":"PORTADA!$D$10","v":1},null,17]
[160,"11","17","GAYTAN PEREZ LUIS GABRIEL",null,null,null,"COMANDANTE",null,null,null,null,null,null,null,15,"TARJETA",null,0,0,{"$f":"4385/15","v":292.33333333333331},4385,175.4,306.95,0,482.35,4385,4867.3500000000004,null,null,0,413.29748800000004,413.29,0,4454.0600000000004,{"$f":"PORTADA!$D$10","v":1},null,18]
[null,null,null,"GOMEZ MEZA ARMANDO",null,null,null,"POLICIA EN LINEA",null,null,null,null,null,null,null,15,"TARJETA",null,0,0,{"$f":"3291/15","v":219.4},3291,131.63999999999999,230.37,0,362.01,3291,3653.01,null,null,0,128.877712,128.87,0,3524.1400000000003,{"$f":"PORTADA!$D$10","v":1},null,19]
[161,"11","17","GOMEZ TOVAR JUAN FRANCISCO","GOCB550313","GOCB550313HJCMHN07","2007-01-01","POLICIA EN LINEA",null,null,null,null,null,null,null,15,"TARJETA",null,0,0,219.4,3291,131.63999999999999,230.37,0,362.01,3291,3653.01,null,null,0,128.877712,128.87,0,3524.1400000000003,{"$f":"PORTADA!$D$10","v":1},null,20]
[162,"11","17","GONZALEZ CAMPOS JOSE MANUEL",null,null,null,"POLICIA EN LINEA",null,null,null,null,null,null,null,15,"TARJETA",null,0,0,219.4,3291,131.63999999999999,230.37,0,362.01,3291,3653.01,null,null,0,128.877712,128.87,0,3524.1400000000003,{"$f":"PORTADA!$D$10","v":1},null,21]
[null,null,null,"HERNANDEZ ARIAS SEBASTIAN","RUGE",null,null,"POLICIA DE LINEA",null,null,null,null,null,null,null,15,"TARJETA",null,0,0,219.4,3291,131.63999999999999,230.37,0,362.01,3291,3653.01,null,null,0,128.877712,128.87,0,3524.1400000000003,null,null,22]
[151,"11","17","HERNANDEZ PALACIOS REFUGIO GUADALUPE","DENL910517","DENL910517HJCLVS07",null,"POLICIA DE LINEA",null,null,null,null,null,null,null,15,"TARJETA",null,0,0,219.4,3291,131.63999999999999,230.37,0,362.01,3291,3653.01,null,null,0,128.877712,128.87,0,3524.1400000000003,{"$f":"PORTADA!$D$10","v":1},null,23]
[null,null,null,"INFANTE GUTIERREZ CRISTINA",null,null,null,"POLICIA EN LINEA",null,null,null,null,null,null,null,15,"TARJETA",null,0,0,219.4,3291,131.63999999999999,230.37,0,362.01,3291,3653.01,null,null,0,128.877712,128.87,0,3524.1400000000003,null,null,24]
[null,null,null,"MANCILLAS MORA MARTIN","MAMM741224","MAMM741224HCJNRR00",null,"POLICIA EN LINEA",null,null,null,null,null,null,null,15,"TARJETA",null,0,0,219.4,3291,131.63999999999999,230.37,0,362.01,3291,3653.01,null,0,0,128.877712,128.87,0,3524.1400000000003,null,null,25]
[null,null,null,"MARTINEZ GARCIA JOSE ENRIQUE",null,null,null,"POLICIA DE LINEA",null,null,null,null,null,null,null,15,"TARJETA",null,0,0,219.4,3291,131.63999999999999,230.37,0,362.01,3291,3653.01,null,0,0,128.877712,128.87,0,3524.1400000000003,null,null,27]
[null,null,null,"MARTINEZ GARCIA MARIA GRACIELA",null,null,null,"POLICIA DE LINEA",null,null,null,null,null,null,null,15,"TARJETA",null,0,0,219.4,3291,131.63999999999999,230.37,0,362.01,3291,3653.01,null,0,0,128.877712,128.87,0,3524.1400000000003,null,null,28]
[null,null,null,"MEDERO ARRIAGA JESUS ALEJANDRO",null,null,null,"POLICIA DE LINEA",null,null,null,null,null,null,null,15,"TARJETA",null,0,0,219.4,3291,131.63999999999999,230.37,0,362.01,3291,3653.01,null,0,0,128.877712,128.87,0,3524.1400000000003,null,null,29]
[null,null,null,"MORENO GONZALEZ JOSE ANTONIO",null,null,null,"POLICIA DE LINEA",null,null,null,null,null,null,null,15,"TARJETA",null,0,0,219.4,3291,131.63999999999999,230.37,0,362.01,3291,3653.01,null,566,0,128.877712,128.87,0,2958.1400000000003,null,null,30]
[null,null,null,"RAMIREZ ALVAREZ ANAHI",null,null,null,"POLICIA EN LINEA",null,null,null,null,null,null,null,15,"TARJETA",null,0,0,219.4,3291,131.63999999999999,230.37,0,362.01,3291,3653.01,null,null,0,128.877712,128.87,0,3524.1400000000003]
[172,"11","17","REGALADO AQUINO JUAN","REAJ700624U14","REAJ700624HJCGQN05",null,"POLICIA DE LINEA",null,null,null,null,null,null,null,15,"TARJETA",null,0,0,219.4,3291,131.63999999999999,230.37,0,362.01,3291,3653.01,null,null,0,128.877712,128.87,0,3524.1400000000003,{"$f":"PORTADA!$D$10","v":1}]
[173,"11","17","REYES HERNANDEZ MOISES","REHM541231","REHM641231HJCYRS02",null,"POLICIA EN LINEA",null,null,null,null,null,null,null,15,"TARJETA",null,0,0,219.4,3291,131.63999999999999,230.37,0,362.01,3291,3653.01,null,0,0,128.877712,128.87,0,3524.1400000000003,{"$f":"PORTADA!$D$10","v":1}]
[null,null,null,"RIVERA MORENO JORGE ALBERTO",null,null,null,"POLICIA EN LINEA",null,null,null,null,null,null,null,15,"TARJETA",null,0,0,219.4,3291,131.63999999999999,230.37,0,362.01,3291,3653.01,null,null,0,128.877712,128.87,0,3524.1400000000003,{"$f":"PORTADA!$D$10","v":1}]
[null,null,null,"RODRIGUEZ OLMEDO JOSE RAFAEL",null,null,null,"POLICIA DE LINEA",null,null,null,null,null,null,null,15,"TARJETA",null,0,0,219.4,3291,131.63999999999999,230.37,0,362.01,3291,3653.01,null,0,0,128.877712,128.87,0,3524.1400000000003]
[175,"11","17","ROSAS MACIEL JUAN ALVARO",null,null,null,"POLICIA DE LINEA",null,null,null,null,null,null,null,15,"TARJETA",null,0,0,219.4,3291,131.63999999999999,230.37,0,362.01,3291,3653.01,null,0,0,128.877712,128.87,0,3524.1400000000003,{"$f":"PORTADA!$D$10","v":1}]
[168,"11","17","SALAS CARRANZA FRANCISCO CARLOS",null,null,null,"POLICIA DE LINEA",null,null,null,null,null,null,null,15,"TARJETA",null,0,0,219.4,3291,131.63999999999999,230.37,0,362.01,3291,3653.01,null,null,0,128.877712,128.87,0,3524.1400000000003,{"$f":"PORTADA!$D$10","v":1},null,31]
[148,null,null,"TORRES MORAN CARLOS",null,null,null,"DIRECTOR DE SEGURIDAD PUBLICA MUNICIPAL",null,null,null,null,null,null,null,15,"TARJETA",null,0,0,517.09199999999998,7756.38,310.25,542.94000000000005,0,853.19,7756.38,8609.57,null,null,0,1109.5735920000002,1109.57,0,7500,{"$f":"PORTADA!$D$10","v":1},null,32]
[181,"11","17","VILLANE VALLARTA EFREN OSWALDO","VIVE",null,null,"AUXILIAR ADMINISTRATIVO",null,null,null,null,null,null,null,15,"TARJETA",null,0,0,{"$f":"3969/15","v":264.60000000000002},3969,158.76,277.83,0,436.59,3969,4405.59,null,0,0,344.12839999999994,344.12,0,4061.4700000000003,{"$f":"PORTADA!$D$10","v":1},null,34]
[null,null,null,"DIRECCION DE SEGURIDAD PUBLICA",null,null,null,null,null,null,null,null,null,null,null,null,null,null,null,null,null,{"$f":"SUM(V286:V319)","v":118131.38},4725.2499999999982,8269.1899999999969,0,12994.440000000006,118131.38,131125.81999999995,0,566,0,5862.2085520000001,5861.9499999999971,0,124697.87]
[]
[null,null,null,"DEPARTAMENTO DE PROTECCION CIVIL"]
[183,"11","18","DE LATORRE GARCIA MIGUEL RAFAEL","GAHJ",null,null,"DIRECTOR DE PROTECCION CIVIL",null,null,null,null,null,null,null,15,"TARJETA",null,0,0,405.53410000000002,{"$f":"TRUNC(U323*P323,2)","v":6083.01},{"$f":"TRUNC(U323*P323*0.04,2)","v":243.32},{"$f":"TRUNC(U323*0.07*P323,2)","v":425.81},{"$f":"S323","v":0},{"$f":"TRUNC(X323+W323+(IF(Y323>519,519,Y323))+IF(R323=0,0,R323*U323),2)","v":669.13},{"$f":"TRUNC((IF(R323=0,P323*U323,(P323-R323)*U323))+(IF(Y323<519,0,Y323-519)),2)+T323","v":6083.01},{"$f":"Z323+AA323","v":6752.14},null,null,0,{"$f":"IF(U323>0.01,(AA323-VLOOKUP(AA323,quincenal,1))*VLOOKUP(AA323,quincenal,3)+VLOOKUP(AA323,quincenal,2)-VLOOKUP(AA323,subquincenal,2),0)","v":752.1417600000002},{"$f":"TRUNC(IF(AF323>0.01,AF323,0),2)","v":752.14},{"$f":"TRUNC(IF(AF323<0.01,-AF323,0),2)","v":0},{"$f":"AB323-AD323-AE323-AG323+AH323","v":6000},{"$f":"PORTADA!$D$10","v":1},null,1]
[null,null,null,"HERNANDEZ ENRIQUEZ ROSA GUADALUPE","HEEG670312","HEER670312MJCRNS06","2007-01-08","AUXILIAR ADMINISTRATIVO",null,null,null,null,null,null,null,15,"TARJETA",null,0,0,{"$f":"4459/15","v":297.26666666666665},{"$f":"TRUNC(U324*P324,2)","v":4459},{"$f":"TRUNC(U324*P324*0.04,2)","v":178.36},{"$f":"TRUNC(U324*0.07*P324,2)","v":312.13},{"$f":"S324","v":0},{"$f":"TRUNC(X324+W324+(IF(Y324>519,519,Y324))+IF(R324=0,0,R324*U324),2)","v":490.49},{"$f":"TRUNC((IF(R324=0,P324*U324,(P324-R324)*U324))+(IF(Y324<519,0,Y324-519)),2)+T324","v":4459},{"$f":"Z324+AA324","v":4949.49},null,null,0,{"$f":"IF(U324>0.01,(AA324-VLOOKUP(AA324,quincenal,1))*VLOOKUP(AA324,quincenal,3)+VLOOKUP(AA324,quincenal,2)-VLOOKUP(AA324,subquincenal,2),0)","v":426.55828800000006},{"$f":"TRUNC(IF(AF324>0.01,AF324,0),2)","v":426.55},{"$f":"TRUNC(IF(AF324<0.01,-AF324,0),2)","v":0},{"$f":"AB324-AD324-AE324-AG324+AH324","v":4522.9399999999996}]
[184,null,null,"TRINIDAD RAMIREZ JOSE ROMAN","VAML800130","VAML800130HJCRRS04",null,"CHOFER PROTECCION CIVIL",null,null,null,null,null,null,null,15,"TARJETA",null,0,0,{"$f":"3016/15","v":201.06666666666666},{"$f":"TRUNC(U325*P325,2)","v":3016},{"$f":"TRUNC(U325*P325*0.04,2)","v":120.64},{"$f":"TRUNC(U325*0.07*P325,2)","v":211.12},{"$f":"S325","v":0},{"$f":"TRUNC(X325+W325+(IF(Y325>519,519,Y325))+IF(R325=0,0,R325*U325),2)","v":331.76},{"$f":"TRUNC((IF(R325=0,P325*U325,(P325-R325)*U325))+(IF(Y325<519,0,Y325-519)),2)+T325","v":3016},{"$f":"Z325+AA325","v":3347.76},null,0,0,{"$f":"IF(U325>0.01,(AA325-VLOOKUP(AA325,quincenal,1))*VLOOKUP(AA325,quincenal,3)+VLOOKUP(AA325,quincenal,2)-VLOOKUP(AA325,subquincenal,2),0)","v":78.707711999999987},{"$f":"TRUNC(IF(AF325>0.01,AF325,0),2)","v":78.7},{"$f":"TRUNC(IF(AF325<0.01,-AF325,0),2)","v":0},{"$f":"AB325-AD325-AE325-AG325+AH325","v":3269.0600000000004},{"$f":"PORTADA!$D$10","v":1},null,2]
[null,null,null,"ALVAREZ SANDOVAL GABRIEL",null,null,null,"PARAMEDICO PROTECCIONJ CIVIL",null,null,null,null,null,null,null,15,"TARJETA",null,0,0,165.506,{"$f":"TRUNC(U326*P326,2)","v":2482.59},{"$f":"TRUNC(U326*P326*0.04,2)","v":99.3},{"$f":"TRUNC(U326*0.07*P326,2)","v":173.78},{"$f":"S326","v":0},{"$f":"TRUNC(X326+W326+(IF(Y326>519,519,Y326))+IF(R326=0,0,R326*U326),2)","v":273.08},{"$f":"TRUNC((IF(R326=0,P326*U326,(P326-R326)*U326))+(IF(Y326<519,0,Y326-519)),2)+T326","v":2482.59},{"$f":"Z326+AA326","v":2755.67},null,null,0,5.6727039999999818,{"$f":"TRUNC(IF(AF326>0.01,AF326,0),2)","v":5.67},{"$f":"TRUNC(IF(AF326<0.01,-AF326,0),2)","v":0},{"$f":"AB326-AD326-AE326-AG326+AH326","v":2750}]
[null,null,null,"LOPEZ GOMEZ GABRIEL ALEJANDRO",null,null,null,"PARAMEDICO PROTECCIONJ CIVIL",null,null,null,null,null,null,null,15,"TARJETA",null,0,0,165.506,{"$f":"TRUNC(U327*P327,2)","v":2482.59},{"$f":"TRUNC(U327*P327*0.04,2)","v":99.3},{"$f":"TRUNC(U327*0.07*P327,2)","v":173.78},{"$f":"S327","v":0},{"$f":"TRUNC(X327+W327+(IF(Y327>519,519,Y327))+IF(R327=0,0,R327*U327),2)","v":273.08},{"$f":"TRUNC((IF(R327=0,P327*U327,(P327-R327)*U327))+(IF(Y327<519,0,Y327-519)),2)+T327","v":2482.59},{"$f":"Z327+AA327","v":2755.67},null,null,0,{"$f":"IF(U327>0.01,(AA327-VLOOKUP(AA327,quincenal,1))*VLOOKUP(AA327,quincenal,3)+VLOOKUP(AA327,quincenal,2)-VLOOKUP(AA327,subquincenal,2),0)","v":5.6727039999999818},{"$f":"TRUNC(IF(AF327>0.01,AF327,0),2)","v":5.67},{"$f":"TRUNC(IF(AF327<0.01,-AF327,0),2)","v":0},{"$f":"AB327-AD327-AE327-AG327+AH327","v":2750}]
[null,null,null,"PARRA MARTINEZ JOSE DE JESUS",null,null,null,"CHOFER PROTECCION CIVIL",null,null,null,null,null,null,null,15,"TARJETA",null,0,0,165.506,{"$f":"TRUNC(U328*P328,2)","v":2482.59},{"$f":"TRUNC(U328*P328*0.04,2)","v":99.3},{"$f":"TRUNC(U328*0.07*P328,2)","v":173.78},{"$f":"S328","v":0},{"$f":"TRUNC(X328+W328+(IF(Y328>519,519,Y328))+IF(R328=0,0,R328*U328),2)","v":273.08},{"$f":"TRUNC((IF(R328=0,P328*U328,(P328-R328)*U328))+(IF(Y328<519,0,Y328-519)),2)+T328","v":2482.59},{"$f":"Z328+AA328","v":2755.67},null,null,0,{"$f":"IF(U328>0.01,(AA328-VLOOKUP(AA328,quincenal,1))*VLOOKUP(AA328,quincenal,3)+VLOOKUP(AA328,quincenal,2)-VLOOKUP(AA328,subquincenal,2),0)","v":5.6727039999999818},{"$f":"TRUNC(IF(AF328>0.01,AF328,0),2)","v":5.67},{"$f":"TRUNC(IF(AF328<0.01,-AF328,0),2)","v":0},{"$f":"AB328-AD328-AE328-AG328+AH328","v":2750}]
[185,"11",18,"SUAREZ GUEVARA ALEJANDRO","SUGA700224UD9","SUGA700224HJCRVL07",null,"CHOFER PROTECCION CIVIL",null,null,null,null,null,null,null,15,"TARJETA",null,0,0,{"$f":"3016/15","v":201.06666666666666},{"$f":"TRUNC(U329*P329,2)","v":3016},{"$f":"TRUNC(U329*P329*0.04,2)","v":120.64},{"$f":"TRUNC(U329*0.07*P329,2)","v":211.12},{"$f":"S329","v":0},{"$f":"TRUNC(X329+W329+(IF(Y329>519,519,Y329))+IF(R329=0,0,R329*U329),2)","v":331.76},{"$f":"TRUNC((IF(R329=0,P329*U329,(P329-R329)*U329))+(IF(Y329<519,0,Y329-519)),2)+T329","v":3016},{"$f":"Z329+AA329","v":3347.76},null,0,0,78.707711999999987,{"$f":"TRUNC(IF(AF329>0.01,AF329,0),2)","v":78.7},{"$f":"TRUNC(IF(AF329<0.01,-AF329,0),2)","v":0},{"$f":"AB329-AD329-AE329-AG329+AH329","v":3269.0600000000004},{"$f":"PORTADA!$D$10","v":1},null,3]
[186,"11",18,"CHAVEZ VAZQUEZ JUAN PABLO","LEME710921LM9","LEME710921MNTDLM01",null,"CHOFER PROTECCION CIVIL",null,null,null,null,null,null,null,15,"TARJETA",null,0,0,{"$f":"3291/15","v":219.4},{"$f":"TRUNC(U330*P330,2)","v":3291},{"$f":"TRUNC(U330*P330*0.04,2)","v":131.63999999999999},{"$f":"TRUNC(U330*0.07*P330,2)","v":230.37},{"$f":"S330","v":0},{"$f":"TRUNC(X330+W330+(IF(Y330>519,519,Y330))+IF(R330=0,0,R330*U330),2)","v":362.01},{"$f":"TRUNC((IF(R330=0,P330*U330,(P330-R330)*U330))+(IF(Y330<519,0,Y330-519)),2)+T330","v":3291},{"$f":"Z330+AA330","v":3653.01},null,null,0,{"$f":"IF(U330>0.01,(AA330-VLOOKUP(AA330,quincenal,1))*VLOOKUP(AA330,quincenal,3)+VLOOKUP(AA330,quincenal,2)-VLOOKUP(AA330,subquincenal,2),0)","v":128.877712},{"$f":"TRUNC(IF(AF330>0.01,AF330,0),2)","v":128.87},{"$f":"TRUNC(IF(AF330<0.01,-AF330,0),2)","v":0},{"$f":"AB330-AD330-AE330-AG330+AH330","v":3524.1400000000003},{"$f":"PORTADA!$D$10","v":1},null,4]
[null,null,null,"DEPARTAMENTO DE PROTECCION CIVIL",null,null,null,null,null,null,null,null,null,null,null,null,null,null,null,null,null,{"$f":"SUM(V323:V330)","v":27312.780000000002},1092.5,1911.8899999999999,0,3004.3900000000003,27312.780000000002,30317.170000000006,0,0,0,1482.0112960000001,1481.9700000000003,0,28835.200000000001]
[]
[null,null,null,null,null,null,null,null,null,null,null,null,null,null,null,null,null,null,null,null,null,null,null,null,null,null,null,null,null,null,null,null,null,null,null,{"$f":"PORTADA!$D$10","v":1}]
[null,null,null,null,null,null,null,null,null,null,null,null,null,null,null,null,null,null,null,null,null,{"$f":"V331+V320","v":145444.16},5817.7499999999982,10181.079999999996,0,15998.830000000005,145444.16,161442.98999999996,0,566,0,7344.2198480000006,7343.9199999999973,0,153533.07,{"$f":"PORTADA!$D$10","v":1}]
[null,null,null,null,null,null,null,null,null,null,null,null,null,null,null,null,null,null,null,null,null,null,null,null,null,null,null,null,null,null,null,null,null,null,null,{"$f":"PORTADA!$D$10","v":1}]
[null,null,null,null,null,null,null,null,null,null,null,null,null,null,null,null,null,null,null,null,null,null,null,null,null,null,null,null,null,null,null,null,null,null,null,{"$f":"PORTADA!$D$10","v":1}]
[null,null,null,null,null,null,null,null,null,null,null,null,null,null,null,null,null,null,null,null,null,null,null,null,null,null,null,null,null,null,null,null,null,null,null,{"$f":"PORTADA!$D$10","v":1}]
[null,null,null,null,null,null,null,null,null,null,null,null,null,null,null,null,null,null,null,null,null,null,null,null,null,null,null,null,null,null,null,null,null,null,null,{"$f":"PORTADA!$D$10","v":1}]
[null,null,null,"L.A.F. EDUARDO RON RAMOS",null,null,null,null,null,null,null,null,null,null,null,"L.C.P. MARTIN DANIEL FREGOSO BARBOZA",null,null,null,null,null,null,null,null,null,null,null,null,null,null,null,null,null,"ING. MARIO CAMARENA GONZALEZ RUBIO"]
[null,null,null,"PRESIDENTE MUNICIPAL  ",null,null,null,null,null,null,null,null,null,null,null,"SINDICO MUNICIPAL",null,null,null,null,null,null,null,null,null,null,null,null,null,null,null,null,null,"ENCARGADO DE LA HACIENDA PUBLICA"]
[null,null,null,null,null,null,null,null,null,null,null,null,null,null,null,null,null,null,null,null,null,null,null,null,null,null,null,null,null,null,null,null,null,null,null,{"$f":"PORTADA!$D$10","v":1}]
[null,null,null,null,null,null,null,null,null,null,null,null,null,null,null,null,null,null,null,null,null,null,null,null,null,null,null,null,null,null,null,null,null,null,null,{"$f":"PORTADA!$D$10","v":1}]
[null,null,null,null,null,null,null,null,null,null,null,null,null,null,null,null,null,null,null,null,null,null,null,null,null,null,null,null,null,null,null,null,null,null,null,{"$f":"PORTADA!$D$10","v":1}]
[null,null,null,null,null,null,null,null,null,null,null,null,null,null,null,null,null,null,null,null,null,null,null,null,null,null,null,null,null,null,null,null,null,null,null,{"$f":"PORTADA!$D$10","v":1}]
[null,null,null,null,null,null,null,null,null,null,null,null,null,null,null,null,null,null,null,null,null,null,null,null,null,null,null,null,null,null,null,null,null,null,null,{"$f":"PORTADA!$D$10","v":1}]
[null,null,null,"PENSIONADOS",null,null,null,null,null,null,null,null,null,null,null,null,null,null,null,null,null,null,null,null,null,null,null,null,null,null,null,null,null,null,null,{"$f":"PORTADA!$D$10","v":1}]
[188,null,null,"ESPINOZA GONZALEZ ANGELA","EIGA240505KM2","EIGA240505MJCSNN09",null,"PENSIONADO",null,null,null,null,null,null,null,15,"TARJETA",null,0,0,{"$f":"626.5/15","v":41.766666666666666},{"$f":"TRUNC(U347*P347,2)","v":626.5},{"$f":"TRUNC(U347*P347*0.04,2)","v":25.06},{"$f":"TRUNC(U347*0.07*P347,2)","v":43.85},{"$f":"S347","v":0},{"$f":"TRUNC(X347+W347+(IF(Y347>519,519,Y347))+IF(R347=0,0,R347*U347),2)","v":68.91},{"$f":"TRUNC((IF(R347=0,P347*U347,(P347-R347)*U347))+(IF(Y347<519,0,Y347-519)),2)+T347","v":626.5},{"$f":"Z347+AA347","v":695.41},null,null,0,{"$f":"IF(U347>0.01,(AA347-VLOOKUP(AA347,quincenal,1))*VLOOKUP(AA347,quincenal,3)+VLOOKUP(AA347,quincenal,2)-VLOOKUP(AA347,subquincenal,2),0)","v":-171.77184},{"$f":"TRUNC(IF(AF347>0.01,AF347,0),2)","v":0},{"$f":"TRUNC(IF(AF347<0.01,-AF347,0),2)","v":171.77},{"$f":"AB347-AD347-AE347-AG347+AH347","v":867.18},{"$f":"PORTADA!$D$10","v":1},null,1]
[189,null,null,"DE LA ROSA MACIAS PABLO","ROMP450629DNA","ROMP450629HJCSCB04",null,"PENSIONADO",null,null,null,null,null,null,null,15,"TARJETA",null,0,0,{"$f":"1480/15","v":98.666666666666671},{"$f":"TRUNC(U348*P348,2)","v":1480},{"$f":"TRUNC(U348*P348*0.04,2)","v":59.2},{"$f":"TRUNC(U348*0.07*P348,2)","v":103.6},{"$f":"S348","v":0},{"$f":"TRUNC(X348+W348+(IF(Y348>519,519,Y348))+IF(R348=0,0,R348*U348),2)","v":162.80000000000001},{"$f":"TRUNC((IF(R348=0,P348*U348,(P348-R348)*U348))+(IF(Y348<519,0,Y348-519)),2)+T348","v":1480},{"$f":"Z348+AA348","v":1642.8},null,null,0,{"$f":"IF(U348>0.01,(AA348-VLOOKUP(AA348,quincenal,1))*VLOOKUP(AA348,quincenal,3)+VLOOKUP(AA348,quincenal,2)-VLOOKUP(AA348,subquincenal,2),0)","v":-116.99783999999998},{"$f":"TRUNC(IF(AF348>0.01,AF348,0),2)","v":0},{"$f":"TRUNC(IF(AF348<0.01,-AF348,0),2)","v":116.99},{"$f":"AB348-AD348-AE348-AG348+AH348","v":1759.79},null,null,2]
[null,null,null,"DIAZ ORTIZ LUIS",null,null,null,"PENSIONADO",null,null,null,null,null,null,null,15,"TARJETA",null,0,0,113.977,{"$f":"TRUNC(U349*P349,2)","v":1709.65},{"$f":"TRUNC(U349*P349*0.04,2)","v":68.38},{"$f":"TRUNC(U349*0.07*P349,2)","v":119.67},{"$f":"S349","v":0},{"$f":"TRUNC(X349+W349+(IF(Y349>519,519,Y349))+IF(R349=0,0,R349*U349),2)","v":188.05},{"$f":"TRUNC((IF(R349=0,P349*U349,(P349-R349)*U349))+(IF(Y349<519,0,Y349-519)),2)+T349","v":1709.65},{"$f":"Z349+AA349","v":1897.7},null,null,0,{"$f":"IF(U349>0.01,(AA349-VLOOKUP(AA349,quincenal,1))*VLOOKUP(AA349,quincenal,3)+VLOOKUP(AA349,quincenal,2)-VLOOKUP(AA349,subquincenal,2),0)","v":-102.30023999999997},{"$f":"TRUNC(IF(AF349>0.01,AF349,0),2)","v":0},{"$f":"TRUNC(IF(AF349<0.01,-AF349,0),2)","v":102.3},{"$f":"AB349-AD349-AE349-AG349+AH349","v":2000}]
[null,null,null,"DIAZ ROMERO J FELIX","DIRF401208","DIRF401210HJCZML05","2001-01-01","PENSIONADO",null,null,null,null,null,null,null,15,"TARJETA",null,0,0,{"$f":"1426/15","v":95.066666666666663},{"$f":"TRUNC(U350*P350,2)","v":1426},{"$f":"TRUNC(U350*P350*0.04,2)","v":57.04},{"$f":"TRUNC(U350*0.07*P350,2)","v":99.82},{"$f":"S350","v":0},{"$f":"TRUNC(X350+W350+(IF(Y350>519,519,Y350))+IF(R350=0,0,R350*U350),2)","v":156.86000000000001},{"$f":"TRUNC((IF(R350=0,P350*U350,(P350-R350)*U350))+(IF(Y350<519,0,Y350-519)),2)+T350","v":1426},{"$f":"Z350+AA350","v":1582.8600000000001},null,null,0,{"$f":"IF(U350>0.01,(AA350-VLOOKUP(AA350,quincenal,1))*VLOOKUP(AA350,quincenal,3)+VLOOKUP(AA350,quincenal,2)-VLOOKUP(AA350,subquincenal,2),0)","v":-120.45383999999997},{"$f":"TRUNC(IF(AF350>0.01,AF350,0),2)","v":0},{"$f":"TRUNC(IF(AF350<0.01,-AF350,0),2)","v":120.45},{"$f":"AB350-AD350-AE350-AG350+AH350","v":1703.3100000000002},null,null,3]
[190,null,null,"ESQUIVEL CLARO EULALIA",null,null,null,"PENSIONADO",null,null,null,null,null,null,null,15,"TARJETA",null,0,0,{"$f":"783.5/15","v":52.233333333333334},{"$f":"TRUNC(U351*P351,2)","v":783.5},{"$f":"TRUNC(U351*P351*0.04,2)","v":31.34},{"$f":"TRUNC(U351*0.07*P351,2)","v":54.84},{"$f":"S351","v":0},{"$f":"TRUNC(X351+W351+(IF(Y351>519,519,Y351))+IF(R351=0,0,R351*U351),2)","v":86.18},{"$f":"TRUNC((IF(R351=0,P351*U351,(P351-R351)*U351))+(IF(Y351<519,0,Y351-519)),2)+T351","v":783.5},{"$f":"Z351+AA351","v":869.68000000000006},null,null,0,{"$f":"IF(U351>0.01,(AA351-VLOOKUP(AA351,quincenal,1))*VLOOKUP(AA351,quincenal,3)+VLOOKUP(AA351,quincenal,2)-VLOOKUP(AA351,subquincenal,2),0)","v":-161.72384},{"$f":"TRUNC(IF(AF351>0.01,AF351,0),2)","v":0},{"$f":"TRUNC(IF(AF351<0.01,-AF351,0),2)","v":161.72},{"$f":"AB351-AD351-AE351-AG351+AH351","v":1031.4000000000001},null,null,4]
[null,null,null,"GARCIA FRANCISCO",null,null,null,"PENSIONADO",null,null,null,null,null,null,null,15,"TARJETA",null,0,0,{"$f":"1181.5/15","v":78.766666666666666},{"$f":"TRUNC(U352*P352,2)","v":1181.5},{"$f":"TRUNC(U352*P352*0.04,2)","v":47.26},{"$f":"TRUNC(U352*0.07*P352,2)","v":82.7},{"$f":"S352","v":0},{"$f":"TRUNC(X352+W352+(IF(Y352>519,519,Y352))+IF(R352=0,0,R352*U352),2)","v":129.96},{"$f":"TRUNC((IF(R352=0,P352*U352,(P352-R352)*U352))+(IF(Y352<519,0,Y352-519)),2)+T352","v":1181.5},{"$f":"Z352+AA352","v":1311.46},null,0,0,{"$f":"IF(U352>0.01,(AA352-VLOOKUP(AA352,quincenal,1))*VLOOKUP(AA352,quincenal,3)+VLOOKUP(AA352,quincenal,2)-VLOOKUP(AA352,subquincenal,2),0)","v":-136.10183999999998},{"$f":"TRUNC(IF(AF352>0.01,AF352,0),2)","v":0},{"$f":"TRUNC(IF(AF352<0.01,-AF352,0),2)","v":136.1},{"$f":"AB352-AD352-AE352-AG352+AH352","v":1447.56},null,null,5]
[191,"11","17","GIL RIVERA JOSE LUIS","GIRL700926","GIRL700926HJCLVS01","2007-01-01","PENSIONADO",null,null,null,null,null,null,null,15,"TARJETA",null,0,0,{"$f":"1645.5/15","v":109.7},1645.5,65.819999999999993,115.18,0,181,1645.5,1826.5,null,0,0,-106.40583999999998,0,106.4,1932.9,{"$f":"PORTADA!$D$10","v":1},null,6]
[193,null,null,"GOMEZ CHAVEZ BENIGNO","GUJJ351120F83","GUJJ351120HJCVR 03",null,"PENSIONADO",null,null,null,null,null,null,null,15,"TARJETA",null,0,0,114.417,{"$f":"TRUNC(U354*P354,2)","v":1716.25},{"$f":"TRUNC(U354*P354*0.04,2)","v":68.650000000000006},{"$f":"TRUNC(U354*0.07*P354,2)","v":120.13},{"$f":"S354","v":0},{"$f":"TRUNC(X354+W354+(IF(Y354>519,519,Y354))+IF(R354=0,0,R354*U354),2)","v":188.78},{"$f":"TRUNC((IF(R354=0,P354*U354,(P354-R354)*U354))+(IF(Y354<519,0,Y354-519)),2)+T354","v":1716.25},{"$f":"Z354+AA354","v":1905.03},null,0,0,{"$f":"IF(U354>0.01,(AA354-VLOOKUP(AA354,quincenal,1))*VLOOKUP(AA354,quincenal,3)+VLOOKUP(AA354,quincenal,2)-VLOOKUP(AA354,subquincenal,2),0)","v":-94.97784},{"$f":"TRUNC(IF(AF354>0.01,AF354,0),2)","v":0},{"$f":"TRUNC(IF(AF354<0.01,-AF354,0),2)","v":94.97},{"$f":"AB354-AD354-AE354-AG354+AH354","v":2000},null,null,7]
[192,null,null,"GUIZAR CARRILLO FRANCISCO JAVIER",null,null,null,"PENSIONADO",null,null,null,null,null,null,null,15,"TARJETA",null,0,0,{"$f":"1645.5/15","v":109.7},{"$f":"TRUNC(U355*P355,2)","v":1645.5},{"$f":"TRUNC(U355*P355*0.04,2)","v":65.819999999999993},{"$f":"TRUNC(U355*0.07*P355,2)","v":115.18},{"$f":"S355","v":0},{"$f":"TRUNC(X355+W355+(IF(Y355>519,519,Y355))+IF(R355=0,0,R355*U355),2)","v":181},{"$f":"TRUNC((IF(R355=0,P355*U355,(P355-R355)*U355))+(IF(Y355<519,0,Y355-519)),2)+T355","v":1645.5},{"$f":"Z355+AA355","v":1826.5},null,0,0,{"$f":"IF(U355>0.01,(AA355-VLOOKUP(AA355,quincenal,1))*VLOOKUP(AA355,quincenal,3)+VLOOKUP(AA355,quincenal,2)-VLOOKUP(AA355,subquincenal,2),0)","v":-106.40583999999998},{"$f":"TRUNC(IF(AF355>0.01,AF355,0),2)","v":0},{"$f":"TRUNC(IF(AF355<0.01,-AF355,0),2)","v":106.4},{"$f":"AB355-AD355-AE355-AG355+AH355","v":1932.9},null,null,8]
[194,null,null,"HERNANDEZ RAMIREZ SALVADOR","HERS421229UE7","HERS421229HJCRML04",null,"PENSIONADO",null,null,null,null,null,null,null,15,"TARJETA",null,0,0,{"$f":"2069.5/15","v":137.96666666666667},2069.5,82.78,144.86000000000001,0,227.64,2069.5,2297.14,null,null,0,-67.269839999999974,0,67.260000000000005,2364.4,{"$f":"PORTADA!$D$10","v":1},null,9]
[195,null,null,"HERNANDEZ SANTIAGO JOSE DE JESUS","HESJ410605JD8","HESJ410605HJCRNS07",null,"PENSIONADO",null,null,null,null,null,null,null,15,"TARJETA",null,0,0,{"$f":"1243.5/15","v":82.9},1243.5,49.74,87.04,0,136.78,1243.5,1380.28,null,null,0,-132.13383999999996,0,132.13,1512.4099999999999,{"$f":"PORTADA!$D$10","v":1},null,10]
[196,null,null,"MENDEZ FRANCO MIGUEL","MEFM351006CE0","MEFM351006HJCNRG07",null,"PENSIONADO",null,null,null,null,null,null,null,15,"TARJETA",null,0,0,{"$f":"2924/15","v":194.93333333333334},2924,116.96,204.68,0,321.64,2924,3245.64,null,0,0,68.698111999999981,68.69,0,3176.95,{"$f":"PORTADA!$D$10","v":1},null,11]
[197,null,null,"OCHOA FLORES MARIA DE JESUS","MERL260819Q10","MERL260819HJCZGS06",null,"PENSIONADO",null,null,null,null,null,null,null,15,"TARJETA",null,0,0,{"$f":"783.5/15","v":52.233333333333334},{"$f":"TRUNC(U359*P359,2)","v":783.5},{"$f":"TRUNC(U359*P359*0.04,2)","v":31.34},{"$f":"TRUNC(U359*0.07*P359,2)","v":54.84},{"$f":"S359","v":0},{"$f":"TRUNC(X359+W359+(IF(Y359>519,519,Y359))+IF(R359=0,0,R359*U359),2)","v":86.18},{"$f":"TRUNC((IF(R359=0,P359*U359,(P359-R359)*U359))+(IF(Y359<519,0,Y359-519)),2)+T359","v":783.5},{"$f":"Z359+AA359","v":869.68000000000006},null,null,0,{"$f":"IF(U359>0.01,(AA359-VLOOKUP(AA359,quincenal,1))*VLOOKUP(AA359,quincenal,3)+VLOOKUP(AA359,quincenal,2)-VLOOKUP(AA359,subquincenal,2),0)","v":-161.72384},{"$f":"TRUNC(IF(AF359>0.01,AF359,0),2)","v":0},{"$f":"TRUNC(IF(AF359<0.01,-AF359,0),2)","v":161.72},{"$f":"AB359-AD359-AE359-AG359+AH359","v":1031.4000000000001},{"$f":"PORTADA!$D$10","v":1},null,12]
[199,null,null,"ROJAS GARCIA FELIPE","ROGF340501T63","ROGF340501HJCJRL01",null,"PENSIONADO",null,null,null,null,null,null,null,15,"TARJETA",null,0,0,{"$f":"1243.5/15","v":82.9},1243.5,49.74,87.04,0,136.78,1243.5,1380.28,null,null,0,-132.13383999999996,0,132.13,1512.4099999999999,{"$f":"PORTADA!$D$10","v":1},null,13]
[200,null,null,"SANCHEZ SANCHEZ RAYMUNDO","SASR4910255R8","SASR491025HJCNNY01",null,"PENSIONADO",null,null,null,null,null,null,null,15,"TARJETA",null,0,0,{"$f":"2918.5/15","v":194.56666666666666},2918.5,116.74,204.29,0,321.02999999999997,2918.5,3239.5299999999997,null,null,0,68.099711999999982,68.09,0,3171.4399999999996,{"$f":"PORTADA!$D$10","v":1},null,14]
[null,null,null,"PENSIONADOS",null,null,null,null,null,null,null,null,null,null,null,null,null,null,null,null,null,{"$f":"SUM(V347:V361)","v":23396.9},935.87000000000012,1637.72,0,2573.59,23396.9,25970.489999999998,0,0,0,-1473.6024959999997,136.78,1610.3400000000001,27444.05]
[]
[]
[]
[null,null,null,"L.A.F. EDUARDO RON RAMOS",null,null,null,null,null,null,null,null,null,null,null,"L.C.P. MARTIN DANIEL FREGOSO BARBOZA",null,null,null,null,null,null,null,null,null,null,null,null,null,null,null,null,null,"ING. MARIO CAMARENA GONZALEZ RUBIO"]
[null,null,null,"PRESIDENTE MUNICIPAL  ",null,null,null,null,null,null,null,null,null,null,null,"SINDICO MUNICIPAL",null,null,null,null,null,null,null,null,null,null,null,null,null,null,null,null,null,"ENCARGADO DE LA HACIENDA PUBLICA"]
[]
[]
[]
[2,null,null,"AGUA POTABLE Y ALCANTRILLADO",null,null,null,null,null,null,null,null,null,null,null,null,null,null,null,null,null,null,null,null,null,null,null,null,null,null,null,null,null,null,null,{"$f":"[2]PORTADA!$D$10","v":1}]
[202,null,null,"BAILON SIERRA ENRIQUE","BASE740304","BASE740304HJCLRN02",null,"ENCARGADO GENERAL DE ALCANTARILLADO",null,null,null,null,null,null,null,15,"TARJETA",null,0,0,{"$f":"2775/15","v":185},{"$f":"TRUNC(U372*P372,2)","v":2775},{"$f":"TRUNC(U372*P372*0.04,2)","v":111},{"$f":"TRUNC(U372*0.07*P372,2)","v":194.25},{"$f":"S372","v":0},{"$f":"TRUNC(X372+W372+(IF(Y372>519,519,Y372))+IF(R372=0,0,R372*U372),2)","v":305.25},{"$f":"TRUNC((IF(R372=0,P372*U372,(P372-R372)*U372))+(IF(Y372<519,0,Y372-519)),2)+T372","v":2775},{"$f":"Z372+AA372","v":3080.25},null,null,0,{"$f":"IF(U372>0.01,(AA372-VLOOKUP(AA372,quincenal,1))*VLOOKUP(AA372,quincenal,3)+VLOOKUP(AA372,quincenal,2)-VLOOKUP(AA372,subquincenal,2),0)","v":52.48691199999999},{"$f":"TRUNC(IF(AF372>0.01,AF372,0),2)","v":52.48},{"$f":"TRUNC(IF(AF372<0.01,-AF372,0),2)","v":0},{"$f":"AB372-AD372-AE372-AG372+AH372","v":3027.77},{"$f":"[2]PORTADA!$D$10","v":1},null,1]
[203,"11","17","CARRILLO MUÑOZ SERGIO",null,null,null,"AUXILIAR DE ALCANTARILLADO EN ETZATLAN",null,null,null,null,null,null,null,15,"TARJETA",null,0,0,{"$f":"2222/15","v":148.13333333333333},2222,88.88,155.54,0,244.42,2222,2466.42,null,null,0,-37.079488000000026,0,37.07,2503.4900000000002,{"$f":"[2]PORTADA!$D$10","v":1},null,2]
[204,null,null,"DE LA ROSA MACIAS SALVADOR","ROMS500801","ROMS500801HJCSCL00",null,"AUXILIAR DE FONTANERO OCONAHUA",null,null,null,null,null,null,null,15,"TARJETA",null,0,0,{"$f":"1496/15","v":99.733333333333334},1496,59.84,104.72,0,164.56,1496,1660.56,null,null,0,-115.97383999999998,0,115.97,1776.53,{"$f":"[2]PORTADA!$D$10","v":1},null,3]
[205,null,null,"DELGADO DELGADO JOSE ANTONIO","DEDA550605","DEDA550605HNTLLN09",null,"AUXILIAR DE ALCANTARILLADO EN OCONAHUA",null,null,null,null,null,null,null,15,"TARJETA",null,0,0,{"$f":"1585/15","v":105.66666666666667},1585,63.4,110.95,0,174.35,1585,1759.35,null,null,0,-110.27783999999998,0,110.27,1869.62,{"$f":"[2]PORTADA!$D$10","v":1},null,4]
[206,null,null,"FLORES HARRIS JESUS","FOHJ730517","FOHJ730517HJCLRS08",null,"AUXILIAR OPERATIVO PLANTA TRATADORA",null,null,null,null,null,null,null,14,"TARJETA",null,0,0,{"$f":"2775/15","v":185},2590,103.6,181.3,0,284.89999999999998,2590,2874.9,null,null,0,17.358911999999975,17.350000000000001,0,2857.55,{"$f":"[2]PORTADA!$D$10","v":1},null,5]
[207,null,null,"GARCIA GARCIA SALVADOR","GAGS520228","GAGS361031HJCRRB04",null,"AUXILIAR OPERATIVO",null,null,null,null,null,null,null,15,"TARJETA",null,0,0,{"$f":"2775/15","v":185},2775,111,194.25,0,305.25,2775,3080.25,null,null,0,52.48691199999999,52.48,0,3027.77,{"$f":"[2]PORTADA!$D$10","v":1},null,6]
[208,null,null,"GARCIA MEDINA FRANCISCO JAVIER","GAMJ641203",null,null,"FONTANERO",null,null,null,null,null,null,null,15,"TARJETA",null,0,0,217.7938,{"$f":"TRUNC(U378*P378,2)","v":3266.9},{"$f":"TRUNC(U378*P378*0.04,2)","v":130.66999999999999},{"$f":"TRUNC(U378*0.07*P378,2)","v":228.68},{"$f":"S378","v":0},{"$f":"TRUNC(X378+W378+(IF(Y378>519,519,Y378))+IF(R378=0,0,R378*U378),2)","v":359.35},{"$f":"TRUNC((IF(R378=0,P378*U378,(P378-R378)*U378))+(IF(Y378<519,0,Y378-519)),2)+T378","v":3266.9},{"$f":"Z378+AA378","v":3626.25},null,null,0,{"$f":"IF(U378>0.01,(AA378-VLOOKUP(AA378,quincenal,1))*VLOOKUP(AA378,quincenal,3)+VLOOKUP(AA378,quincenal,2)-VLOOKUP(AA378,subquincenal,2),0)","v":126.25563199999996},{"$f":"TRUNC(IF(AF378>0.01,AF378,0),2)","v":126.25},{"$f":"TRUNC(IF(AF378<0.01,-AF378,0),2)","v":0},{"$f":"AB378-AD378-AE378-AG378+AH378","v":3500},{"$f":"[2]PORTADA!$D$10","v":1},null,7]
[209,null,null,"GARCIA MEDINA JOSE DE JESUS","GAMJ521114","GAMJ521114HJCRDS00",null,"ELECTRICISTA",null,null,null,null,null,null,null,15,"TARJETA",null,0,0,{"$f":"3282/15","v":218.8},3282,131.28,229.74,0,361.02,3282,3643.02,null,null,0,127.89851199999995,127.89,0,3515.13,{"$f":"[2]PORTADA!$D$10","v":1},null,8]
[210,null,null,"GARCIA MEDINA RAMON","GAMR560716","GAMR560716HJCRDM02",null,"ENCARGADO GENERAL DE BOMBAS",null,null,null,null,null,null,null,15,"TARJETA",null,0,0,{"$f":"2984/15","v":198.93333333333334},2984,119.36,208.88,0,328.24,2984,3312.24,null,null,0,75.226111999999972,75.22,0,3237.02,{"$f":"[2]PORTADA!$D$10","v":1},null,9]
[211,null,null,"GARCIA MENDEZ HECTOR MIGUEL","GAMH851007","GAMH851007HJCRNC04",null,"FONTANERO",null,null,null,null,null,null,null,15,"TARJETA",null,0,0,{"$f":"2822/15","v":188.13333333333333},2822,112.88,197.54,0,310.42,2822,3132.42,null,0,0,57.600511999999981,57.6,0,3074.82,{"$f":"[2]PORTADA!$D$10","v":1},null,10]
[212,null,null,"GARCIA MEZA LUIS ALBERTO",null,null,null,"FONTANERO",null,null,null,null,null,null,null,15,"TARJETA",null,0,0,{"$f":"2822/15","v":188.13333333333333},2822,112.88,197.54,0,310.42,2822,3132.42,null,null,0,57.600511999999981,57.6,0,3074.82,{"$f":"[2]PORTADA!$D$10","v":1},null,11]
[213,"2","1","GONZALEZ ESPINOZA JAIME","GOEJ550102","GOEJ550102HJCNSM14",null,"ENCARGADO DE PLANTA TRATADORA DE AGUAS NEGRAS",null,null,null,null,null,null,null,15,"TARJETA",null,0,0,{"$f":"4596/15","v":306.39999999999998},4596,183.84,321.72000000000003,0,505.56,4596,5101.5600000000004,null,0,0,451.10868800000009,451.1,0,4650.46,{"$f":"[2]PORTADA!$D$10","v":1},null,12]
[214,"2","2","HERNANDEZ PINEDA JUAN JOSE","HEPJ581212","HEPJ571212HJCRNN00",null,"ENCARGADO  DE BOMBA EN SANTA ROSALIA",null,null,null,null,null,null,null,15,"TARJETA",null,0,0,{"$f":"1989/15","v":132.6},1989,79.56,139.22999999999999,0,218.79,1989,2207.79,null,null,0,-72.421839999999975,0,72.42,2280.21,{"$f":"[2]PORTADA!$D$10","v":1},null,13]
[215,null,null,"LEMUS SANCHEZ J. VENTURA",null,null,null,"AUXILIAR DE ALCANTARILLADO EN ETZATLAN",null,null,null,null,null,null,null,15,"TARJETA",null,0,0,{"$f":"2563/15","v":170.86666666666667},2563,102.52,179.41,0,281.93,2563,2844.93,null,null,0,14.421311999999972,14.42,0,2830.5099999999998,{"$f":"[2]PORTADA!$D$10","v":1},null,14]
[216,null,null,"MELCHOR CASILLAS SANTIAGO","MECS331205","MECS331205HJCLSN08",null,"ENCARGADO  DE BOMBA EN OCONAHUA",null,null,null,null,null,null,null,15,"TARJETA",null,0,0,{"$f":"1433/15","v":95.533333333333331},1433,57.32,100.31,0,157.63,1433,1590.63,null,null,0,-120.00583999999998,0,120,1710.63,{"$f":"[2]PORTADA!$D$10","v":1},null,15]
[217,null,null,"MENDEZ GARCIA JOSE GUADALUPE","MEGG780207","MEGG780207HJCNRD06",null,"FONTANERO",null,null,null,null,null,null,null,15,"TARJETA",null,0,0,{"$f":"2822/15","v":188.13333333333333},2822,112.88,197.54,0,310.42,2822,3132.42,null,null,0,57.600511999999981,57.6,0,3074.82,{"$f":"[2]PORTADA!$D$10","v":1},null,16]
[218,null,null,"MEZA RAMOS EUSEBIO","MERE520708","MERE491216HJCZMS01",null,"AUXILIAR OPERATIVO",null,null,null,null,null,null,null,15,"TARJETA",null,0,0,{"$f":"2775/15","v":185},2775,111,194.25,0,305.25,2775,3080.25,null,null,0,52.48691199999999,52.48,0,3027.77,{"$f":"[2]PORTADA!$D$10","v":1},null,17]
[219,null,null,"NAVARRO RODRIGUEZ BERTHA ALICIA","NARB840203","NARB840203MJCVDR03",null,"AUXILIAR ADMINISTRATIVO",null,null,null,null,null,null,null,15,"TARJETA",null,0,0,{"$f":"2622/15","v":174.8},2622,104.88,183.54,0,288.42,2622,2910.42,null,null,0,20.84051199999999,20.84,0,2889.58,{"$f":"[2]PORTADA!$D$10","v":1},null,18]
[220,null,null,"RUIZ CASTRO PEDRO","RUCP730628","RUCP730629HJCZSD07",null,"AUXILIAR OPERATIVO",null,null,null,null,null,null,null,15,"TARJETA",null,0,0,{"$f":"2775/15","v":185},2775,111,194.25,0,305.25,2775,3080.25,null,null,0,52.48691199999999,52.48,0,3027.77,{"$f":"[2]PORTADA!$D$10","v":1},null,19]
[221,null,null,"SANTIAGO LOPEZ SABINO","SALS481230","SALS481230HJCNPB00",null,"AUXILIAR DE FONTANERO OCONAHUA",null,null,null,null,null,null,null,15,"TARJETA",null,0,0,{"$f":"1496/15","v":99.733333333333334},1496,59.84,104.72,0,164.56,1496,1660.56,null,null,0,-115.97383999999998,0,115.97,1776.53,{"$f":"[2]PORTADA!$D$10","v":1},null,20]
[null,null,null,"GONZALEZ BERNAL ENRIQUE MARTIN",null,null,null,"ENCARGADO DEL AGUA POTABLE",null,null,null,null,null,null,null,15,"TARJETA",null,0,0,183.15199999999999,{"$f":"TRUNC(U392*P392,2)","v":2747.28},{"$f":"TRUNC(U392*P392*0.04,2)","v":109.89},{"$f":"TRUNC(U392*0.07*P392,2)","v":192.3},{"$f":"S392","v":0},{"$f":"TRUNC(X392+W392+(IF(Y392>519,519,Y392))+IF(R392=0,0,R392*U392),2)","v":302.19},{"$f":"TRUNC((IF(R392=0,P392*U392,(P392-R392)*U392))+(IF(Y392<519,0,Y392-519)),2)+T392","v":2747.28},{"$f":"Z392+AA392","v":3049.4700000000003},null,null,0,{"$f":"IF(U392>0.01,(AA392-VLOOKUP(AA392,quincenal,1))*VLOOKUP(AA392,quincenal,3)+VLOOKUP(AA392,quincenal,2)-VLOOKUP(AA392,subquincenal,2),0)","v":49.470976000000007},{"$f":"TRUNC(IF(AF392>0.01,AF392,0),2)","v":49.47},{"$f":"TRUNC(IF(AF392<0.01,-AF392,0),2)","v":0},{"$f":"AB392-AD392-AE392-AG392+AH392","v":3000.0000000000005},null,null,21]
[null,null,null,"PONCE FRANCO JOSE SALVADOR",null,null,null,"ENCARGADO  DE BOMBA AGUA ZARCA",null,null,null,null,null,null,null,15,"TARJETA",null,0,0,183.15199999999999,{"$f":"TRUNC(U393*P393,2)","v":2747.28},{"$f":"TRUNC(U393*P393*0.04,2)","v":109.89},{"$f":"TRUNC(U393*0.07*P393,2)","v":192.3},{"$f":"S393","v":0},{"$f":"TRUNC(X393+W393+(IF(Y393>519,519,Y393))+IF(R393=0,0,R393*U393),2)","v":302.19},{"$f":"TRUNC((IF(R393=0,P393*U393,(P393-R393)*U393))+(IF(Y393<519,0,Y393-519)),2)+T393","v":2747.28},{"$f":"Z393+AA393","v":3049.4700000000003},null,null,0,{"$f":"IF(U393>0.01,(AA393-VLOOKUP(AA393,quincenal,1))*VLOOKUP(AA393,quincenal,3)+VLOOKUP(AA393,quincenal,2)-VLOOKUP(AA393,subquincenal,2),0)","v":49.470976000000007},{"$f":"TRUNC(IF(AF393>0.01,AF393,0),2)","v":49.47},{"$f":"TRUNC(IF(AF393<0.01,-AF393,0),2)","v":0},{"$f":"AB393-AD393-AE393-AG393+AH393","v":3000.0000000000005},null,null,22]
[223,null,null,"VILLA RUBIO GABRIEL","VIRG590520","VIRG590520HJCLBB05",null,"ENCARGADO  DE BOMBA AGUA ZARCA",null,null,null,null,null,null,null,15,"TARJETA",null,0,0,{"$f":"2775/15","v":185},2775,111,194.25,0,305.25,2775,3080.25,null,null,0,52.48691199999999,52.48,0,3027.77,{"$f":"[2]PORTADA!$D$10","v":1},null,23]
[224,null,null,"SANCHEZ GARCIA VICTOR MANUEL",null,null,null,"FONTANERO",null,null,null,null,null,null,null,15,"TARJETA",null,0,0,{"$f":"2307/15","v":153.80000000000001},2307,92.28,161.49,{"$f":"S395","v":0},253.77,2307,{"$f":"Z395+AA395","v":2560.77},null,null,0,{"$f":"IF(U395>0.01,(AA395-VLOOKUP(AA395,quincenal,1))*VLOOKUP(AA395,quincenal,3)+VLOOKUP(AA395,quincenal,2)-VLOOKUP(AA395,subquincenal,2),0)","v":-27.831488000000036},{"$f":"TRUNC(IF(AF395>0.01,AF395,0),2)","v":0},{"$f":"TRUNC(IF(AF395<0.01,-AF395,0),2)","v":27.83},{"$f":"AB395-AD395-AE395-AG395+AH395","v":2588.6},{"$f":"[2]PORTADA!$D$10","v":1},null,24]
[null,null,null,"AGUA POTABLE Y ALCANTRILLADO",null,null,null,null,null,null,null,null,null,null,null,null,null,null,null,null,null,{"$f":"SUM(V372:V395)","v":62267.46},2490.69,4358.6999999999989,0,6849.39,62267.46,69116.849999999991,0,0,0,767.72355199999959,1367.21,599.53000000000009,68349.17]
[]
[null,null,null,null,null,null,null,null,null,null,null,null,null,null,null,null,null,null,null,null,null,null,null,null,null,null,null,null,null,null,null,null," "]
[]
[null,null,null,"L.A.F. EDUARDO RON RAMOS",null,null,null,null,null,null,null,null,null,null,null,"L.C.P. MARTIN DANIEL FREGOSO BARBOZA",null,null,null,null,null,null,null,null,null,null,null,null,null,null,null,null,null,"ING. MARIO CAMARENA GONZALEZ RUBIO"]
[null,null,null,"PRESIDENTE MUNICIPAL  ",null,null,null,null,null,null,null,null,null,null,null,"SINDICO MUNICIPAL",null,null,null,null,null,null,null,null,null,null,null,null,null,null,null,null,null,"ENCARGADO DE LA HACIENDA PUBLICA"]
[]
[]
[]
[]
[]
[]
[]
[]
[]
[]
[148,null,null,"ACOSTA GUTIERREZ JUAN ANTONIO","AOGJ700101","AOGJ700101HJCCTN06",null,"VELADOR",null,null,null,null,null,null,null,15,"SOBRE",null,0,0,{"$f":"3291/15","v":219.4},{"$f":"TRUNC(U412*P412,2)","v":3291},{"$f":"TRUNC(U412*P412*0.04,2)","v":131.63999999999999},{"$f":"TRUNC(U412*0.07*P412,2)","v":230.37},{"$f":"S412","v":0},{"$f":"TRUNC(X412+W412+(IF(Y412>519,519,Y412))+IF(R412=0,0,R412*U412),2)","v":362.01},{"$f":"TRUNC((IF(R412=0,P412*U412,(P412-R412)*U412))+(IF(Y412<519,0,Y412-519)),2)+T412","v":3291},{"$f":"Z412+AA412","v":3653.01},null,null,0,{"$f":"IF(U412>0.01,(AA412-VLOOKUP(AA412,quincenal,1))*VLOOKUP(AA412,quincenal,3)+VLOOKUP(AA412,quincenal,2)-VLOOKUP(AA412,subquincenal,2),0)","v":128.877712},{"$f":"TRUNC(IF(AF412>0.01,AF412,0),2)","v":128.87},{"$f":"TRUNC(IF(AF412<0.01,-AF412,0),2)","v":0},{"$f":"AB412-AD412-AE412-AG412+AH412","v":3524.1400000000003},{"$f":"#REF!","v":{"$error":"#REF!"}},null,1]
[null,null,null,"HERNANDEZ RAMIREZ RUBEN","HERR820117","HERR820117HCSRMB01","2007-01-01","CASA DE LA CULTURA",null,null,null,null,null,null,null,15,"TARJETA",null,0,0,{"$f":"3291/15","v":219.4},{"$f":"TRUNC(U413*P413,2)","v":3291},{"$f":"TRUNC(U413*P413*0.04,2)","v":131.63999999999999},{"$f":"TRUNC(U413*0.07*P413,2)","v":230.37},{"$f":"S413","v":0},{"$f":"TRUNC(X413+W413+(IF(Y413>519,519,Y413))+IF(R413=0,0,R413*U413),2)","v":362.01},{"$f":"TRUNC((IF(R413=0,P413*U413,(P413-R413)*U413))+(IF(Y413<519,0,Y413-519)),2)+T413","v":3291},{"$f":"Z413+AA413","v":3653.01},null,0,0,{"$f":"IF(U413>0.01,(AA413-VLOOKUP(AA413,quincenal,1))*VLOOKUP(AA413,quincenal,3)+VLOOKUP(AA413,quincenal,2)-VLOOKUP(AA413,subquincenal,2),0)","v":128.877712},{"$f":"TRUNC(IF(AF413>0.01,AF413,0),2)","v":128.87},{"$f":"TRUNC(IF(AF413<0.01,-AF413,0),2)","v":0},{"$f":"AB413-AD413-AE413-AG413+AH413","v":3524.1400000000003},{"$f":"[4]PORTADA!$D$10","v":1},null,3]
[]
[null,null,null,null,null,null,null,null,null,null,null,null,null,null,null,null,null,null,null,null,null,null,null,null,null,null,null,null,null,null,null,null,null,null,null,{"$f":"#REF!","v":{"$error":"#REF!"}}]
[null,null,null,null,null,null,null,null,null,null,null,null,null,null,null,null,null,null,null,null,null,{"$f":"SUM(V412:V415)","v":6582},263.27999999999997,460.74,0,724.02,6582,7306.02,0,0,0,257.755424,257.74,0,7048.2800000000007,{"$f":"#REF!","v":{"$error":"#REF!"}}]
[null,null,null,null,null,null,null,null,null,null,null,null,null,null,null,null,null,null,null,null,null,null,null,null,null,null,null,null,null,null,null,null,null,null,null,{"$f":"#REF!","v":{"$error":"#REF!"}}]
[null,null,null,null,null,null,null,null,null,null,null,null,null,null,null,null,null,null,null,null,null,null,null,null,null,null,null,null,null,null,null,null,null,null,null,{"$f":"#REF!","v":{"$error":"#REF!"}}]
[null,null,null,null,null,null,null,null,null,null,null,null,null,null,null,null,null,null,null,null,null,null,null,null,null,null,null,null,null,null,null,null,null,null,null,{"$f":"#REF!","v":{"$error":"#REF!"}}]
[null,null,null,null,null,null,null,null,null,null,null,null,null,null,null,null,null,null,null,null,null,null,null,null,null,null,null,null,null,null,null,null,null,null,null,{"$f":"#REF!","v":{"$error":"#REF!"}}]
[null,null,null,"L.A.F. EDUARDO RON RAMOS",null,null,null,null,null,null,null,null,null,null,null,"L.C.P. MARTIN DANIEL FREGOSO BARBOZA",null,null,null,null,null,null,null,null,null,null,null,null,null,null,null,null,null,"ING. MARIO CAMARENA GONZALEZ RUBIO"]
[null,null,null,"PRESIDENTE MUNICIPAL ",null,null,null,null,null,null,null,null,null,null,null,"SINDICO MUNICIPAL",null,null,null,null,null,null,null,null,null,null,null,null,null,null,null,null,null,"ENCARGADO DE LA HACIENDA PUBLICA"]

{"sheet":"ACUMULADO","index":3,"n_rows":1,"n_cols":31,"rows_kept":1,"cut":false,"hidden":false,"merged":[]}
["No.empleado","CAPITULO","PARTIDA","NOMBRE","RFC","CURP","FECHA DE INGRESO","CARGO","DEPENDENCIA","PAGO CON","DIAS LABORADOS","DIAS CON INCAPACIDAD","HORAS EXTRAS","DESPENSA EN EFECTIVO","SUELDO POR DIA ACTUAL","SUELDO POR DIA PROPUESTO","FONDO DE AHORRO","APOYO EDUCACIONAL","TIEMPO EXTRA","SUB TOTAL EXENTO","SUB TOTAL GRAVADO","SUB TOTAL A PAGAR","FONDO DE AHORRO","PRESTAMOS","OTRAS DEDUCCIONES","CALCULO","I.S.R.","SUBSIDIO AL EMPLEO","TOTAL A PAGAR","nomina","observaciones"]

{"sheet":"Tablas 2015","index":4,"n_rows":69,"n_cols":16,"rows_kept":69,"cut":false,"hidden":false,"merged":[[18,0,18,1],[18,4,18,5],[18,8,18,9],[19,0,19,1],[19,4,19,5],[19,8,19,9],[0,0,0,2],[0,4,0,6],[0,8,0,10],[1,0,1,2],[1,4,1,6],[1,8,1,10]]}
["TARIFA MENSUAL ISR",null,null,null,"TARIFA QUINCENAL ISR",null,null,null,"TARIFA SEMANAL ISR",null,null,null,0.01,496.07,0,1.92]
[2015,null,null,null,2015,null,null,null,2015,null,null,null,496.08,4210.41,9.52,6.4]
["Lim. Inferior","Cuota Fija","%",null,"Lim. Inferior","Cuota Fija","%",null,"Lim. Inferior","Cuota Fija","%",null,4210.42,7399.42,247.24,10.88]
[0.01,0,1.9199999999999998E-2,null,0.01,0,1.9199999999999998E-2,null,0.01,0,1.9199999999999998E-2,null,7399.43,8601.5,594.21,16]
[496.08,9.52,6.4000000000000001E-2,null,244.81,4.6500000000000004,6.4000000000000001E-2,null,114.25,2.17,6.4000000000000001E-2,null,8601.51,10298.35,786.54,17.920000000000002]
[4210.42,247.24,0.10879999999999999,null,2077.5100000000002,121.95,0.10879999999999999,null,969.51,56.91,0.10879999999999999,null,10298.36,20770.29,1090.6099999999999,21.36]
[7399.43,594.21,0.16,null,3651.01,293.25,0.16,null,1703.81,136.85,0.16,null,20770.3,32736.83,3327.42,23.52]
[8601.51,786.54,0.1792,null,4244.1099999999997,388.05,0.1792,null,1980.59,181.09,0.1792,null,32736.84,62500,6141.95,30]
[10298.36,1090.6099999999999,0.21360000000000001,null,5081.41,538.20000000000005,0.21360000000000001,null,2371.33,251.16,0.21360000000000001,null,62500.01,83333.33,15070.9,32]
[20770.3,3327.42,0.23519999999999999,null,10248.459999999999,1641.75,0.23519999999999999,null,4782.62,766.15,0.23519999999999999,null,83333.34,250000,21737.57,34]
[32736.84,6141.95,0.3,null,16153.06,3030.6,0.3,null,7538.1,1414.28,0.3,null,250000.01,"En adelante",78404.23,35]
[62500.01,15070.9,0.32,null,30838.81,7436.25,0.32,null,14391.45,3470.25,0.32]
[83333.34,21737.57,0.34,null,41118.46,10725.75,0.34,null,19188.62,5005.3500000000004,0.34]
[250000.01,78404.23,0.35,null,123355.21,38686.35,0.35,null,57565.77,18053.63,0.35]
[]
[]
[null,null,null,null,null,null,null,null," "]
[]
["SUBSIDIO PARA EL EMPLEO",null,null,null,"SUBSIDIO PARA EL EMPLEO",null,null,null,"SUBSIDIO PARA EL EMPLEO"]
[{"$f":"+A2","v":2015},null,null,null,{"$f":"+E2","v":2015},null,null,null,{"$f":"+I2","v":2015},null,null,0.01,1768.96,407.02]
["Para","SE",null,null,"Para","SE",null,null,"Para","SE",null,1768.97,2653.38,406.83]
["Ingresos","Mensual",null,null,"Ingresos","Quincenal",null,null,"Ingresos","Semanal",null,2653.39,3472.84,406.62]
[0.01,407.02,null,null,0.01,200.85,null,null,0.01,93.73,null,3472.85,3537.87,392.77]
[1768.97,406.83,null,null,872.86,200.7,null,null,407.34,93.66,null,3537.88,4446.1499999999996,382.46]
[2653.39,406.62,null,null,1309.21,200.7,null,null,610.97,93.66,null,4446.16,4717.18,354.23]
[3472.85,392.77,null,null,1713.61,193.8,null,null,799.69,90.44,null,4717.1899999999996,5335.42,324.87]
[3537.88,382.46,null,null,1745.71,188.7,null,null,814.67,88.06,null,5335.43,6224.67,294.63]
[4446.16,354.23,null,null,2193.7600000000002,174.75,null,null,1023.76,81.55,null,6224.68,7113.9,253.54]
[4717.1899999999996,324.87,null,null,2327.56,160.35,null,null,1086.2,74.83,null,7113.91,7382.33,217.61]
[5335.43,294.63,null,null,2632.66,145.35,null,null,1228.58,67.83,null,7382.34,"En adelante",0]
[6224.68,253.54,null,null,3071.41,125.1,null,null,1433.33,58.38]
[7113.91,217.61,null,null,3510.16,107.4,null,null,1638.08,50.12]
[7382.34,0,null,null,3642.61,0,null,null,1699.89,0]
[]
[]
[]
["CAPITULO","PARTIDA","CONCEC",null,"DEPENDENCIA"]
[1,1,1,"SALA DE REGIDORES"]
[1,2,2,"PRESIDENCIA MUNICIPAL"]
[1,5,3,"SECRETARIA GENERAL Y SINDICATURA"]
[1,6,4,"OFICIALIA MAYOR"]
[1,7,5,"DEPARTAMENTO JURIDICO"]
[1,14,6,"REGISTRO CIVIL"]
[1,16,7,"OFICIALIA MAYOR DE CULTURA"]
[1,19,8,"PARTICIPACION CIUDADANA"]
[1,23,9,"RELACIONES EXTERIORES"]
["2","1",10,"DELEGACIONES"]
["2","2",11,"AGENCIAS"]
["3","1",12,"HACIENDA MUNICIPAL"]
["3","3",13,"DEPTO. DE INGRESOS"]
["3","7",14,"DEPTO. DE EGRESOS"]
["3","12",15,"DEPTO. DE INFORMATICA"]
["3","13",16,"DEPTO. DE IMPUESTO PREDIAL Y CATASTRO"]
["4","1",17,"DIRECCION GENERAL DE OBRAS PUBLICAS"]
["4","3",18,"DEPTO. DE SERVICIOS PUBLICOS"]
["4","4",19,"DEPTO. DE CONSTRUCCION"]
["5","2",20,"DEPTO. DE CEMENTERIOS"]
["5","3",21,"DEPTO. RASTRO"]
["5","5",22,"DEPTO. MERCADOS"]
["5","7",23,"DEPTO. DE ASEO PUBLICO"]
["5","8",24,"DEPTO. DE PARQUES Y JARDINES"]
["5","9",25,"VERTEDERO"]
["5","10",26,"DEPTO. DE ALUMBRADO PUBLICO"]
["5","11",27,"DEPTO. DE AGUA DRENAJE Y ALCANTARILLADO"]
["5","14",28,"DIR. DE TURISMO Y DEPORTES"]
["5","15",29,"SERVICIO MEDICO"]
["5","26",30,"INSPECCION AGRICOLA Y GANADERA"]
["11","17",31,"SEGURIDAD PUBLICA"]
["11","18",32,"PROTECCION CIVIL"]

{"sheet":"Hoja1","index":5,"n_rows":0,"n_cols":0,"rows_kept":0,"cut":false,"hidden":false,"merged":[]}

{"sheet":"finiquito","index":6,"n_rows":354,"n_cols":31,"rows_kept":354,"cut":false,"hidden":false,"merged":[[2,0,2,29],[3,1,3,29],[4,1,4,29],[261,3,261,4],[261,8,261,16],[261,26,261,29],[262,3,262,4],[262,8,262,16],[262,26,262,29],[279,3,279,4],[279,8,279,16],[279,26,279,29],[280,3,280,4],[280,8,280,16],[280,26,280,29],[305,3,305,4],[305,8,305,16],[305,26,305,29],[338,3,338,4],[338,8,338,16],[338,26,338,29],[306,3,306,4],[306,8,306,16],[306,26,306,29],[337,3,337,4],[337,8,337,16],[337,26,337,29]]}
[null,null,null,null,null,null,null,null,null,null,null,null,{"$f":"SUBTOTAL(9,M9:M275)","v":0},34262.698166666683,1386197.3899999997,55447.790000000008,97033.710000000021,{"$error":"#REF!"},{"$error":"#REF!"},{"$error":"#REF!"},{"$error":"#REF!"},null,{"$f":"SUBTOTAL(9,W9:W275)","v":0},{"$f":"SUBTOTAL(9,X9:X275)","v":0},{"$f":"SUBTOTAL(9,Y9:Y272)","v":{"$error":"#N/A"}},{"$f":"SUBTOTAL(9,Z9:Z275)","v":102511.26000000001},{"$f":"SUBTOTAL(9,AA9:AA275)","v":11905.069999999998},{"$f":"SUBTOTAL(9,AB9:AB275)","v":1448072.7},null,{"$f":"SUBTOTAL(9,AD9:AD272)","v":0}]
[null,null,null,null,null,null,null,null,null,null,null,null,null,null,{"$f":"TRUNC(N2*I2,2)","v":0},{"$f":"TRUNC(N2*I2*0.04,2)","v":0},{"$f":"TRUNC(N2*0.07*I2,2)","v":0},{"$f":"L2","v":0},{"$f":"TRUNC(Q2+P2+(IF(R2>519,519,R2))+IF(K2=0,0,K2*N2),2)","v":0},{"$f":"TRUNC((IF(K2=0,I2*N2,(I2-K2)*N2))+(IF(R2<519,0,R2-519)),2)+M2","v":0},{"$f":"S2+T2","v":0},{"$f":"P2","v":0},null,null,{"$f":"IF(N2>0.01,(T2-VLOOKUP(T2,quincenal,1))*VLOOKUP(T2,quincenal,3)+VLOOKUP(T2,quincenal,2)-VLOOKUP(T2,subquincenal,2),0)","v":0},{"$f":"TRUNC(IF(Y2>0.01,Y2,0),2)","v":0},{"$f":"TRUNC(IF(Y2<0.01,-Y2,0),2)","v":0},{"$f":"U2-W2-X2-Z2+AA2-P2","v":0},{"$f":"PORTADA!$D$10","v":1}]
["H. AYUNTAMIENTO DE ETZATLAN, JALISCO"]
[null,"ADMINISTRACION 2012-2015"]
[null,"NOMINA CORRESPONDIENTE A LA SEGUNDA QUINCENA DE MAYO DE 2015"]
[null,null,null,"Etzatlán, Jalisco a 30 de Mayo de 2015."]
[null,"CAPITULO","PARTIDA","NOMBRE","RFC","CURP","FECHA DE INGRESO","CARGO","DIAS LABORADOS","PAGO CON","DIAS CON INCAPACIDAD","TIEMPO EXTRA","OTROS INGRESOS","SUELDO POR DIA PROPUESTO","SUELDO BASE ","FONDO DE AHORRO","APOYO EDUCACIONAL","TIEMPO EXTRA","SUB TOTAL EXENTO","SUB TOTAL GRAVADO","SUB TOTAL A PAGAR","FONDO DE AHORRO ","PRESTAMOS","OTRAS DEDUCCIONES","CALCULO","I.S.R.","SUBSIDIO AL EMPLEO","TOTAL A PAGAR","nomina","FIRMA DE RECIBIDO"]
[null,null,null,"SALA DE REGIDORES"]
[1,1,1,"FREGOSO GOMEZ CARLOS","FEGC520708","FEGC520708HJCRMR08","2012-10-01","REGIDOR",15,"TARJETA",null,0,0,{"$f":"8023/15","v":534.86666666666667},{"$f":"TRUNC(N9*I9,2)","v":8023},{"$f":"TRUNC(N9*I9*0.04,2)","v":320.92},{"$f":"TRUNC(N9*0.07*I9,2)","v":561.61},{"$f":"L9","v":0},{"$f":"TRUNC(Q9+P9+(IF(R9>519,519,R9))+IF(K9=0,0,K9*N9),2)","v":882.53},{"$f":"TRUNC((IF(K9=0,I9*N9,(I9-K9)*N9))+(IF(R9<519,0,R9-519)),2)+M9","v":8023},{"$f":"S9+T9","v":8905.5300000000007},null,null,0,{"$f":"IF(N9>0.01,(T9-VLOOKUP(T9,quincenal,1))*VLOOKUP(T9,quincenal,3)+VLOOKUP(T9,quincenal,2)-VLOOKUP(T9,subquincenal,2),0)","v":1166.5236240000002},{"$f":"TRUNC(IF(Y9>0.01,Y9,0),2)","v":1166.52},{"$f":"TRUNC(IF(Y9<0.01,-Y9,0),2)","v":0},{"$f":"U9-W9-X9-Z9+AA9","v":7739.01},{"$f":"PORTADA!$D$10","v":1}]
[null,null,null,"HERNANDEZ ENRIQUEZ J. FILEMON",null,null,null,"REGIDOR",15,"TARJETA",null,0,0,{"$f":"8023/15","v":534.86666666666667},{"$f":"TRUNC(N10*I10,2)","v":8023},{"$f":"TRUNC(N10*I10*0.04,2)","v":320.92},{"$f":"TRUNC(N10*0.07*I10,2)","v":561.61},{"$f":"L10","v":0},{"$f":"TRUNC(Q10+P10+(IF(R10>519,519,R10))+IF(K10=0,0,K10*N10),2)","v":882.53},{"$f":"TRUNC((IF(K10=0,I10*N10,(I10-K10)*N10))+(IF(R10<519,0,R10-519)),2)+M10","v":8023},{"$f":"S10+T10","v":8905.5300000000007},null,null,0,{"$f":"IF(N10>0.01,(T10-VLOOKUP(T10,quincenal,1))*VLOOKUP(T10,quincenal,3)+VLOOKUP(T10,quincenal,2)-VLOOKUP(T10,subquincenal,2),0)","v":1166.5236240000002},1166.52,{"$f":"TRUNC(IF(Y10<0.01,-Y10,0),2)","v":0},{"$f":"U10-W10-X10-Z10+AA10","v":7739.01}]
[3,1,1,"PARRA VELASCO ANA ROSA",null,null,"2012-10-01","REGIDOR",15,"TARJETA",null,0,0,534.86666666666667,8023,320.92,561.61,0,882.53,8023,8905.5300000000007,null,null,0,1166.5236240000002,1166.52,0,7739.01,{"$f":"PORTADA!$D$10","v":1}]
[4,1,1,"MARTINEZ NAVARRO FRANCISCO",null,null,"2012-10-01","REGIDOR",15,"TARJETA",null,0,0,534.86666666666667,8023,320.92,561.61,0,882.53,8023,8905.5300000000007,null,null,0,1166.5236240000002,1166.52,0,7739.01,{"$f":"PORTADA!$D$10","v":1}]
[5,1,1,"SOTO HERNANDEZ RAMON",null,null,"2012-10-01","REGIDOR",15,"TARJETA",null,0,0,534.86666666666667,8023,320.92,561.61,0,882.53,8023,8905.5300000000007,null,null,0,1166.5236240000002,1166.52,0,7739.01,{"$f":"PORTADA!$D$10","v":1}]
[6,1,1,"MEDINA FLORES CARMEN AIDE",null,null,"2012-10-01","REGIDOR",15,"TARJETA",null,0,0,534.86666666666667,8023,320.92,561.61,0,882.53,8023,8905.5300000000007,null,null,0,1166.5236240000002,1166.52,0,7739.01,{"$f":"PORTADA!$D$10","v":1}]
[7,1,1,"BECERRA GONZALEZ ALFREDO",null,null,"2012-10-01","REGIDOR",15,"TARJETA",null,0,0,534.86666666666667,8023,320.92,561.61,0,882.53,8023,8905.5300000000007,null,null,null,1166.5236240000002,1166.52,0,7739.01,{"$f":"PORTADA!$D$10","v":1}]
[8,1,1,"CHAVEZ JORDAN JUAN MANUEL",null,null,"2012-10-01","REGIDOR",15,"TARJETA",null,0,0,534.86666666666667,8023,320.92,561.61,0,882.53,8023,8905.5300000000007,null,null,null,1166.5236240000002,1166.52,0,7739.01,{"$f":"PORTADA!$D$10","v":1}]
[9,1,1,"LOPEZ PARRA DANIEL",null,null,"2012-10-01","REGIDOR",15,"TARJETA",null,0,0,534.86666666666667,8023,320.92,561.61,0,882.53,8023,8905.5300000000007,null,0,null,1166.5236240000002,1166.52,0,7739.01,{"$f":"PORTADA!$D$10","v":1}]
[null,1,1,null,"BAGV780611","BAGV780611MJCRTR04",null,"SECRETARIA SALA  DE REGIDORES",0,"TARJETA",null,0,0,172.16,{"$f":"TRUNC(N18*I18,2)","v":0},0,0,0,0,0,0,null,null,0,null,0,0,0,{"$f":"PORTADA!$D$10","v":1},null,2658.44]
[null,null,null,"SALA DE REGIDORES",null,null,null,null,null,null,null,null,null,null,{"$f":"SUM(O9:O18)","v":72207},{"$f":"SUM(P9:P18)","v":2888.28},5054.49,0,7942.7699999999986,72207,80149.77,0,0,0,10498.712616000001,10498.680000000002,0,69651.090000000011]
[]
[null,null,null,"PRESIDENCIA MUNICIPAL"]
[null,null,null,"RUIZ JUAREZ MARIA RAQUEL",null,null,null,"PRESIDENTE MUNICIPAL INTERINO",15,"TARJETA",null,0,0,{"$f":"14227/15","v":948.4666666666667},{"$f":"TRUNC(N22*I22,2)","v":14227},{"$f":"TRUNC(N22*I22*0.04,2)","v":569.08000000000004},{"$f":"TRUNC(N22*0.07*I22,2)","v":995.89},{"$f":"L22","v":0},{"$f":"TRUNC(Q22+P22+(IF(R22>519,519,R22))+IF(K22=0,0,K22*N22),2)","v":1564.97},{"$f":"TRUNC((IF(K22=0,I22*N22,(I22-K22)*N22))+(IF(R22<519,0,R22-519)),2)+M22","v":14227},{"$f":"S22+T22","v":15791.97},null,null,0,{"$f":"IF(N22>0.01,(T22-VLOOKUP(T22,quincenal,1))*VLOOKUP(T22,quincenal,3)+VLOOKUP(T22,quincenal,2)-VLOOKUP(T22,subquincenal,2),0)","v":2577.5026080000002},{"$f":"TRUNC(IF(Y22>0.01,Y22,0),2)","v":2577.5},{"$f":"TRUNC(IF(Y22<0.01,-Y22,0),2)","v":0},{"$f":"U22-W22-X22-Z22+AA22","v":13214.47}]
[11,1,2,"FREGOSO PARRA MARTHA","FEPM871023ND1","FEPM871023MJCRRR07",null,"SECRETARIA PARTICULAR",15,"TARJETA",null,0,0,{"$f":"3349/15","v":223.26666666666668},{"$f":"TRUNC(N23*I23,2)","v":3349},{"$f":"TRUNC(N23*I23*0.04,2)","v":133.96},{"$f":"TRUNC(N23*0.07*I23,2)","v":234.43},{"$f":"L23","v":0},{"$f":"TRUNC(Q23+P23+(IF(R23>519,519,R23))+IF(K23=0,0,K23*N23),2)","v":368.39},{"$f":"TRUNC((IF(K23=0,I23*N23,(I23-K23)*N23))+(IF(R23<519,0,R23-519)),2)+M23","v":3349},{"$f":"S23+T23","v":3717.39},null,null,0,{"$f":"IF(N23>0.01,(T23-VLOOKUP(T23,quincenal,1))*VLOOKUP(T23,quincenal,3)+VLOOKUP(T23,quincenal,2)-VLOOKUP(T23,subquincenal,2),0)","v":135.18811199999996},{"$f":"TRUNC(IF(Y23>0.01,Y23,0),2)","v":135.18},{"$f":"TRUNC(IF(Y23<0.01,-Y23,0),2)","v":0},{"$f":"U23-W23-X23-Z23+AA23","v":3582.21},{"$f":"PORTADA!$D$10","v":1}]
[null,null,null,"PRESIDENCIA MUNICIPAL",null,null,null,null,null,null,null,null,null,null,{"$f":"SUM(O22:O23)","v":17576},703.04000000000008,1230.32,0,1933.3600000000001,17576,19509.36,0,0,0,2712.6907200000001,2712.68,0,16796.68]
[]
[null,null,null,"SECRETARIA GENERAL Y SINDICATURA"]
[13,1,5,"TOPETE DUEÑAS SANDRA MARGARITA",null,null,null,"SINDICO MUNICIPAL",15,"TARJETA",null,0,0,{"$f":"10307/15","v":687.13333333333333},{"$f":"TRUNC(N27*I27,2)","v":10307},{"$f":"TRUNC(N27*I27*0.04,2)","v":412.28},{"$f":"TRUNC(N27*0.07*I27,2)","v":721.49},{"$f":"L27","v":0},{"$f":"TRUNC(Q27+P27+(IF(R27>519,519,R27))+IF(K27=0,0,K27*N27),2)","v":1133.77},{"$f":"TRUNC((IF(K27=0,I27*N27,(I27-K27)*N27))+(IF(R27<519,0,R27-519)),2)+M27","v":10307},{"$f":"S27+T27","v":11440.77},null,0,0,{"$f":"IF(N27>0.01,(T27-VLOOKUP(T27,quincenal,1))*VLOOKUP(T27,quincenal,3)+VLOOKUP(T27,quincenal,2)-VLOOKUP(T27,subquincenal,2),0)","v":1655.5186080000003},{"$f":"TRUNC(IF(Y27>0.01,Y27,0),2)","v":1655.51},{"$f":"TRUNC(IF(Y27<0.01,-Y27,0),2)","v":0},{"$f":"U27-W27-X27-Z27+AA27","v":9785.26},{"$f":"PORTADA!$D$10","v":1}]
[14,1,1,"MENDEZ NAVARRO JOSE FLORENTINO",null,null,"2012-10-01","SECRETARIO GENERAL",15,"TARJETA",null,0,0,{"$f":"10307/15","v":687.13333333333333},{"$f":"TRUNC(N28*I28,2)","v":10307},{"$f":"TRUNC(N28*I28*0.04,2)","v":412.28},{"$f":"TRUNC(N28*0.07*I28,2)","v":721.49},{"$f":"L28","v":0},{"$f":"TRUNC(Q28+P28+(IF(R28>519,519,R28))+IF(K28=0,0,K28*N28),2)","v":1133.77},{"$f":"TRUNC((IF(K28=0,I28*N28,(I28-K28)*N28))+(IF(R28<519,0,R28-519)),2)+M28","v":10307},{"$f":"S28+T28","v":11440.77},null,null,0,{"$f":"IF(N28>0.01,(T28-VLOOKUP(T28,quincenal,1))*VLOOKUP(T28,quincenal,3)+VLOOKUP(T28,quincenal,2)-VLOOKUP(T28,subquincenal,2),0)","v":1655.5186080000003},{"$f":"TRUNC(IF(Y28>0.01,Y28,0),2)","v":1655.51},{"$f":"TRUNC(IF(Y28<0.01,-Y28,0),2)","v":0},{"$f":"U28-W28-X28-Z28+AA28","v":9785.26}]
[15,null,null,"GONZALEZ BALCASAR JESUS",null,null,null,"SECRETARIO ",15,"TARJETA",null,0,0,{"$f":"3086/15","v":205.73333333333332},{"$f":"TRUNC(N29*I29,2)","v":3086},{"$f":"TRUNC(N29*I29*0.04,2)","v":123.44},{"$f":"TRUNC(N29*0.07*I29,2)","v":216.02},{"$f":"L29","v":0},{"$f":"TRUNC(Q29+P29+(IF(R29>519,519,R29))+IF(K29=0,0,K29*N29),2)","v":339.46},{"$f":"TRUNC((IF(K29=0,I29*N29,(I29-K29)*N29))+(IF(R29<519,0,R29-519)),2)+M29","v":3086},{"$f":"S29+T29","v":3425.46},null,null,0,{"$f":"IF(N29>0.01,(T29-VLOOKUP(T29,quincenal,1))*VLOOKUP(T29,quincenal,3)+VLOOKUP(T29,quincenal,2)-VLOOKUP(T29,subquincenal,2),0)","v":106.57371199999997},{"$f":"TRUNC(IF(Y29>0.01,Y29,0),2)","v":106.57},{"$f":"TRUNC(IF(Y29<0.01,-Y29,0),2)","v":0},{"$f":"U29-W29-X29-Z29+AA29","v":3318.89}]
[16,null,null,"SUAREZ MENDEZ  FRANCISCO ALEJANDRO",null,null,null,"AUXILIAR ADMINISTRATIVO",15,"TARJETA",null,0,0,{"$f":"3397/15","v":226.46666666666667},{"$f":"TRUNC(N30*I30,2)","v":3397},{"$f":"TRUNC(N30*I30*0.04,2)","v":135.88},{"$f":"TRUNC(N30*0.07*I30,2)","v":237.79},{"$f":"L30","v":0},{"$f":"TRUNC(Q30+P30+(IF(R30>519,519,R30))+IF(K30=0,0,K30*N30),2)","v":373.67},{"$f":"TRUNC((IF(K30=0,I30*N30,(I30-K30)*N30))+(IF(R30<519,0,R30-519)),2)+M30","v":3397},{"$f":"S30+T30","v":3770.67},null,null,0,{"$f":"IF(N30>0.01,(T30-VLOOKUP(T30,quincenal,1))*VLOOKUP(T30,quincenal,3)+VLOOKUP(T30,quincenal,2)-VLOOKUP(T30,subquincenal,2),0)","v":140.41051199999995},{"$f":"TRUNC(IF(Y30>0.01,Y30,0),2)","v":140.41},{"$f":"TRUNC(IF(Y30<0.01,-Y30,0),2)","v":0},{"$f":"U30-W30-X30-Z30+AA30","v":3630.26},{"$f":"PORTADA!$D$10","v":1}]
[null,null,null,"SECRETARIA GENERAL Y SINDICATURA",null,null,null,null,null,null,null,null,null,null,{"$f":"SUM(O27:O30)","v":27097},1083.8800000000001,1896.79,0,2980.67,27097,30077.67,0,0,0,{"$f":"SUM(Y27:Y30)","v":3558.0214400000004},3558,0,26519.67]
[]
[null,null,null,"OFICIALIA MAYOR ADMINISTRATIVA"]
[null,null,null,"CHAVEZ GOMEZ DAVID",null,null,null,"OFICIAL MAYOR INTERINO",15,"TARJETA",null,0,0,{"$f":"7229/15","v":481.93333333333334},{"$f":"TRUNC(N34*I34,2)","v":7229},{"$f":"TRUNC(N34*I34*0.04,2)","v":289.16000000000003},{"$f":"TRUNC(N34*0.07*I34,2)","v":506.03},{"$f":"L34","v":0},{"$f":"TRUNC(Q34+P34+(IF(R34>519,519,R34))+IF(K34=0,0,K34*N34),2)","v":795.19},{"$f":"TRUNC((IF(K34=0,I34*N34,(I34-K34)*N34))+(IF(R34<519,0,R34-519)),2)+M34","v":7229},{"$f":"S34+T34","v":8024.1900000000005},null,null,0,{"$f":"IF(N34>0.01,(T34-VLOOKUP(T34,quincenal,1))*VLOOKUP(T34,quincenal,3)+VLOOKUP(T34,quincenal,2)-VLOOKUP(T34,subquincenal,2),0)","v":996.92522400000007},{"$f":"TRUNC(IF(Y34>0.01,Y34,0),2)","v":996.92},{"$f":"TRUNC(IF(Y34<0.01,-Y34,0),2)","v":0},{"$f":"U34-W34-X34-Z34+AA34","v":7027.27}]
[18,1,6,"VENTURA PEREZ HERLINDA AURORA","VEPH840722PR4","VEPH840722MJCNRR04",null,"SECRETARIA",15,"TARJETA",null,0,0,{"$f":"3056/15","v":203.73333333333332},3056,122.24,213.92,0,336.16,3056,3392.16,null,0,0,83.059711999999962,83.05,0,3309.1099999999997,{"$f":"PORTADA!$D$10","v":1}]
[19,null,null,"ENRIQUEZ VALENCIA NARCISO",null,null,null,"ENCARGADO DEL DEPTO DE COMPRAS",15,"TARJETA",null,0,0,{"$f":"4385/15","v":292.33333333333331},4385,175.4,306.95,0,482.35,4385,4867.3500000000004,null,0,0,413.29748800000004,413.29,0,4454.0600000000004,{"$f":"PORTADA!$D$10","v":1}]
[20,null,null,"GOMEZ TAMAYO MARIA GUADALUPE  YANETH","GOTG850723",null,null,"SECRATARIA DEL DEPTO DE COMPRAS",15,"TARJETA",null,0,0,{"$f":"2492/15","v":166.13333333333333},2492,99.68,174.44,0,274.12,2492,2766.12,null,0,0,6.6965119999999843,6.69,0,2759.43,{"$f":"PORTADA!$D$10","v":1}]
[21,1,6,"BARBOZA FONSECA BENJAMIN",null,null,null,"CHOFER",15,"TARJETA",null,0,0,{"$f":"3117/15","v":207.8},3117,124.68,218.19,0,342.87,3117,3459.87,null,0,null,109.94651199999998,109.94,0,3349.93,{"$f":"PORTADA!$D$10","v":1}]
[22,null,null,"CARO GONZALEZ ANA ROSA",null,null,null,"CONSERJE",15,"SOBRE",null,0,0,{"$f":"1491/15","v":99.4},1491,59.64,104.37,0,164.01,1491,1655.01,null,0,0,-116.29383999999997,0,116.29,1771.3,{"$f":"PORTADA!$D$10","v":1}]
[null,null,null,"OFICIALIA MAYOR ADMINISTRATIVA",null,null,null,null,null,null,null,null,null,null,{"$f":"SUM(O34:O39)","v":21770},870.80000000000007,1523.9,0,2394.6999999999998,21770,24164.699999999997,0,0,0,1493.6316079999999,1609.89,116.29,22671.100000000002]
[]
[null,null,null,"DEPARTAMENTO JURIDICO"]
[23,1,7,"DOMINGUEZ MORA JOSE RAFAEL",null,null,null,"DIRECTOR JURIDICO",15,"TARJETA",null,0,0,{"$f":"6348/15","v":423.2},{"$f":"TRUNC(N43*I43,2)","v":6348},{"$f":"TRUNC(N43*I43*0.04,2)","v":253.92},{"$f":"TRUNC(N43*0.07*I43,2)","v":444.36},{"$f":"L43","v":0},{"$f":"TRUNC(Q43+P43+(IF(R43>519,519,R43))+IF(K43=0,0,K43*N43),2)","v":698.28},{"$f":"TRUNC((IF(K43=0,I43*N43,(I43-K43)*N43))+(IF(R43<519,0,R43-519)),2)+M43","v":6348},{"$f":"S43+T43","v":7046.28},null,null,0,{"$f":"IF(N43>0.01,(T43-VLOOKUP(T43,quincenal,1))*VLOOKUP(T43,quincenal,3)+VLOOKUP(T43,quincenal,2)-VLOOKUP(T43,subquincenal,2),0)","v":808.74362400000007},{"$f":"TRUNC(IF(Y43>0.01,Y43,0),2)","v":808.74},{"$f":"TRUNC(IF(Y43<0.01,-Y43,0),2)","v":0},{"$f":"U43-W43-X43-Z43+AA43","v":6237.54},{"$f":"PORTADA!$D$10","v":1}]
[24,null,null,"REYNAGA LOPEZ NAHSDHELLY ALEJANDRA ",null,null,null,"AUXILIAR JURIDICO ",15,"TARJETA",null,0,0,{"$f":"3896/15","v":259.73333333333335},{"$f":"TRUNC(N44*I44,2)","v":3896},{"$f":"TRUNC(N44*I44*0.04,2)","v":155.84},{"$f":"TRUNC(N44*0.07*I44,2)","v":272.72000000000003},{"$f":"L44","v":0},{"$f":"TRUNC(Q44+P44+(IF(R44>519,519,R44))+IF(K44=0,0,K44*N44),2)","v":428.56},{"$f":"TRUNC((IF(K44=0,I44*N44,(I44-K44)*N44))+(IF(R44<519,0,R44-519)),2)+M44","v":3896},{"$f":"S44+T44","v":4324.5600000000004},null,null,0,{"$f":"IF(N44>0.01,(T44-VLOOKUP(T44,quincenal,1))*VLOOKUP(T44,quincenal,3)+VLOOKUP(T44,quincenal,2)-VLOOKUP(T44,subquincenal,2),0)","v":332.44839999999999},{"$f":"TRUNC(IF(Y44>0.01,Y44,0),2)","v":332.44},{"$f":"TRUNC(IF(Y44<0.01,-Y44,0),2)","v":0},{"$f":"U44-W44-X44-Z44+AA44","v":3992.1200000000003}]
[25,1,7,"GONZALEZ ROMERO JESUS ALFONSO","CARH770717","CARH770717HJCRDG01",null,"JUEZ CALIFICADOR",15,"TARJETA",null,0,0,{"$f":"4612/15","v":307.46666666666664},{"$f":"TRUNC(N45*I45,2)","v":4612},{"$f":"TRUNC(N45*I45*0.04,2)","v":184.48},{"$f":"TRUNC(N45*0.07*I45,2)","v":322.83999999999997},{"$f":"L45","v":0},{"$f":"TRUNC(Q45+P45+(IF(R45>519,519,R45))+IF(K45=0,0,K45*N45),2)","v":507.32},{"$f":"TRUNC((IF(K45=0,I45*N45,(I45-K45)*N45))+(IF(R45<519,0,R45-519)),2)+M45","v":4612},{"$f":"S45+T45","v":5119.32},null,null,0,{"$f":"IF(N45>0.01,(T45-VLOOKUP(T45,quincenal,1))*VLOOKUP(T45,quincenal,3)+VLOOKUP(T45,quincenal,2)-VLOOKUP(T45,subquincenal,2),0)","v":453.97588800000005},{"$f":"TRUNC(IF(Y45>0.01,Y45,0),2)","v":453.97},{"$f":"TRUNC(IF(Y45<0.01,-Y45,0),2)","v":0},{"$f":"U45-W45-X45-Z45+AA45","v":4665.3499999999995},{"$f":"PORTADA!$D$10","v":1}]
[null,null,null,"DEPARTAMENTO JURIDICO",null,null,null,null,null,null,null,null,null,null,{"$f":"SUM(O43:O45)","v":14856},{"$f":"SUM(P43:P45)","v":594.24},1039.92,0,1634.1599999999999,14856,16490.16,0,0,0,1595.1679119999999,1595.15,0,14895.009999999998]
[]
[null,null,null,"DIRECCION DE REGISTRO CIVIL"]
[26,1,14,"HERNANDEZ ENRIQUEZ ROSA GUADALUPE","HEEG670312","HEER670312MJCRNS06","2007-01-08","JEFE OFICIAL DE REGISTRO CIVIL",15,"TARJETA",null,0,0,{"$f":"4459/15","v":297.26666666666665},{"$f":"TRUNC(N49*I49,2)","v":4459},{"$f":"TRUNC(N49*I49*0.04,2)","v":178.36},{"$f":"TRUNC(N49*0.07*I49,2)","v":312.13},{"$f":"L49","v":0},{"$f":"TRUNC(Q49+P49+(IF(R49>519,519,R49))+IF(K49=0,0,K49*N49),2)","v":490.49},{"$f":"TRUNC((IF(K49=0,I49*N49,(I49-K49)*N49))+(IF(R49<519,0,R49-519)),2)+M49","v":4459},{"$f":"S49+T49","v":4949.49},null,null,0,{"$f":"IF(N49>0.01,(T49-VLOOKUP(T49,quincenal,1))*VLOOKUP(T49,quincenal,3)+VLOOKUP(T49,quincenal,2)-VLOOKUP(T49,subquincenal,2),0)","v":426.55828800000006},{"$f":"TRUNC(IF(Y49>0.01,Y49,0),2)","v":426.55},{"$f":"TRUNC(IF(Y49<0.01,-Y49,0),2)","v":0},{"$f":"U49-W49-X49-Z49+AA49","v":4522.9399999999996},{"$f":"PORTADA!$D$10","v":1}]
[27,1,6,"PLASCENCIA GARCIA MIREYA ESMERALDA","PAGM780607","PAGM780607MJCLRR03",null,"OFICIAL AUX. DE REGISTRO CIVIL",15,"TARJETA",null,0,0,{"$f":"2492/15","v":166.13333333333333},{"$f":"TRUNC(N50*I50,2)","v":2492},{"$f":"TRUNC(N50*I50*0.04,2)","v":99.68},{"$f":"TRUNC(N50*0.07*I50,2)","v":174.44},{"$f":"L50","v":0},{"$f":"TRUNC(Q50+P50+(IF(R50>519,519,R50))+IF(K50=0,0,K50*N50),2)","v":274.12},{"$f":"TRUNC((IF(K50=0,I50*N50,(I50-K50)*N50))+(IF(R50<519,0,R50-519)),2)+M50","v":2492},{"$f":"S50+T50","v":2766.12},null,null,0,{"$f":"IF(N50>0.01,(T50-VLOOKUP(T50,quincenal,1))*VLOOKUP(T50,quincenal,3)+VLOOKUP(T50,quincenal,2)-VLOOKUP(T50,subquincenal,2),0)","v":6.6965119999999843},{"$f":"TRUNC(IF(Y50>0.01,Y50,0),2)","v":6.69},{"$f":"TRUNC(IF(Y50<0.01,-Y50,0),2)","v":0},{"$f":"U50-W50-X50-Z50+AA50","v":2759.43},{"$f":"PORTADA!$D$10","v":1}]
[28,1,14,null,null,null,null,"OFICIAL AUX. DE REGISTRO CIVIL",0,"TARJETA",null,0,0,{"$f":"2556/15","v":170.4},{"$f":"TRUNC(N51*I51,2)","v":0},{"$f":"TRUNC(N51*I51*0.04,2)","v":0},{"$f":"TRUNC(N51*0.07*I51,2)","v":0},{"$f":"L51","v":0},{"$f":"TRUNC(Q51+P51+(IF(R51>519,519,R51))+IF(K51=0,0,K51*N51),2)","v":0},{"$f":"TRUNC((IF(K51=0,I51*N51,(I51-K51)*N51))+(IF(R51<519,0,R51-519)),2)+M51","v":0},{"$f":"S51+T51","v":0},null,null,0,{"$f":"IF(N51>0.01,(T51-VLOOKUP(T51,quincenal,1))*VLOOKUP(T51,quincenal,3)+VLOOKUP(T51,quincenal,2)-VLOOKUP(T51,subquincenal,2),0)","v":{"$error":"#N/A"}},null,null,{"$f":"U51-W51-X51-Z51+AA51","v":0},{"$f":"PORTADA!$D$10","v":1}]
[null,null,null,"DIRECCION DE REGISTRO CIVIL",null,null,null,null,null,null,null,null,null,null,{"$f":"SUM(O49:O51)","v":6951},{"$f":"SUM(P49:P51)","v":278.04000000000002},486.57,0,764.61,6951,7715.61,0,0,0,{"$error":"#N/A"},433.24,0,7282.369999999999]
[]
[null,null,null,"OFICIALIA MAYOR DE CULTURA"]
[30,1,16,"PARRA RON CARLOS ENRIQUE","PARC480708","PARC480708HJCRNR08","2004-01-01","CRONISTA",15,"TARJETA",null,0,0,{"$f":"3463/15","v":230.86666666666667},{"$f":"TRUNC(N55*I55,2)","v":3463},{"$f":"TRUNC(N55*I55*0.04,2)","v":138.52000000000001},{"$f":"TRUNC(N55*0.07*I55,2)","v":242.41},{"$f":"L55","v":0},{"$f":"TRUNC(Q55+P55+(IF(R55>519,519,R55))+IF(K55=0,0,K55*N55),2)","v":380.93},{"$f":"TRUNC((IF(K55=0,I55*N55,(I55-K55)*N55))+(IF(R55<519,0,R55-519)),2)+M55","v":3463},{"$f":"S55+T55","v":3843.93},null,null,0,{"$f":"IF(N55>0.01,(T55-VLOOKUP(T55,quincenal,1))*VLOOKUP(T55,quincenal,3)+VLOOKUP(T55,quincenal,2)-VLOOKUP(T55,subquincenal,2),0)","v":147.59131199999999},{"$f":"TRUNC(IF(Y55>0.01,Y55,0),2)","v":147.59},{"$f":"TRUNC(IF(Y55<0.01,-Y55,0),2)","v":0},{"$f":"U55-W55-X55-Z55+AA55","v":3696.3399999999997},{"$f":"PORTADA!$D$10","v":1}]
[31,null,null,"GOMEZ TOVAR MIREYA LIZBETH",null,null,null,"AUXILIAR DE DIRECCION DE CULTURA Y TURISMO",15,"TARJETA",null,null,null,{"$f":"2658/15","v":177.2},2658,106.32,186.06,0,292.38,2658,2950.38,null,null,0,39.757311999999985,39.75,0,2910.63]
[32,1,16,"HERNANDEZ SEGURA DELIA",null,null,null,"SECRETARIA",15,"TARJETA",null,0,0,{"$f":"2658/15","v":177.2},2658,106.32,186.06,0,292.38,2658,2950.38,null,null,0,39.757311999999985,39.75,0,2910.63,{"$f":"PORTADA!$D$10","v":1}]
[33,1,16,"ARCINIEGA RODRIGUEZ ANTONIO",null,null,null,"ENCARGADO DE  EQUIPO DE SONIDO",15,"TARJETA",null,0,0,{"$f":"4060/15","v":270.66666666666669},4060,162.4,284.2,0,446.6,4060,4506.6000000000004,null,null,0,358.6884,358.68,0,4147.92,{"$f":"PORTADA!$D$10","v":1}]
[34,1,16,"MARTINEZ CRUZ REYNALDA",null,null,null,"CONSERJE",15,"TARJETA",null,0,0,{"$f":"2106/15","v":140.4},2106,84.24,147.41999999999999,0,231.66,2106,2337.66,null,null,0,-63.650288000000003,0,63.65,2401.31,{"$f":"PORTADA!$D$10","v":1}]
[null,null,null,"OFICIALIA MAYOR DE CULTURA",null,null,null,null,null,null,null,null,null,null,{"$f":"SUM(O55:O59)","v":14945},597.79999999999995,1046.1500000000001,0,1643.95,14945,16588.949999999997,0,0,0,522.14404799999988,585.77,63.65,16066.829999999998]
[]
[null,null,null,"DEPARTAMENTO DE PRENSA Y PUBLICIDAD"]
[35,1,19,"MEZA ROMERO FAUSTO",null,null,null,"DIRECTOR DE PRENSA Y PUBLICIDAD",15,"TARJETA",null,0,0,{"$f":"4612/15","v":307.46666666666664},{"$f":"TRUNC(N63*I63,2)","v":4612},{"$f":"TRUNC(N63*I63*0.04,2)","v":184.48},{"$f":"TRUNC(N63*0.07*I63,2)","v":322.83999999999997},{"$f":"L63","v":0},{"$f":"TRUNC(Q63+P63+(IF(R63>519,519,R63))+IF(K63=0,0,K63*N63),2)","v":507.32},{"$f":"TRUNC((IF(K63=0,I63*N63,(I63-K63)*N63))+(IF(R63<519,0,R63-519)),2)+M63","v":4612},{"$f":"S63+T63","v":5119.32},null,0,0,{"$f":"IF(N63>0.01,(T63-VLOOKUP(T63,quincenal,1))*VLOOKUP(T63,quincenal,3)+VLOOKUP(T63,quincenal,2)-VLOOKUP(T63,subquincenal,2),0)","v":453.97588800000005},{"$f":"TRUNC(IF(Y63>0.01,Y63,0),2)","v":453.97},0,{"$f":"U63-W63-X63-Z63+AA63","v":4665.3499999999995},{"$f":"PORTADA!$D$10","v":1}]
[36,null,null,"SIORDIA HERMOSILLO EDER ALBERTO",null,null,null,"AUXILIAR PRENSA Y PUBLICIDAD",15,"TARJETA",null,0,0,{"$f":"2788/15","v":185.86666666666667},{"$f":"TRUNC(N64*I64,2)","v":2788},{"$f":"TRUNC(N64*I64*0.04,2)","v":111.52},{"$f":"TRUNC(N64*0.07*I64,2)","v":195.16},{"$f":"L64","v":0},{"$f":"TRUNC(Q64+P64+(IF(R64>519,519,R64))+IF(K64=0,0,K64*N64),2)","v":306.68},{"$f":"TRUNC((IF(K64=0,I64*N64,(I64-K64)*N64))+(IF(R64<519,0,R64-519)),2)+M64","v":2788},{"$f":"S64+T64","v":3094.68},null,0,0,{"$f":"IF(N64>0.01,(T64-VLOOKUP(T64,quincenal,1))*VLOOKUP(T64,quincenal,3)+VLOOKUP(T64,quincenal,2)-VLOOKUP(T64,subquincenal,2),0)","v":53.90131199999999},{"$f":"TRUNC(IF(Y64>0.01,Y64,0),2)","v":53.9},0,{"$f":"U64-W64-X64-Z64+AA64","v":3040.7799999999997},{"$f":"PORTADA!$D$10","v":1}]
[null,null,null,"DEPARTAMENTO DE PRENSA Y PUBLICIDAD",null,null,null,null,null,null,null,null,null,null,{"$f":"SUM(O63:O64)","v":7400},{"$f":"SUM(P63:P64)","v":296},518,0,814,7400,8214,0,0,0,507.87720000000002,507.87,0,7706.1299999999992]
[]
[null,null,null,"DIRECCION DE EDUCACION"]
[37,null,null,"FREGOSO VARGAS VIDALIA CECILIA",null,null,null,"DIRECTOR DE EDUCACION",15,"TARJETA",null,0,0,{"$f":"5316/15","v":354.4},{"$f":"TRUNC(N68*I68,2)","v":5316},{"$f":"TRUNC(N68*I68*0.04,2)","v":212.64},{"$f":"TRUNC(N68*0.07*I68,2)","v":372.12},{"$f":"L68","v":0},{"$f":"TRUNC(Q68+P68+(IF(R68>519,519,R68))+IF(K68=0,0,K68*N68),2)","v":584.76},{"$f":"TRUNC((IF(K68=0,I68*N68,(I68-K68)*N68))+(IF(R68<519,0,R68-519)),2)+M68","v":5316},{"$f":"S68+T68","v":5900.76},null,null,0,{"$f":"IF(N68>0.01,(T68-VLOOKUP(T68,quincenal,1))*VLOOKUP(T68,quincenal,3)+VLOOKUP(T68,quincenal,2)-VLOOKUP(T68,subquincenal,2),0)","v":588.30842400000006},{"$f":"TRUNC(IF(Y68>0.01,Y68,0),2)","v":588.29999999999995},{"$f":"TRUNC(IF(Y68<0.01,-Y68,0),2)","v":0},{"$f":"U68-W68-X68-Z68+AA68","v":5312.46},{"$f":"PORTADA!$D$10","v":1}]
[null,null,null,"DIRECCION DE EDUCACION",null,null,null,null,null,null,null,null,null,null,{"$f":"SUM(O68)","v":5316},{"$f":"SUM(P68)","v":212.64},372.12,0,584.76,5316,5900.76,0,0,0,588.30842400000006,588.29999999999995,0,5312.46]
[]
[null,null,null,"DEPARTAMENTO DE PROMOCION Y DESARROLLO ECONOMICO"]
[38,null,null,"ESTRADA SANTIAGO ANTONIO",null,null,null,"DIRECTOR",15,"TARJETA",null,0,0,{"$f":"5316/15","v":354.4},{"$f":"TRUNC(N72*I72,2)","v":5316},{"$f":"TRUNC(N72*I72*0.04,2)","v":212.64},{"$f":"TRUNC(N72*0.07*I72,2)","v":372.12},{"$f":"L72","v":0},{"$f":"TRUNC(Q72+P72+(IF(R72>519,519,R72))+IF(K72=0,0,K72*N72),2)","v":584.76},{"$f":"TRUNC((IF(K72=0,I72*N72,(I72-K72)*N72))+(IF(R72<519,0,R72-519)),2)+M72","v":5316},{"$f":"S72+T72","v":5900.76},null,null,0,{"$f":"IF(N72>0.01,(T72-VLOOKUP(T72,quincenal,1))*VLOOKUP(T72,quincenal,3)+VLOOKUP(T72,quincenal,2)-VLOOKUP(T72,subquincenal,2),0)","v":588.30842400000006},{"$f":"TRUNC(IF(Y72>0.01,Y72,0),2)","v":588.29999999999995},{"$f":"TRUNC(IF(Y72<0.01,-Y72,0),2)","v":0},{"$f":"U72-W72-X72-Z72+AA72","v":5312.46}]
[39,1,6,"MARTINEZ MARTINEZ SALVADOR TAURINO JONATHAN","MAMS900118M80","MAMS900118HJCRRL02","2007-01-01","AYUDANTE",15,"TARJETA",null,0,0,{"$f":"2788/15","v":185.86666666666667},{"$f":"TRUNC(N73*I73,2)","v":2788},{"$f":"TRUNC(N73*I73*0.04,2)","v":111.52},{"$f":"TRUNC(N73*0.07*I73,2)","v":195.16},{"$f":"L73","v":0},{"$f":"TRUNC(Q73+P73+(IF(R73>519,519,R73))+IF(K73=0,0,K73*N73),2)","v":306.68},{"$f":"TRUNC((IF(K73=0,I73*N73,(I73-K73)*N73))+(IF(R73<519,0,R73-519)),2)+M73","v":2788},{"$f":"S73+T73","v":3094.68},null,null,0,{"$f":"IF(N73>0.01,(T73-VLOOKUP(T73,quincenal,1))*VLOOKUP(T73,quincenal,3)+VLOOKUP(T73,quincenal,2)-VLOOKUP(T73,subquincenal,2),0)","v":53.90131199999999},{"$f":"TRUNC(IF(Y73>0.01,Y73,0),2)","v":53.9},0,{"$f":"U73-W73-X73-Z73+AA73","v":3040.7799999999997},{"$f":"PORTADA!$D$10","v":1}]
[40,1,19,"ULLOA MARTINEZ MARCELA GUADALUPE","UOMM730612","UOMM730612MJCLRR02","1998-01-01","AUXILIAR ADMINISTRATIVO",15,"TARJETA",null,0,0,{"$f":"3261/15","v":217.4},{"$f":"TRUNC(N74*I74,2)","v":3261},{"$f":"TRUNC(N74*I74*0.04,2)","v":130.44},{"$f":"TRUNC(N74*0.07*I74,2)","v":228.27},{"$f":"L74","v":0},{"$f":"TRUNC(Q74+P74+(IF(R74>519,519,R74))+IF(K74=0,0,K74*N74),2)","v":358.71},{"$f":"TRUNC((IF(K74=0,I74*N74,(I74-K74)*N74))+(IF(R74<519,0,R74-519)),2)+M74","v":3261},{"$f":"S74+T74","v":3619.71},null,null,0,{"$f":"IF(N74>0.01,(T74-VLOOKUP(T74,quincenal,1))*VLOOKUP(T74,quincenal,3)+VLOOKUP(T74,quincenal,2)-VLOOKUP(T74,subquincenal,2),0)","v":125.61371199999999},{"$f":"TRUNC(IF(Y74>0.01,Y74,0),2)","v":125.61},{"$f":"TRUNC(IF(Y74<0.01,-Y74,0),2)","v":0},{"$f":"U74-W74-X74-Z74+AA74","v":3494.1},{"$f":"PORTADA!$D$10","v":1}]
[41,1,19,"GONZALEZ MARTINEZ ERIKA DELFINA","FEIA870704","FEIA870704MJCRXN02",null,"SECRETARIA",15,"TARJETA",null,0,0,{"$f":"2658/15","v":177.2},{"$f":"TRUNC(N75*I75,2)","v":2658},{"$f":"TRUNC(N75*I75*0.04,2)","v":106.32},{"$f":"TRUNC(N75*0.07*I75,2)","v":186.06},{"$f":"L75","v":0},{"$f":"TRUNC(Q75+P75+(IF(R75>519,519,R75))+IF(K75=0,0,K75*N75),2)","v":292.38},{"$f":"TRUNC((IF(K75=0,I75*N75,(I75-K75)*N75))+(IF(R75<519,0,R75-519)),2)+M75","v":2658},{"$f":"S75+T75","v":2950.38},null,0,0,{"$f":"IF(N75>0.01,(T75-VLOOKUP(T75,quincenal,1))*VLOOKUP(T75,quincenal,3)+VLOOKUP(T75,quincenal,2)-VLOOKUP(T75,subquincenal,2),0)","v":39.757311999999985},{"$f":"TRUNC(IF(Y75>0.01,Y75,0),2)","v":39.75},{"$f":"TRUNC(IF(Y75<0.01,-Y75,0),2)","v":0},{"$f":"U75-W75-X75-Z75+AA75","v":2910.63},{"$f":"PORTADA!$D$10","v":1}]
[null,null,null,"DEPARTAMENTO DE PROMOCION Y DESARROLLO ECONOMICO",null,null,null,null,null,null,null,null,null,null,{"$f":"SUM(O72:O75)","v":14023},{"$f":"SUM(P72:P75)","v":560.91999999999996},981.6099999999999,0,1542.5300000000002,14023,15565.530000000002,0,0,0,807.58075999999994,807.56,0,14757.970000000001]
[]
[null,null,null,"OFICINA DE ENLACE RELACIONES EXTERIORES"]
[42,1,23,"GUTIERREZ REYES CAROL","GURC680410","GURC680410MJCTYR00","2001-01-02","JEFE ADMINISTRADOR",15,"TARJETA",null,0,0,370.2,{"$f":"TRUNC(N79*I79,2)","v":5553},{"$f":"TRUNC(N79*I79*0.04,2)","v":222.12},{"$f":"TRUNC(N79*0.07*I79,2)","v":388.71},{"$f":"L79","v":0},{"$f":"TRUNC(Q79+P79+(IF(R79>519,519,R79))+IF(K79=0,0,K79*N79),2)","v":610.83000000000004},{"$f":"TRUNC((IF(K79=0,I79*N79,(I79-K79)*N79))+(IF(R79<519,0,R79-519)),2)+M79","v":5553},{"$f":"S79+T79","v":6163.83},null,null,0,{"$f":"IF(N79>0.01,(T79-VLOOKUP(T79,quincenal,1))*VLOOKUP(T79,quincenal,3)+VLOOKUP(T79,quincenal,2)-VLOOKUP(T79,subquincenal,2),0)","v":638.93162400000006},{"$f":"TRUNC(IF(Y79>0.01,Y79,0),2)","v":638.92999999999995},{"$f":"TRUNC(IF(Y79<0.01,-Y79,0),2)","v":0},{"$f":"U79-W79-X79-Z79+AA79","v":5524.9},{"$f":"PORTADA!$D$10","v":1}]
[42,1,23,"FREGOSO HURTADO ALEJANDRA","FEHA831218","FEHA831218MJCRRL07","2007-04-10","AUX. ADMINISTRATIVO",15,"TARJETA",null,0,0,211.816,{"$f":"TRUNC(N80*I80,2)","v":3177.24},{"$f":"TRUNC(N80*I80*0.04,2)","v":127.08},{"$f":"TRUNC(N80*0.07*I80,2)","v":222.4},{"$f":"L80","v":0},{"$f":"TRUNC(Q80+P80+(IF(R80>519,519,R80))+IF(K80=0,0,K80*N80),2)","v":349.48},{"$f":"TRUNC((IF(K80=0,I80*N80,(I80-K80)*N80))+(IF(R80<519,0,R80-519)),2)+M80","v":3177.24},{"$f":"S80+T80","v":3526.72},null,null,0,{"$f":"IF(N80>0.01,(T80-VLOOKUP(T80,quincenal,1))*VLOOKUP(T80,quincenal,3)+VLOOKUP(T80,quincenal,2)-VLOOKUP(T80,subquincenal,2),0)","v":116.50062399999996},{"$f":"TRUNC(IF(Y80>0.01,Y80,0),2)","v":116.5},{"$f":"TRUNC(IF(Y80<0.01,-Y80,0),2)","v":0},{"$f":"U80-W80-X80-Z80+AA80","v":3410.22},{"$f":"PORTADA!$D$10","v":1}]
[44,1,23,"LOPEZ MARTINEZ YVETTE AMALIA MARGARITA","LOMY681017","LOMY681017MJCPRV08","2001-01-01","SUPERVISOR",15,"TARJETA",null,0,0,211.816,{"$f":"TRUNC(N81*I81,2)","v":3177.24},{"$f":"TRUNC(N81*I81*0.04,2)","v":127.08},{"$f":"TRUNC(N81*0.07*I81,2)","v":222.4},{"$f":"L81","v":0},{"$f":"TRUNC(Q81+P81+(IF(R81>519,519,R81))+IF(K81=0,0,K81*N81),2)","v":349.48},{"$f":"TRUNC((IF(K81=0,I81*N81,(I81-K81)*N81))+(IF(R81<519,0,R81-519)),2)+M81","v":3177.24},{"$f":"S81+T81","v":3526.72},null,null,0,{"$f":"IF(N81>0.01,(T81-VLOOKUP(T81,quincenal,1))*VLOOKUP(T81,quincenal,3)+VLOOKUP(T81,quincenal,2)-VLOOKUP(T81,subquincenal,2),0)","v":116.50062399999996},{"$f":"TRUNC(IF(Y81>0.01,Y81,0),2)","v":116.5},{"$f":"TRUNC(IF(Y81<0.01,-Y81,0),2)","v":0},{"$f":"U81-W81-X81-Z81+AA81","v":3410.22},{"$f":"PORTADA!$D$10","v":1}]
[45,1,23,"ESTRADA GOMEZ JUAN CARLOS","EAGJ510220NR1","EAGJ510220HJCSMN09",null,"MENSAJERO",15,"TARJETA",null,0,0,216.7235,{"$f":"TRUNC(N82*I82,2)","v":3250.85},{"$f":"TRUNC(N82*I82*0.04,2)","v":130.03},{"$f":"TRUNC(N82*0.07*I82,2)","v":227.55},{"$f":"L82","v":0},{"$f":"TRUNC(Q82+P82+(IF(R82>519,519,R82))+IF(K82=0,0,K82*N82),2)","v":357.58},{"$f":"TRUNC((IF(K82=0,I82*N82,(I82-K82)*N82))+(IF(R82<519,0,R82-519)),2)+M82","v":3250.85},{"$f":"S82+T82","v":3608.43},null,0,0,{"$f":"IF(N82>0.01,(T82-VLOOKUP(T82,quincenal,1))*VLOOKUP(T82,quincenal,3)+VLOOKUP(T82,quincenal,2)-VLOOKUP(T82,subquincenal,2),0)","v":124.50939199999996},{"$f":"TRUNC(IF(Y82>0.01,Y82,0),2)","v":124.5},{"$f":"TRUNC(IF(Y82<0.01,-Y82,0),2)","v":0},{"$f":"U82-W82-X82-Z82+AA82","v":3483.93},{"$f":"PORTADA!$D$10","v":1}]
[null,null,null,"OFICINA DE ENLACE RELACIONES EXTERIORES",null,null,null,null,null,null,null,null,null,null,{"$f":"SUM(O79:O82)","v":15158.33},{"$f":"SUM(P79:P82)","v":606.30999999999995},1061.06,0,1667.37,15158.33,16825.699999999997,0,0,0,996.44226400000002,996.43,0,15829.269999999999]
[]
[null,null,null,"AGENCIAS MUNICIPALES"]
[46,"2","2","AGUILAR DIAS JOSE DE JESUS",null,null,null,"AGENTE MUNICIPAL STA. ROSALIA",15,"TARJETA",null,0,0,{"$f":"1993/15","v":132.86666666666667},{"$f":"TRUNC(N86*I86,2)","v":1993},{"$f":"TRUNC(N86*I86*0.04,2)","v":79.72},{"$f":"TRUNC(N86*0.07*I86,2)","v":139.51},{"$f":"L86","v":0},{"$f":"TRUNC(Q86+P86+(IF(R86>519,519,R86))+IF(K86=0,0,K86*N86),2)","v":219.23},{"$f":"TRUNC((IF(K86=0,I86*N86,(I86-K86)*N86))+(IF(R86<519,0,R86-519)),2)+M86","v":1993},{"$f":"S86+T86","v":2212.23},null,null,0,{"$f":"IF(N86>0.01,(T86-VLOOKUP(T86,quincenal,1))*VLOOKUP(T86,quincenal,3)+VLOOKUP(T86,quincenal,2)-VLOOKUP(T86,subquincenal,2),0)","v":-72.165839999999974},{"$f":"TRUNC(IF(Y86>0.01,Y86,0),2)","v":0},{"$f":"TRUNC(IF(Y86<0.01,-Y86,0),2)","v":72.16},{"$f":"U86-W86-X86-Z86+AA86","v":2284.39},{"$f":"PORTADA!$D$10","v":1},null,1778.88]
[47,"2","2","PARRA LOPEZ RAUL","PALR",null,null,"AGENTE MUNICIPAL SAN RAFAEL",15,"TARJETA",null,0,0,{"$f":"1371/15","v":91.4},1371,54.84,95.97,0,150.81,1371,1521.81,null,null,0,-123.97383999999998,0,123.97,1645.78,{"$f":"PORTADA!$D$10","v":1},null,1488.82]
[48,"2","2","GONZALEZ RUIZ MANUEL","GORA710130M39","GORA710130HJCNZN08",null,"AGENTE MUNICIPAL SAN SEBASTIAN",15,"TARJETA",null,0,0,{"$f":"1371/15","v":91.4},1371,54.84,95.97,0,150.81,1371,1521.81,null,null,0,-123.97383999999998,0,123.97,1645.78,{"$f":"PORTADA!$D$10","v":1},null,1488.82]
[49,"2","2","SIERRA LLAMAS JUAN JOSE","SILJ660418","SILJ660418HJCRLN17",null,"AGENTE MUNICIPAL DE PUERTA DE PERICOS",15,"TARJETA",null,0,0,{"$f":"1683/15","v":112.2},1683,67.319999999999993,117.81,0,185.13,1683,1868.13,null,null,0,-104.00583999999998,0,104,1972.13,{"$f":"PORTADA!$D$10","v":1},null,1778.88]
[50,"2","2","ROBLES GONZALEZ RENE","ROGR520511","ROGR520511HJCBNN08",null,"AGENTE MUNICIPAL LA MAZATA",15,"TARJETA",null,0,0,{"$f":"1683/15","v":112.2},1683,67.319999999999993,117.81,0,185.13,1683,1868.13,null,null,0,-104.00583999999998,0,104,1972.13,{"$f":"PORTADA!$D$10","v":1},null,1778.88]
[51,"2","2","PEREZ ESPARZA MATEO","PEEM720720","PEEM720720HJCRST02",null,"AGENTE MUNICIPAL LA QUEBRADA",15,"TARJETA",null,0,0,{"$f":"1434/15","v":95.6},1434,57.36,100.38,0,157.74,1434,1591.74,null,null,0,-119.94183999999998,0,119.94,1711.68,{"$f":"PORTADA!$D$10","v":1},null,567.88]
[52,"2","2","AGUAYO CORTES MIGUEL","AUCM770311","AUCM770311HJCGRG09",null,"AGENTE MUNICIPAL LA EMBOCADA",15,"TARJETA",null,0,0,{"$f":"1434/15","v":95.6},1434,57.36,100.38,0,157.74,1434,1591.74,null,null,0,-119.94183999999998,0,119.94,1711.68,{"$f":"PORTADA!$D$10","v":1},null,1546.83]
[53,null,null,"RAMOS QUIRARTE J. CARMEN","AUCM770311","AUCM770311HJCGRG09",null,"AGENTE MUNICIPAL LAS EJIMENEZ",15,"TARJETA",null,0,0,{"$f":"1032/15","v":68.8},{"$f":"TRUNC(N93*I93,2)","v":1032},{"$f":"TRUNC(N93*I93*0.04,2)","v":41.28},{"$f":"TRUNC(N93*0.07*I93,2)","v":72.239999999999995},{"$f":"L93","v":0},{"$f":"TRUNC(Q93+P93+(IF(R93>519,519,R93))+IF(K93=0,0,K93*N93),2)","v":113.52},{"$f":"TRUNC((IF(K93=0,I93*N93,(I93-K93)*N93))+(IF(R93<519,0,R93-519)),2)+M93","v":1032},{"$f":"S93+T93","v":1145.52},null,null,0,{"$f":"IF(N93>0.01,(T93-VLOOKUP(T93,quincenal,1))*VLOOKUP(T93,quincenal,3)+VLOOKUP(T93,quincenal,2)-VLOOKUP(T93,subquincenal,2),0)","v":-145.66983999999999},{"$f":"TRUNC(IF(Y93>0.01,Y93,0),2)","v":0},{"$f":"TRUNC(IF(Y93<0.01,-Y93,0),2)","v":145.66},{"$f":"U93-W93-X93-Z93+AA93","v":1291.18}]
[54,null,null,"CASILLAS VALENZUELA MARCO ANTONIO",null,null,null,"ASEO LA MAZATA",15,"TARJETA",null,null,null,{"$f":"1286/15","v":85.733333333333334},{"$f":"TRUNC(N94*I94,2)","v":1286},{"$f":"TRUNC(N94*I94*0.04,2)","v":51.44},{"$f":"TRUNC(N94*0.07*I94,2)","v":90.02},{"$f":"L94","v":0},{"$f":"TRUNC(Q94+P94+(IF(R94>519,519,R94))+IF(K94=0,0,K94*N94),2)","v":141.46},{"$f":"TRUNC((IF(K94=0,I94*N94,(I94-K94)*N94))+(IF(R94<519,0,R94-519)),2)+M94","v":1286},{"$f":"S94+T94","v":1427.46},null,null,0,{"$f":"IF(N94>0.01,(T94-VLOOKUP(T94,quincenal,1))*VLOOKUP(T94,quincenal,3)+VLOOKUP(T94,quincenal,2)-VLOOKUP(T94,subquincenal,2),0)","v":-129.41383999999999},{"$f":"TRUNC(IF(Y94>0.01,Y94,0),2)","v":0},{"$f":"TRUNC(IF(Y94<0.01,-Y94,0),2)","v":129.41},{"$f":"U94-W94-X94-Z94+AA94","v":1556.8700000000001}]
[55,"2","2","LOPEZ SILVA CARLOS DAMIAN","GOHV780710","GOHV780710HJCMRL00","2007-02-01","CHOFER RECOLECTOR",15,"TARJETA",null,0,0,{"$f":"2530/15","v":168.66666666666666},{"$f":"TRUNC(N95*I95,2)","v":2530},{"$f":"TRUNC(N95*I95*0.04,2)","v":101.2},{"$f":"TRUNC(N95*0.07*I95,2)","v":177.1},{"$f":"L95","v":0},{"$f":"TRUNC(Q95+P95+(IF(R95>519,519,R95))+IF(K95=0,0,K95*N95),2)","v":278.3},{"$f":"TRUNC((IF(K95=0,I95*N95,(I95-K95)*N95))+(IF(R95<519,0,R95-519)),2)+M95","v":2530},{"$f":"S95+T95","v":2808.3},null,null,0,{"$f":"IF(N95>0.01,(T95-VLOOKUP(T95,quincenal,1))*VLOOKUP(T95,quincenal,3)+VLOOKUP(T95,quincenal,2)-VLOOKUP(T95,subquincenal,2),0)","v":10.830911999999984},{"$f":"TRUNC(IF(Y95>0.01,Y95,0),2)","v":10.83},{"$f":"TRUNC(IF(Y95<0.01,-Y95,0),2)","v":0},{"$f":"U95-W95-X95-Z95+AA95","v":2797.4700000000003},{"$f":"PORTADA!$D$10","v":1},null,0]
[null,null,null,"AGENCIAS MUNICIPALES",null,null,null,null,null,null,null,null,null,null,{"$f":"SUM(O86:O95)","v":15817},{"$f":"SUM(P86:P95)","v":632.68000000000006},1107.1899999999998,0,1739.87,15817,17556.87,0,0,0,-1032.2616479999999,10.83,1043.05,18589.09]
[]
[null,null,null,"ADMIN ISTRACION DE LA HACIENDA MUNICIPAL"]
[56,"3","1","DE LEON GARCIA JUAN ANTONIO",null,null,null,"ENCARGADO DE HACIENDA PUBLICA",15,"TARJETA",null,0,0,{"$f":"8355/15","v":557},{"$f":"TRUNC(N99*I99,2)","v":8355},{"$f":"TRUNC(N99*I99*0.04,2)","v":334.2},{"$f":"TRUNC(N99*0.07*I99,2)","v":584.85},{"$f":"L99","v":0},{"$f":"TRUNC(Q99+P99+(IF(R99>519,519,R99))+IF(K99=0,0,K99*N99),2)","v":919.05},{"$f":"TRUNC((IF(K99=0,I99*N99,(I99-K99)*N99))+(IF(R99<519,0,R99-519)),2)+M99","v":8355},{"$f":"S99+T99","v":9274.0499999999993},null,null,0,{"$f":"IF(N99>0.01,(T99-VLOOKUP(T99,quincenal,1))*VLOOKUP(T99,quincenal,3)+VLOOKUP(T99,quincenal,2)-VLOOKUP(T99,subquincenal,2),0)","v":1237.4388240000001},{"$f":"TRUNC(IF(Y99>0.01,Y99,0),2)","v":1237.43},{"$f":"TRUNC(IF(Y99<0.01,-Y99,0),2)","v":0},{"$f":"U99-W99-X99-Z99+AA99","v":8036.619999999999},{"$f":"PORTADA!$D$10","v":1}]
[57,"3","1","MARTINEZ PAREDES ANNA VERONICA","MAPA820618","MAPA820618MJCRRN00","2007-01-31","AUXILIAR CONTABLE",15,"TARJETA",null,0,0,{"$f":"4693/15","v":312.86666666666667},{"$f":"TRUNC(N100*I100,2)","v":4693},{"$f":"TRUNC(N100*I100*0.04,2)","v":187.72},{"$f":"TRUNC(N100*0.07*I100,2)","v":328.51},{"$f":"L100","v":0},{"$f":"TRUNC(Q100+P100+(IF(R100>519,519,R100))+IF(K100=0,0,K100*N100),2)","v":516.23},{"$f":"TRUNC((IF(K100=0,I100*N100,(I100-K100)*N100))+(IF(R100<519,0,R100-519)),2)+M100","v":4693},{"$f":"S100+T100","v":5209.2299999999996},null,null,0,{"$f":"IF(N100>0.01,(T100-VLOOKUP(T100,quincenal,1))*VLOOKUP(T100,quincenal,3)+VLOOKUP(T100,quincenal,2)-VLOOKUP(T100,subquincenal,2),0)","v":468.4910880000001},{"$f":"TRUNC(IF(Y100>0.01,Y100,0),2)","v":468.49},{"$f":"TRUNC(IF(Y100<0.01,-Y100,0),2)","v":0},{"$f":"U100-W100-X100-Z100+AA100","v":4740.74},{"$f":"PORTADA!$D$10","v":1}]
[58,"3","1","PEREZ JAIME ARTURO","PEJA600718","PEXJ600718HJCRXM09","2009-01-05","AUXILIAR CONTABLE",15,"TARJETA",null,0,0,{"$f":"5198/15","v":346.53333333333336},{"$f":"TRUNC(N101*I101,2)","v":5198},{"$f":"TRUNC(N101*I101*0.04,2)","v":207.92},{"$f":"TRUNC(N101*0.07*I101,2)","v":363.86},{"$f":"L101","v":0},{"$f":"TRUNC(Q101+P101+(IF(R101>519,519,R101))+IF(K101=0,0,K101*N101),2)","v":571.78},{"$f":"TRUNC((IF(K101=0,I101*N101,(I101-K101)*N101))+(IF(R101<519,0,R101-519)),2)+M101","v":5198},{"$f":"S101+T101","v":5769.78},null,null,0,{"$f":"IF(N101>0.01,(T101-VLOOKUP(T101,quincenal,1))*VLOOKUP(T101,quincenal,3)+VLOOKUP(T101,quincenal,2)-VLOOKUP(T101,subquincenal,2),0)","v":563.10362400000008},{"$f":"TRUNC(IF(Y101>0.01,Y101,0),2)","v":563.1},{"$f":"TRUNC(IF(Y101<0.01,-Y101,0),2)","v":0},{"$f":"U101-W101-X101-Z101+AA101","v":5206.6799999999994}]
[59,"3","1","RUIZ GUZMAN JESUS MANUEL","RUGJ",null,null,"AUXI. DE PRESUPUESTO",15,"TARJETA",null,0,0,{"$f":"3397/15","v":226.46666666666667},{"$f":"TRUNC(N102*I102,2)","v":3397},{"$f":"TRUNC(N102*I102*0.04,2)","v":135.88},{"$f":"TRUNC(N102*0.07*I102,2)","v":237.79},{"$f":"L102","v":0},{"$f":"TRUNC(Q102+P102+(IF(R102>519,519,R102))+IF(K102=0,0,K102*N102),2)","v":373.67},{"$f":"TRUNC((IF(K102=0,I102*N102,(I102-K102)*N102))+(IF(R102<519,0,R102-519)),2)+M102","v":3397},{"$f":"S102+T102","v":3770.67},null,null,0,{"$f":"IF(N102>0.01,(T102-VLOOKUP(T102,quincenal,1))*VLOOKUP(T102,quincenal,3)+VLOOKUP(T102,quincenal,2)-VLOOKUP(T102,subquincenal,2),0)","v":140.41051199999995},{"$f":"TRUNC(IF(Y102>0.01,Y102,0),2)","v":140.41},{"$f":"TRUNC(IF(Y102<0.01,-Y102,0),2)","v":0},{"$f":"U102-W102-X102-Z102+AA102","v":3630.26},{"$f":"PORTADA!$D$10","v":1}]
[null,null,null,"ADMIN ISTRACION DE LA HACIENDA MUNICIPAL",null,null,null,null,null,null,null,null,null,null,{"$f":"SUM(O99:O102)","v":21643},{"$f":"SUM(P99:P102)","v":865.71999999999991},1515.01,0,2380.73,21643,24023.729999999996,0,0,0,2409.4440479999998,2409.4299999999998,0,21614.299999999996]
[]
[null,null,null,"DEPARTAMENTO DE INGRESOS"]
[60,3,3,"ARIAS RAMOS MARIA DEL SOCORRO","AIRS650514","AIRS650514MJCRMC06",null,"CAJERA",15,"TARJETA",null,0,0,{"$f":"3228/15","v":215.2},{"$f":"TRUNC(N106*I106,2)","v":3228},{"$f":"TRUNC(N106*I106*0.04,2)","v":129.12},{"$f":"TRUNC(N106*0.07*I106,2)","v":225.96},{"$f":"L106","v":0},{"$f":"TRUNC(Q106+P106+(IF(R106>519,519,R106))+IF(K106=0,0,K106*N106),2)","v":355.08},{"$f":"TRUNC((IF(K106=0,I106*N106,(I106-K106)*N106))+(IF(R106<519,0,R106-519)),2)+M106","v":3228},{"$f":"S106+T106","v":3583.08},null,null,0,{"$f":"IF(N106>0.01,(T106-VLOOKUP(T106,quincenal,1))*VLOOKUP(T106,quincenal,3)+VLOOKUP(T106,quincenal,2)-VLOOKUP(T106,subquincenal,2),0)","v":122.02331199999998},{"$f":"TRUNC(IF(Y106>0.01,Y106,0),2)","v":122.02},{"$f":"TRUNC(IF(Y106<0.01,-Y106,0),2)","v":0},{"$f":"U106-W106-X106-Z106+AA106","v":3461.06},{"$f":"PORTADA!$D$10","v":1}]
[61,"11","17","MARTINEZ GOMEZ GALDINO","MAGG",null,null,"INSPECTOR FISCAL",15,"TARJETA",null,0,0,{"$f":"2624/15","v":174.93333333333334},{"$f":"TRUNC(N107*I107,2)","v":2624},{"$f":"TRUNC(N107*I107*0.04,2)","v":104.96},{"$f":"TRUNC(N107*0.07*I107,2)","v":183.68},{"$f":"L107","v":0},{"$f":"TRUNC(Q107+P107+(IF(R107>519,519,R107))+IF(K107=0,0,K107*N107),2)","v":288.64},{"$f":"TRUNC((IF(K107=0,I107*N107,(I107-K107)*N107))+(IF(R107<519,0,R107-519)),2)+M107","v":2624},{"$f":"S107+T107","v":2912.64},null,null,0,{"$f":"IF(N107>0.01,(T107-VLOOKUP(T107,quincenal,1))*VLOOKUP(T107,quincenal,3)+VLOOKUP(T107,quincenal,2)-VLOOKUP(T107,subquincenal,2),0)","v":21.058111999999966},{"$f":"TRUNC(IF(Y107>0.01,Y107,0),2)","v":21.05},{"$f":"TRUNC(IF(Y107<0.01,-Y107,0),2)","v":0},{"$f":"U107-W107-X107-Z107+AA107","v":2891.5899999999997},{"$f":"PORTADA!$D$10","v":1}]
[62,"3","3","CABRALES GONZALEZ JOSE MANUEL","CAGM680912","CAGM680912HJCBNN06","2007-01-01","RECAUDADOR DE PISO",15,"TARJETA",null,0,0,{"$f":"3016/15","v":201.06666666666666},{"$f":"TRUNC(N108*I108,2)","v":3016},{"$f":"TRUNC(N108*I108*0.04,2)","v":120.64},{"$f":"TRUNC(N108*0.07*I108,2)","v":211.12},{"$f":"L108","v":0},{"$f":"TRUNC(Q108+P108+(IF(R108>519,519,R108))+IF(K108=0,0,K108*N108),2)","v":331.76},{"$f":"TRUNC((IF(K108=0,I108*N108,(I108-K108)*N108))+(IF(R108<519,0,R108-519)),2)+M108","v":3016},{"$f":"S108+T108","v":3347.76},null,null,0,{"$f":"IF(N108>0.01,(T108-VLOOKUP(T108,quincenal,1))*VLOOKUP(T108,quincenal,3)+VLOOKUP(T108,quincenal,2)-VLOOKUP(T108,subquincenal,2),0)","v":78.707711999999987},{"$f":"TRUNC(IF(Y108>0.01,Y108,0),2)","v":78.7},{"$f":"TRUNC(IF(Y108<0.01,-Y108,0),2)","v":0},{"$f":"U108-W108-X108-Z108+AA108","v":3269.0600000000004},{"$f":"PORTADA!$D$10","v":1}]
[null,null,null,"DEPARTAMENTO DE INGRESOS",null,null,null,null,null,null,null,null,null,null,{"$f":"SUM(O106:O108)","v":8868},{"$f":"SUM(P106:P108)","v":354.71999999999997},620.76,0,975.48,8868,9843.48,0,0,0,221.78913599999993,221.76999999999998,0,9621.7099999999991]
[]
[null,null,null,"DEPARTAMENTO DE EGRESOS"]
[63,"3","7",null,"LEGJ",null,null,"COORDINADOR DE EGRESOS",0,"TARJETA",null,0,0,{"$f":"5198/15","v":346.53333333333336},{"$f":"TRUNC(N112*I112,2)","v":0},{"$f":"TRUNC(N112*I112*0.04,2)","v":0},{"$f":"TRUNC(N112*0.07*I112,2)","v":0},{"$f":"L112","v":0},{"$f":"TRUNC(Q112+P112+(IF(R112>519,519,R112))+IF(K112=0,0,K112*N112),2)","v":0},{"$f":"TRUNC((IF(K112=0,I112*N112,(I112-K112)*N112))+(IF(R112<519,0,R112-519)),2)+M112","v":0},{"$f":"S112+T112","v":0},null,null,0,{"$f":"IF(N112>0.01,(T112-VLOOKUP(T112,quincenal,1))*VLOOKUP(T112,quincenal,3)+VLOOKUP(T112,quincenal,2)-VLOOKUP(T112,subquincenal,2),0)","v":{"$error":"#N/A"}},null,null,{"$f":"U112-W112-X112-Z112+AA112","v":0},{"$f":"PORTADA!$D$10","v":1}]
[null,null,null,"DEPARTAMENTO DE EGRESOS",null,null,null,null,null,null,null,null,null,null,{"$f":"SUM(O112)","v":0},0,0,0,0,0,0,0,0,0,{"$error":"#N/A"},0,0,0]
[]
[null,null,null,"DEPARTAMENTO DE  INFORMATICA"]
[64,"3","12","DIAZ MONTES EDGAR ALEXANDRO","DIME",null,null,"DIRECTOR DE IL DEPARTAMENTO DE NFORMATICA",15,"TARJETA",null,0,0,{"$f":"5198/15","v":346.53333333333336},{"$f":"TRUNC(N116*I116,2)","v":5198},{"$f":"TRUNC(N116*I116*0.04,2)","v":207.92},{"$f":"TRUNC(N116*0.07*I116,2)","v":363.86},{"$f":"L116","v":0},{"$f":"TRUNC(Q116+P116+(IF(R116>519,519,R116))+IF(K116=0,0,K116*N116),2)","v":571.78},{"$f":"TRUNC((IF(K116=0,I116*N116,(I116-K116)*N116))+(IF(R116<519,0,R116-519)),2)+M116","v":5198},{"$f":"S116+T116","v":5769.78},null,null,0,{"$f":"IF(N116>0.01,(T116-VLOOKUP(T116,quincenal,1))*VLOOKUP(T116,quincenal,3)+VLOOKUP(T116,quincenal,2)-VLOOKUP(T116,subquincenal,2),0)","v":563.10362400000008},{"$f":"TRUNC(IF(Y116>0.01,Y116,0),2)","v":563.1},{"$f":"TRUNC(IF(Y116<0.01,-Y116,0),2)","v":0},{"$f":"U116-W116-X116-Z116+AA116","v":5206.6799999999994},{"$f":"PORTADA!$D$10","v":1}]
[null,null,null,"AUXILIAR",null,null,null,"AUXILIAR DEL DEPARTAMENTO DE NFORMATICA",0,null,null,0,0,137.41999999999999,{"$f":"TRUNC(N117*I117,2)","v":0},{"$f":"TRUNC(N117*I117*0.04,2)","v":0},{"$f":"TRUNC(N117*0.07*I117,2)","v":0},{"$f":"L117","v":0},{"$f":"TRUNC(Q117+P117+(IF(R117>519,519,R117))+IF(K117=0,0,K117*N117),2)","v":0},{"$f":"TRUNC((IF(K117=0,I117*N117,(I117-K117)*N117))+(IF(R117<519,0,R117-519)),2)+M117","v":0},{"$f":"S117+T117","v":0},null,null,null,{"$f":"IF(N117>0.01,(T117-VLOOKUP(T117,quincenal,1))*VLOOKUP(T117,quincenal,3)+VLOOKUP(T117,quincenal,2)-VLOOKUP(T117,subquincenal,2),0)","v":{"$error":"#N/A"}},0,0,{"$f":"U117-W117-X117-Z117+AA117","v":0},{"$f":"PORTADA!$D$10","v":1}]
[null,null,null,"DEPARTAMENTO DE COMPUTO E INFORMATICA",null,null,null,null,null,null,null,null,null,null,{"$f":"SUM(O116)","v":5198},207.92,363.86,0,571.78,5198,5769.78,0,0,0,563.10362400000008,563.1,0,5206.6799999999994]
[]
[null,null,null,"DEPARTAMENTO DE IMPUESTO PREDIAL Y CATASTRO"]
[null,null,null,"BLANCO ARVIZU CESAR ROBERTO",null,null,null,"DIRECTOR INTERINO",15,"TARJETA",null,0,0,{"$f":"5968/15","v":397.86666666666667},{"$f":"TRUNC(N121*I121,2)","v":5968},{"$f":"TRUNC(N121*I121*0.04,2)","v":238.72},{"$f":"TRUNC(N121*0.07*I121,2)","v":417.76},{"$f":"L121","v":0},{"$f":"TRUNC(Q121+P121+(IF(R121>519,519,R121))+IF(K121=0,0,K121*N121),2)","v":656.48},{"$f":"TRUNC((IF(K121=0,I121*N121,(I121-K121)*N121))+(IF(R121<519,0,R121-519)),2)+M121","v":5968},{"$f":"S121+T121","v":6624.48},null,null,0,{"$f":"IF(N121>0.01,(T121-VLOOKUP(T121,quincenal,1))*VLOOKUP(T121,quincenal,3)+VLOOKUP(T121,quincenal,2)-VLOOKUP(T121,subquincenal,2),0)","v":727.57562400000006},{"$f":"TRUNC(IF(Y121>0.01,Y121,0),2)","v":727.57},{"$f":"TRUNC(IF(Y121<0.01,-Y121,0),2)","v":0},{"$f":"U121-W121-X121-Z121+AA121","v":5896.91}]
[66,"3","13","CAMARENA PEREZ BERTA ALICIA","CAPB801105","CAPB801105MJCMRR06","2007-01-01","SUB-DIRECTOR DE CATASTRO",15,"TARJETA",null,0,0,{"$f":"4196/15","v":279.73333333333335},4196,167.84,293.72000000000003,0,461.56,4196,4657.5600000000004,null,null,0,380.44839999999999,{"$f":"TRUNC(IF(Y122>0.01,Y122,0),2)","v":380.44},{"$f":"TRUNC(IF(Y122<0.01,-Y122,0),2)","v":0},4277.1200000000008,{"$f":"PORTADA!$D$10","v":1}]
[63,3,13,null,"GOME840310","GOME840310MJCNRR06","2009-01-01","SECRETARIA",0,"TARJETA",null,0,0,170.38,0,0,0,0,0,0,0,null,0,0,null,null,null,0,{"$f":"PORTADA!$D$10","v":1}]
[67,null,null,"HERNANDEZ BERNAL CESAR ALEJANDRO","HEBC",null,null,"SUB-DIRECTOR DE PREDIAL",15,"TARJETA",null,0,0,{"$f":"4196/15","v":279.73333333333335},4196,167.84,293.72000000000003,0,461.56,4196,4657.5600000000004,null,null,0,380.44839999999999,{"$f":"TRUNC(IF(Y124>0.01,Y124,0),2)","v":380.44},{"$f":"TRUNC(IF(Y124<0.01,-Y124,0),2)","v":0},4277.1200000000008]
[68,"3","13",null,"MUPM",null,null,"AUXILIAR",0,"TARJETA",null,0,0,{"$f":"2492/15","v":166.13333333333333},0,0,0,0,0,0,0,null,0,0,{"$error":"#N/A"},0,0,0,{"$f":"PORTADA!$D$10","v":1}]
[null,null,null,"DEPARTAMENTO DE IMPUESTO PREDIAL Y CATASTRO",null,null,null,null,null,null,null,null,null,null,{"$f":"SUM(O121:O125)","v":14360},574.4,1005.2,0,1579.6,14360,15939.600000000002,0,0,0,{"$error":"#N/A"},1488.45,0,14451.150000000001]
[]
[null,null,null,"ADMINISTRACION DE LOS SERVICIOS PUBLICOS MUNICIPALES"]
[69,null,null,"CORTEZ GODOY EUSEBIO","HEAM740507","HEAM740507HJCRGN04","2008-05-01","OPERADOR DE MAQUINAS",15,"TARJETA",null,0,0,{"$f":"3428/15","v":228.53333333333333},{"$f":"TRUNC(N129*I129,2)","v":3428},{"$f":"TRUNC(N129*I129*0.04,2)","v":137.12},{"$f":"TRUNC(N129*0.07*I129,2)","v":239.96},{"$f":"L129","v":0},{"$f":"TRUNC(Q129+P129+(IF(R129>519,519,R129))+IF(K129=0,0,K129*N129),2)","v":377.08},{"$f":"TRUNC((IF(K129=0,I129*N129,(I129-K129)*N129))+(IF(R129<519,0,R129-519)),2)+M129","v":3428},{"$f":"S129+T129","v":3805.08},null,null,null,{"$f":"IF(N129>0.01,(T129-VLOOKUP(T129,quincenal,1))*VLOOKUP(T129,quincenal,3)+VLOOKUP(T129,quincenal,2)-VLOOKUP(T129,subquincenal,2),0)","v":143.783312},{"$f":"TRUNC(IF(Y129>0.01,Y129,0),2)","v":143.78},{"$f":"TRUNC(IF(Y129<0.01,-Y129,0),2)","v":0},{"$f":"U129-W129-X129-Z129+AA129","v":3661.2999999999997},{"$f":"PORTADA!$D$10","v":1}]
[68,null,null,"VACANTE (OPERADOR DE MAQUINARIA)",null,null,null,"OPERADOR DE MAQUINAS",0,null,null,0,0,219.75,{"$f":"TRUNC(N130*I130,2)","v":0},{"$f":"TRUNC(N130*I130*0.04,2)","v":0},{"$f":"TRUNC(N130*0.07*I130,2)","v":0},{"$f":"L130","v":0},{"$f":"TRUNC(Q130+P130+(IF(R130>519,519,R130))+IF(K130=0,0,K130*N130),2)","v":0},{"$f":"TRUNC((IF(K130=0,I130*N130,(I130-K130)*N130))+(IF(R130<519,0,R130-519)),2)+M130","v":0},{"$f":"S130+T130","v":0},null,null,null,null,0,0,{"$f":"U130-W130-X130-Z130+AA130","v":0},{"$f":"PORTADA!$D$10","v":1}]
[70,null,null,"ILLAN OCAMPO RUBEN","IAOR",null,null,"ENCARGADO DE MANTENIMIENTO A VEHICULOS",15,"TARJETA",null,0,0,{"$f":"4385/15","v":292.33333333333331},4385,175.4,306.95,0,482.35,4385,4867.3500000000004,null,null,0,413.29748800000004,413.29,0,4454.0600000000004]
[70,null,null,null,"FEGC520708TD3","FEGC520708HJCRMR08",null,null,null,"TARJETA",null,0,0,152.41,null,null,null,0,0,0,0,null,null,null,null,null,null,0]
[71,null,null,"MOJARRO BERUMEN ENRIQUE",null,null,null,"EMPEDRADOR",15,"TARJETA",null,0,0,{"$f":"2866/15","v":191.06666666666666},2866,114.64,200.62,0,315.26,2866,3181.26,null,null,null,62.387711999999993,62.38,0,3118.88]
[72,null,null,"FERREL ALCANTAR EDMUNDO",null,null,null,"EMPEDRADOR",15,"TARJETA",null,0,0,{"$f":"2866/15","v":191.06666666666666},2866,114.64,200.62,0,315.26,2866,3181.26,null,null,null,62.387711999999993,62.38,0,3118.88]
[73,null,null,null,null,null,null,"AUXILIAR GENERAL",0,"TARJETA",null,0,0,{"$f":"2601/15","v":173.4},0,0,0,0,0,0,0,null,0,null,null,null,null,0]
[74,null,null,"NAVARRO GUTIERREZ MOISES EDMUNDO",null,null,null,"AYUDANTE",14,"TARJETA",null,0,0,{"$f":"2222/15","v":148.13333333333333},2073.86,82.95,145.16999999999999,0,228.12,2073.86,2301.98,null,null,null,-66.990799999999965,0,66.989999999999995,2368.9699999999998]
[75,null,null,"GALLEGOS RIVAS ADRIAN",null,null,null,"AYUDANTE",15,"TARJETA",null,0,0,{"$f":"2222/15","v":148.13333333333333},2222,88.88,155.54,0,244.42,2222,2466.42,null,null,null,-37.079488000000026,0,37.07,2503.4900000000002]
[76,null,null,"RAMIREZ GARCIA J. JESUS",null,null,null,"AYUDANTE",15,"TARJETA",null,0,0,{"$f":"2222/15","v":148.13333333333333},2222,88.88,155.54,0,244.42,2222,2466.42,null,null,null,-37.079488000000026,0,37.07,2503.4900000000002]
[77,null,null,"ORENDAIN BERNAL ROBERTO",null,null,null,"AYUDANTE",15,"TARJETA",null,0,0,{"$f":"2222/15","v":148.13333333333333},2222,88.88,155.54,0,244.42,2222,2466.42,null,null,null,-37.079488000000026,0,37.07,2503.4900000000002]
[78,null,null,"OFICIAL",null,null,null,"OFICIAL",0,"SOBRE",null,0,0,183.76,0,0,0,0,0,0,0,null,null,null,null,0,0,0]
[79,null,null,"CHOFER",null,null,null,"CHOFER   ",0,"SOBRE",null,0,0,219.75,0,0,0,0,0,0,0,null,null,null,null,0,0,0]
[78,null,null,"GARCIA CISNEROS ARTURO",null,null,null,"ALMACENISTA",15,"TARJETA",null,0,0,{"$f":"1989/15","v":132.6},1989,79.56,139.22999999999999,0,218.79,1989,2207.79,null,null,null,-72.421839999999975,0,72.42,2280.21]
[79,null,null,"BAILON FLORES ANSELMO",null,null,null,"AYUDANTE",15,"TARJETA",null,0,0,{"$f":"1989/15","v":132.6},1989,79.56,139.22999999999999,0,218.79,1989,2207.79,null,null,null,-72.421839999999975,0,72.42,2280.21]
[80,null,null,"DAMIAN MARTINEZ FRANCISCO",null,null,null,"AYUDANTE",15,"TARJETA",null,0,0,{"$f":"1989/15","v":132.6},1989,79.56,139.22999999999999,0,218.79,1989,2207.79,null,null,null,-72.421839999999975,0,72.42,2280.21]
[81,null,null,"GONZALEZ AZPEITIA ALVARO",null,null,null,"AYUDANTE",15,"TARJETA",null,0,0,{"$f":"1989/15","v":132.6},{"$f":"TRUNC(N145*I145,2)","v":1989},{"$f":"TRUNC(N145*I145*0.04,2)","v":79.56},{"$f":"TRUNC(N145*0.07*I145,2)","v":139.22999999999999},{"$f":"L145","v":0},{"$f":"TRUNC(Q145+P145+(IF(R145>519,519,R145))+IF(K145=0,0,K145*N145),2)","v":218.79},{"$f":"TRUNC((IF(K145=0,I145*N145,(I145-K145)*N145))+(IF(R145<519,0,R145-519)),2)+M145","v":1989},{"$f":"S145+T145","v":2207.79},null,null,null,{"$f":"IF(N145>0.01,(T145-VLOOKUP(T145,quincenal,1))*VLOOKUP(T145,quincenal,3)+VLOOKUP(T145,quincenal,2)-VLOOKUP(T145,subquincenal,2),0)","v":-72.421839999999975},{"$f":"TRUNC(IF(Y145>0.01,Y145,0),2)","v":0},{"$f":"TRUNC(IF(Y145<0.01,-Y145,0),2)","v":72.42},{"$f":"U145-W145-X145-Z145+AA145","v":2280.21}]
[82,null,null,"ARQUIETA VADILLO ARTURO","AUVA551030FJ0","AUVA551030HJCRDR15",null,"PINTOR GENERAL",15,"SOBRE",null,0,0,{"$f":"4527/15","v":301.8},{"$f":"TRUNC(N146*I146,2)","v":4527},{"$f":"TRUNC(N146*I146*0.04,2)","v":181.08},{"$f":"TRUNC(N146*0.07*I146,2)","v":316.89},{"$f":"L146","v":0},{"$f":"TRUNC(Q146+P146+(IF(R146>519,519,R146))+IF(K146=0,0,K146*N146),2)","v":497.97},{"$f":"TRUNC((IF(K146=0,I146*N146,(I146-K146)*N146))+(IF(R146<519,0,R146-519)),2)+M146","v":4527},{"$f":"S146+T146","v":5024.97},null,null,null,{"$f":"IF(N146>0.01,(T146-VLOOKUP(T146,quincenal,1))*VLOOKUP(T146,quincenal,3)+VLOOKUP(T146,quincenal,2)-VLOOKUP(T146,subquincenal,2),0)","v":438.74388800000008},438.74,0,{"$f":"U146-W146-X146-Z146+AA146","v":4586.2300000000005}]
[null,null,null,"ADMINISTRACION DE LOS SERVICIOS PUBLICOS MUNICIPALES",null,null,null,null,null,null,null,null,null,null,{"$f":"SUM(O129:O146)","v":34767.86},{"$f":"SUM(P129:P146)","v":1390.7099999999998},2433.7499999999995,0,3824.46,34767.86,38592.32,0,0,0,652.68348800000012,1120.5700000000002,467.88000000000005,37939.630000000012]
[null,null,null,"DIRECCION GENERAL  DE OBRAS PUBLICAS"]
[83,"4","1","CASTELLANOS CORREA HIGINIO ERNESTO",null,null,null,"DIRECTOR DE OBRAS PÚBLICAS",15,"TARJETA",null,0,0,{"$f":"6513/15","v":434.2},{"$f":"TRUNC(N149*I149,2)","v":6513},{"$f":"TRUNC(N149*I149*0.04,2)","v":260.52},{"$f":"TRUNC(N149*0.07*I149,2)","v":455.91},{"$f":"L149","v":0},{"$f":"TRUNC(Q149+P149+(IF(R149>519,519,R149))+IF(K149=0,0,K149*N149),2)","v":716.43},{"$f":"TRUNC((IF(K149=0,I149*N149,(I149-K149)*N149))+(IF(R149<519,0,R149-519)),2)+M149","v":6513},{"$f":"S149+T149","v":7229.43},null,0,0,{"$f":"IF(N149>0.01,(T149-VLOOKUP(T149,quincenal,1))*VLOOKUP(T149,quincenal,3)+VLOOKUP(T149,quincenal,2)-VLOOKUP(T149,subquincenal,2),0)","v":843.9876240000001},{"$f":"TRUNC(IF(Y149>0.01,Y149,0),2)","v":843.98},{"$f":"TRUNC(IF(Y149<0.01,-Y149,0),2)","v":0},{"$f":"U149-W149-X149-Z149+AA149","v":6385.4500000000007},{"$f":"PORTADA!$D$10","v":1}]
[84,"4","1","FLORES IÑIGUEZ JUAN RAYMUNDO","FOIJ8508313Z1","FOIJ850831HJCLXN07","2007-01-01","SUB-DIRECTOR DESARROLLO URBANO",15,"TARJETA",null,0,0,{"$f":"3741/15","v":249.4},3741,149.63999999999999,261.87,0,411.51,3741,4152.51,null,null,0,307.64839999999998,307.64,0,3844.8700000000003,{"$f":"PORTADA!$D$10","v":1}]
[85,"4","1","RENTERIA MENDEZ FRANCISCO","REMF850816I26","REMF850816HJCNNR00","2008-03-05","AUXILIAR DE DIRECCIÓN",15,"TARJETA",null,0,0,{"$f":"4385/15","v":292.33333333333331},4385,175.4,306.95,0,482.35,4385,4867.3500000000004,null,null,0,413.29748800000004,413.29,0,4454.0600000000004,{"$f":"PORTADA!$D$10","v":1}]
[86,"4","1","FREGOSO MARTINEZ ISMAEL","FEMI",null,null,"MAESTRO DE OBRA",15,"TARJETA",null,0,0,{"$f":"3669/15","v":244.6},3669,146.76,256.83,0,403.59,3669,4072.59,null,null,0,296.12839999999994,296.12,0,3776.4700000000003,{"$f":"PORTADA!$D$10","v":1}]
[88,null,null,"RENTERIA LOPEZ JUAN CARLOS",null,null,null,"AUXILIAR  DESARROLLO URBANO",15,"TARJETA",null,0,0,{"$f":"2411.14/15","v":160.74266666666665},{"$f":"TRUNC(N153*I153,2)","v":2411.14},{"$f":"TRUNC(N153*I153*0.04,2)","v":96.44},{"$f":"TRUNC(N153*0.07*I153,2)","v":168.77},{"$f":"L153","v":0},{"$f":"TRUNC(Q153+P153+(IF(R153>519,519,R153))+IF(K153=0,0,K153*N153),2)","v":265.20999999999998},{"$f":"TRUNC((IF(K153=0,I153*N153,(I153-K153)*N153))+(IF(R153<519,0,R153-519)),2)+M153","v":2411.14},{"$f":"S153+T153","v":2676.35},null,null,0,{"$f":"IF(N153>0.01,(T153-VLOOKUP(T153,quincenal,1))*VLOOKUP(T153,quincenal,3)+VLOOKUP(T153,quincenal,2)-VLOOKUP(T153,subquincenal,2),0)","v":-2.1010560000000282},{"$f":"TRUNC(IF(Y153>0.01,Y153,0),2)","v":0},{"$f":"TRUNC(IF(Y153<0.01,-Y153,0),2)","v":2.1},{"$f":"U153-W153-X153-Z153+AA153","v":2678.45},{"$f":"PORTADA!$D$10","v":1}]
[89,4,1,"NOLASCO VALLE ARTURO","NOVA",null,null,"CHOFER   ",15,"TARJETA",null,0,0,{"$f":"2866/15","v":191.06666666666666},2866,114.64,200.62,0,315.26,2866,3181.26,null,0,0,62.387711999999993,62.38,0,3118.88,{"$f":"PORTADA!$D$10","v":1}]
[90,4,1,null,"NADM490419","NADM490419HJCBLN01","2007-01-01",null,0,"TARJETA",null,0,0,{"$f":"3016/15","v":201.06666666666666},{"$f":"TRUNC(N155*I155,2)","v":0},{"$f":"TRUNC(N155*I155*0.04,2)","v":0},{"$f":"TRUNC(N155*0.07*I155,2)","v":0},{"$f":"L155","v":0},{"$f":"TRUNC(Q155+P155+(IF(R155>519,519,R155))+IF(K155=0,0,K155*N155),2)","v":0},{"$f":"TRUNC((IF(K155=0,I155*N155,(I155-K155)*N155))+(IF(R155<519,0,R155-519)),2)+M155","v":0},{"$f":"S155+T155","v":0},null,0,0,{"$f":"IF(N155>0.01,(T155-VLOOKUP(T155,quincenal,1))*VLOOKUP(T155,quincenal,3)+VLOOKUP(T155,quincenal,2)-VLOOKUP(T155,subquincenal,2),0)","v":{"$error":"#N/A"}},0,0,{"$f":"U155-W155-X155-Z155+AA155","v":0},{"$f":"PORTADA!$D$10","v":1}]
[null,null,null,{"$f":"D148","v":"DIRECCION GENERAL  DE OBRAS PUBLICAS"},null,null,null,null,null,null,null,null,null,null,{"$f":"SUM(O149:O155)","v":23585.14},{"$f":"SUM(P149:P155)","v":943.4},1650.9499999999998,0,2594.3499999999995,23585.14,26179.489999999998,0,0,0,{"$error":"#N/A"},1923.4099999999999,2.1,24258.180000000004]
[]
[null,null,null,"DEPARTAMENTO DE CEMENTERIOS"]
[91,"5","2","RIVERA ORENDAIN ADALBERTO","RIOA520619","RIOA520619HJCVRD05",null,"ADMINISTRADOR DE CEMENTERIOS",15,"TARJETA",null,0,0,{"$f":"2827/15","v":188.46666666666667},{"$f":"TRUNC(N159*I159,2)","v":2827},{"$f":"TRUNC(N159*I159*0.04,2)","v":113.08},{"$f":"TRUNC(N159*0.07*I159,2)","v":197.89},{"$f":"L159","v":0},{"$f":"TRUNC(Q159+P159+(IF(R159>519,519,R159))+IF(K159=0,0,K159*N159),2)","v":310.97000000000003},{"$f":"TRUNC((IF(K159=0,I159*N159,(I159-K159)*N159))+(IF(R159<519,0,R159-519)),2)+M159","v":2827},{"$f":"S159+T159","v":3137.9700000000003},null,null,0,{"$f":"IF(N159>0.01,(T159-VLOOKUP(T159,quincenal,1))*VLOOKUP(T159,quincenal,3)+VLOOKUP(T159,quincenal,2)-VLOOKUP(T159,subquincenal,2),0)","v":58.144511999999992},{"$f":"TRUNC(IF(Y159>0.01,Y159,0),2)","v":58.14},{"$f":"TRUNC(IF(Y159<0.01,-Y159,0),2)","v":0},{"$f":"U159-W159-X159-Z159+AA159","v":3079.8300000000004},{"$f":"PORTADA!$D$10","v":1}]
[94,null,null,"PROPONER O CAPTURAR",null,null,null,"AYUDANTE DEL DEPARTAMENTO DE CEMENTERIOS",0,null,null,0,0,137.41999999999999,{"$f":"TRUNC(N160*I160,2)","v":0},{"$f":"TRUNC(N160*I160*0.04,2)","v":0},{"$f":"TRUNC(N160*0.07*I160,2)","v":0},{"$f":"L160","v":0},{"$f":"TRUNC(Q160+P160+(IF(R160>519,519,R160))+IF(K160=0,0,K160*N160),2)","v":0},{"$f":"TRUNC((IF(K160=0,I160*N160,(I160-K160)*N160))+(IF(R160<519,0,R160-519)),2)+M160","v":0},{"$f":"S160+T160","v":0},null,null,null,null,0,0,{"$f":"U160-W160-X160-Z160+AA160","v":0},{"$f":"PORTADA!$D$10","v":1}]
[95,null,null,"PROPONER O CAPTURAR",null,null,null,"AYUDANTE DEL DEPARTAMENTO DE CEMENTERIOS",0,null,null,0,0,137.41999999999999,{"$f":"TRUNC(N161*I161,2)","v":0},{"$f":"TRUNC(N161*I161*0.04,2)","v":0},{"$f":"TRUNC(N161*0.07*I161,2)","v":0},{"$f":"L161","v":0},{"$f":"TRUNC(Q161+P161+(IF(R161>519,519,R161))+IF(K161=0,0,K161*N161),2)","v":0},{"$f":"TRUNC((IF(K161=0,I161*N161,(I161-K161)*N161))+(IF(R161<519,0,R161-519)),2)+M161","v":0},{"$f":"S161+T161","v":0},null,null,null,null,0,0,{"$f":"U161-W161-X161-Z161+AA161","v":0},{"$f":"PORTADA!$D$10","v":1}]
[null,null,null,"DEPARTAMENTO DE CEMENTERIOS",null,null,null,null,null,null,null,null,null,null,{"$f":"SUM(O159:O161)","v":2827},{"$f":"SUM(P159:P161)","v":113.08},197.89,0,310.97000000000003,2827,3137.9700000000003,0,0,0,58.144511999999992,58.14,0,3079.8300000000004]
[]
[null,null,null,"DEPARTAMENTO DE RASTRO"]
[92,"5","3","LOPEZ VILLEGAS J. JESUS","LOVJ470602UN7","LOVJ470602HJCPLS07",null,"GUARDA RASTRO",15,"TARJETA",null,0,0,{"$f":"2367/15","v":157.80000000000001},{"$f":"TRUNC(N165*I165,2)","v":2367},{"$f":"TRUNC(N165*I165*0.04,2)","v":94.68},{"$f":"TRUNC(N165*0.07*I165,2)","v":165.69},{"$f":"L165","v":0},{"$f":"TRUNC(Q165+P165+(IF(R165>519,519,R165))+IF(K165=0,0,K165*N165),2)","v":260.37},{"$f":"TRUNC((IF(K165=0,I165*N165,(I165-K165)*N165))+(IF(R165<519,0,R165-519)),2)+M165","v":2367},{"$f":"S165+T165","v":2627.37},null,null,0,{"$f":"IF(N165>0.01,(T165-VLOOKUP(T165,quincenal,1))*VLOOKUP(T165,quincenal,3)+VLOOKUP(T165,quincenal,2)-VLOOKUP(T165,subquincenal,2),0)","v":-6.9034880000000101},{"$f":"TRUNC(IF(Y165>0.01,Y165,0),2)","v":0},{"$f":"TRUNC(IF(Y165<0.01,-Y165,0),2)","v":6.9},{"$f":"U165-W165-X165-Z165+AA165","v":2634.27},{"$f":"PORTADA!$D$10","v":1}]
[93,"5","26","RAUL PARRA ROSAS","PARR",null,null,"VETERINARIO",15,"TARJETA",null,0,0,{"$f":"3669/15","v":244.6},{"$f":"TRUNC(N166*I166,2)","v":3669},{"$f":"TRUNC(N166*I166*0.04,2)","v":146.76},{"$f":"TRUNC(N166*0.07*I166,2)","v":256.83},{"$f":"L166","v":0},{"$f":"TRUNC(Q166+P166+(IF(R166>519,519,R166))+IF(K166=0,0,K166*N166),2)","v":403.59},{"$f":"TRUNC((IF(K166=0,I166*N166,(I166-K166)*N166))+(IF(R166<519,0,R166-519)),2)+M166","v":3669},{"$f":"S166+T166","v":4072.59},null,null,0,{"$f":"IF(N166>0.01,(T166-VLOOKUP(T166,quincenal,1))*VLOOKUP(T166,quincenal,3)+VLOOKUP(T166,quincenal,2)-VLOOKUP(T166,subquincenal,2),0)","v":296.12839999999994},{"$f":"TRUNC(IF(Y166>0.01,Y166,0),2)","v":296.12},{"$f":"TRUNC(IF(Y166<0.01,-Y166,0),2)","v":0},{"$f":"U166-W166-X166-Z166+AA166","v":3776.4700000000003},{"$f":"PORTADA!$D$10","v":1}]
[94,null,null,"MARTINEZ TORRES JUSTINO","MATJ",null,null,"AUXILIAR DE MENTENIMIENTO",15,"TARJETA",null,0,0,{"$f":"1591/15","v":106.06666666666666},{"$f":"TRUNC(N167*I167,2)","v":1591},{"$f":"TRUNC(N167*I167*0.04,2)","v":63.64},{"$f":"TRUNC(N167*0.07*I167,2)","v":111.37},{"$f":"L167","v":0},{"$f":"TRUNC(Q167+P167+(IF(R167>519,519,R167))+IF(K167=0,0,K167*N167),2)","v":175.01},{"$f":"TRUNC((IF(K167=0,I167*N167,(I167-K167)*N167))+(IF(R167<519,0,R167-519)),2)+M167","v":1591},{"$f":"S167+T167","v":1766.01},null,null,0,{"$f":"IF(N167>0.01,(T167-VLOOKUP(T167,quincenal,1))*VLOOKUP(T167,quincenal,3)+VLOOKUP(T167,quincenal,2)-VLOOKUP(T167,subquincenal,2),0)","v":-109.89383999999998},{"$f":"TRUNC(IF(Y167>0.01,Y167,0),2)","v":0},{"$f":"TRUNC(IF(Y167<0.01,-Y167,0),2)","v":109.89},{"$f":"U167-W167-X167-Z167+AA167","v":1875.9}]
[null,null,null,"DEPARTAMENTO DE RASTRO",null,null,null,null,null,null,null,null,null,null,{"$f":"SUM(O165:O167)","v":7627},{"$f":"SUM(P165:P167)","v":305.08},533.89,0,838.97,7627,8465.9699999999993,0,0,0,179.33107199999992,296.12,116.79,8286.64]
[]
[null,null,null,"DEPARTAMENTO DE MERCADOS"]
[95,"5","5","GONZALEZ JARA J. REFUGIO JAVIER","GOJR670808","GOJR670808HJCNRF13","2007-03-17","VELADOR DEPTO DE MERCADOS",15,"TARJETA",null,0,0,{"$f":"1577/15","v":105.13333333333334},{"$f":"TRUNC(N171*I171,2)","v":1577},{"$f":"TRUNC(N171*I171*0.04,2)","v":63.08},{"$f":"TRUNC(N171*0.07*I171,2)","v":110.39},{"$f":"L171","v":0},{"$f":"TRUNC(Q171+P171+(IF(R171>519,519,R171))+IF(K171=0,0,K171*N171),2)","v":173.47},{"$f":"TRUNC((IF(K171=0,I171*N171,(I171-K171)*N171))+(IF(R171<519,0,R171-519)),2)+M171","v":1577},{"$f":"S171+T171","v":1750.47},null,null,0,{"$f":"IF(N171>0.01,(T171-VLOOKUP(T171,quincenal,1))*VLOOKUP(T171,quincenal,3)+VLOOKUP(T171,quincenal,2)-VLOOKUP(T171,subquincenal,2),0)","v":-110.78983999999998},{"$f":"TRUNC(IF(Y171>0.01,Y171,0),2)","v":0},{"$f":"TRUNC(IF(Y171<0.01,-Y171,0),2)","v":110.78},{"$f":"U171-W171-X171-Z171+AA171","v":1861.25},{"$f":"PORTADA!$D$10","v":1}]
[96,"5","5","MARTINEZ GONZALEZ JOSE DE JESUS","MAGJ401015","MAGJ401015HJCRNC00","2004-01-01","VELADOR DEPTO DE MERCADOS",15,"TARJETA",null,0,0,{"$f":"1577/15","v":105.13333333333334},{"$f":"TRUNC(N172*I172,2)","v":1577},{"$f":"TRUNC(N172*I172*0.04,2)","v":63.08},{"$f":"TRUNC(N172*0.07*I172,2)","v":110.39},{"$f":"L172","v":0},{"$f":"TRUNC(Q172+P172+(IF(R172>519,519,R172))+IF(K172=0,0,K172*N172),2)","v":173.47},{"$f":"TRUNC((IF(K172=0,I172*N172,(I172-K172)*N172))+(IF(R172<519,0,R172-519)),2)+M172","v":1577},{"$f":"S172+T172","v":1750.47},null,null,0,{"$f":"IF(N172>0.01,(T172-VLOOKUP(T172,quincenal,1))*VLOOKUP(T172,quincenal,3)+VLOOKUP(T172,quincenal,2)-VLOOKUP(T172,subquincenal,2),0)","v":-110.78983999999998},{"$f":"TRUNC(IF(Y172>0.01,Y172,0),2)","v":0},{"$f":"TRUNC(IF(Y172<0.01,-Y172,0),2)","v":110.78},{"$f":"U172-W172-X172-Z172+AA172","v":1861.25},{"$f":"PORTADA!$D$10","v":1}]
[null,null,null,"DEPARTAMENTO DE MERCADOS",null,null,null,null,null,null,null,null,null,null,{"$f":"SUM(O171:O172)","v":3154},{"$f":"SUM(P171:P172)","v":126.16},220.78,0,346.94,3154,3500.94,0,0,0,-221.57967999999997,0,221.56,3722.5]
[]
[null,null,null,"DEPARTAMENTO DE ASEO PUBLICO"]
[97,"5","7","HUERTA AGUILA BERNARDINO","HUAB811011","HUAB810114HJCRGR01","2007-02-01","RECOLECTOR ASEO PUBLICO",15,"TARJETA",null,0,0,{"$f":"2222/15","v":148.13333333333333},{"$f":"TRUNC(N176*I176,2)","v":2222},{"$f":"TRUNC(N176*I176*0.04,2)","v":88.88},{"$f":"TRUNC(N176*0.07*I176,2)","v":155.54},{"$f":"L176","v":0},{"$f":"TRUNC(Q176+P176+(IF(R176>519,519,R176))+IF(K176=0,0,K176*N176),2)","v":244.42},{"$f":"TRUNC((IF(K176=0,I176*N176,(I176-K176)*N176))+(IF(R176<519,0,R176-519)),2)+M176","v":2222},{"$f":"S176+T176","v":2466.42},null,null,0,{"$f":"IF(N176>0.01,(T176-VLOOKUP(T176,quincenal,1))*VLOOKUP(T176,quincenal,3)+VLOOKUP(T176,quincenal,2)-VLOOKUP(T176,subquincenal,2),0)","v":-37.079488000000026},{"$f":"TRUNC(IF(Y176>0.01,Y176,0),2)","v":0},{"$f":"TRUNC(IF(Y176<0.01,-Y176,0),2)","v":37.07},{"$f":"U176-W176-X176-Z176+AA176","v":2503.4900000000002},{"$f":"PORTADA!$D$10","v":1}]
[98,"5","7","GRACIA GOMEZ JAVIER","GAGJ731114","GAGJ731114HJCRMV00","2004-01-01","RECOLECTOR ASEO PUBLICO",15,"TARJETA",null,0,0,{"$f":"2222/15","v":148.13333333333333},2222,88.88,155.54,0,244.42,2222,2466.42,null,null,0,-37.079488000000026,0,37.07,2503.4900000000002,{"$f":"PORTADA!$D$10","v":1}]
[99,"5","7","FREGOZO ALVARADO ALFONSO","FEAA650918","FEAA650818HJCRLL05","2003-01-01","RECOLECTOR ASEO PUBLICO",15,"TARJETA",null,0,0,148.13333333333333,2222,88.88,155.54,0,244.42,2222,2466.42,null,null,0,-37.079488000000026,0,37.07,2503.4900000000002,{"$f":"PORTADA!$D$10","v":1}]
[100,null,null,"TELLEZ GOMEZ VICENTE",null,null,null,"RECOLECTOR ASEO PUBLICO",15,"TARJETA",null,0,0,148.13333333333333,{"$f":"TRUNC(N179*I179,2)","v":2222},{"$f":"TRUNC(N179*I179*0.04,2)","v":88.88},{"$f":"TRUNC(N179*0.07*I179,2)","v":155.54},{"$f":"L179","v":0},{"$f":"TRUNC(Q179+P179+(IF(R179>519,519,R179))+IF(K179=0,0,K179*N179),2)","v":244.42},{"$f":"TRUNC((IF(K179=0,I179*N179,(I179-K179)*N179))+(IF(R179<519,0,R179-519)),2)+M179","v":2222},{"$f":"S179+T179","v":2466.42},null,0,0,{"$f":"IF(N179>0.01,(T179-VLOOKUP(T179,quincenal,1))*VLOOKUP(T179,quincenal,3)+VLOOKUP(T179,quincenal,2)-VLOOKUP(T179,subquincenal,2),0)","v":-37.079488000000026},0,{"$f":"TRUNC(IF(Y179<0.01,-Y179,0),2)","v":37.07},{"$f":"U179-W179-X179-Z179+AA179","v":2503.4900000000002},null,null,2269.54]
[101,"5","7","MARTINEZ VEJAR JUAN JOSE","MAVJ710822","MAVJ710822HJCRJN04","2004-01-01","CHOFER ASEO PUBLICO",15,"TARJETA",null,0,0,{"$f":"2659/15","v":177.26666666666668},{"$f":"TRUNC(N180*I180,2)","v":2659},{"$f":"TRUNC(N180*I180*0.04,2)","v":106.36},{"$f":"TRUNC(N180*0.07*I180,2)","v":186.13},{"$f":"L180","v":0},{"$f":"TRUNC(Q180+P180+(IF(R180>519,519,R180))+IF(K180=0,0,K180*N180),2)","v":292.49},{"$f":"TRUNC((IF(K180=0,I180*N180,(I180-K180)*N180))+(IF(R180<519,0,R180-519)),2)+M180","v":2659},{"$f":"S180+T180","v":2951.49},null,null,0,{"$f":"IF(N180>0.01,(T180-VLOOKUP(T180,quincenal,1))*VLOOKUP(T180,quincenal,3)+VLOOKUP(T180,quincenal,2)-VLOOKUP(T180,subquincenal,2),0)","v":39.866111999999987},39.86,{"$f":"TRUNC(IF(Y180<0.01,-Y180,0),2)","v":0},{"$f":"U180-W180-X180-Z180+AA180","v":2911.6299999999997},{"$f":"PORTADA!$D$10","v":1}]
[102,"5","7","HERNANDEZ RICO JUAN JOSE","MATM450918","MATM451028HJCRRG08","2004-01-01","CHOFER ASEO PUBLICO",15,"TARJETA",null,0,0,{"$f":"2745/15","v":183},2745,109.8,192.15,0,301.95,2745,3046.95,null,null,0,49.22291199999998,{"$f":"TRUNC(IF(Y181>0.01,Y181,0),2)","v":49.22},{"$f":"TRUNC(IF(Y181<0.01,-Y181,0),2)","v":0},2997.73,{"$f":"PORTADA!$D$10","v":1}]
[103,"4","1","DOMINGUEZ HECTOR FREDDI","BECR460228","BECR460207HJCRHS07","2004-01-01","CHOFER ASEO PUBLICO",15,"TARJETA",null,0,0,{"$f":"2745/15","v":183},2745,109.8,192.15,0,301.95,2745,3046.95,null,null,0,49.22291199999998,{"$f":"TRUNC(IF(Y182>0.01,Y182,0),2)","v":49.22},{"$f":"TRUNC(IF(Y182<0.01,-Y182,0),2)","v":0},2997.73]
[104,"5","8","MENDEZ GARCIA MIGUEL ANGEL","MEGM851109","MEGM851109HJCNRG03","2009-01-16","AUX. DE LIMPIEZA GRAL. ",15,"TARJETA",null,0,0,{"$f":"2745/15","v":183},2745,109.8,192.15,0,301.95,2745,3046.95,null,null,0,49.22291199999998,49.22,0,2997.73,{"$f":"PORTADA!$D$10","v":1},null,2711.33]
[105,null,null,"VILLALOBOS OCEGUEDA MIGUEL",null,null,null,"RECOLECTOR ASEO PUBLICO",15,"TARJETA",null,0,0,{"$f":"2222/15","v":148.13333333333333},{"$f":"TRUNC(N184*I184,2)","v":2222},{"$f":"TRUNC(N184*I184*0.04,2)","v":88.88},{"$f":"TRUNC(N184*0.07*I184,2)","v":155.54},{"$f":"L184","v":0},{"$f":"TRUNC(Q184+P184+(IF(R184>519,519,R184))+IF(K184=0,0,K184*N184),2)","v":244.42},{"$f":"TRUNC((IF(K184=0,I184*N184,(I184-K184)*N184))+(IF(R184<519,0,R184-519)),2)+M184","v":2222},{"$f":"S184+T184","v":2466.42},null,null,0,{"$f":"IF(N184>0.01,(T184-VLOOKUP(T184,quincenal,1))*VLOOKUP(T184,quincenal,3)+VLOOKUP(T184,quincenal,2)-VLOOKUP(T184,subquincenal,2),0)","v":-37.079488000000026},{"$f":"TRUNC(IF(Y184>0.01,Y184,0),2)","v":0},{"$f":"TRUNC(IF(Y184<0.01,-Y184,0),2)","v":37.07},{"$f":"U184-W184-X184-Z184+AA184","v":2503.4900000000002}]
[106,1,6,"CISNEROS VAZQUEZ RAMIRO","CIVR540430","CIVR540430HJCSZM04","2007-01-01","RECOLECTOR ASEO PUBLICO",15,"TARJETA",null,0,0,{"$f":"2222/15","v":148.13333333333333},2222,88.88,155.54,0,244.42,2222,2466.42,null,null,0,-37.079488000000026,0,37.07,2503.4900000000002,{"$f":"PORTADA!$D$10","v":1},null,2269.54]
[null,null,null,"DEPARTAMENTO DE ASEO PUBLICO",null,null,null,null,null,null,null,null,null,null,{"$f":"SUM(O176:O185)","v":24226},{"$f":"SUM(P176:P185)","v":969.03999999999985},1695.82,0,2664.86,24226,26890.86,0,0,0,-34.942080000000232,187.52,222.42,26925.760000000002]
[]
[null,null,null,"DEPARTAMENTO DE PARQUES Y JARDINES"]
[107,"5","8","HUERTA CORTES RAMON","HUCR450811","HUCR450831HJCRRM08","2004-01-01","JARDINERO",15,"TARJETA",null,0,0,{"$f":"2307/15","v":153.80000000000001},{"$f":"TRUNC(N189*I189,2)","v":2307},{"$f":"TRUNC(N189*I189*0.04,2)","v":92.28},{"$f":"TRUNC(N189*0.07*I189,2)","v":161.49},{"$f":"L189","v":0},{"$f":"TRUNC(Q189+P189+(IF(R189>519,519,R189))+IF(K189=0,0,K189*N189),2)","v":253.77},{"$f":"TRUNC((IF(K189=0,I189*N189,(I189-K189)*N189))+(IF(R189<519,0,R189-519)),2)+M189","v":2307},{"$f":"S189+T189","v":2560.77},null,null,0,{"$f":"IF(N189>0.01,(T189-VLOOKUP(T189,quincenal,1))*VLOOKUP(T189,quincenal,3)+VLOOKUP(T189,quincenal,2)-VLOOKUP(T189,subquincenal,2),0)","v":-27.831488000000036},{"$f":"TRUNC(IF(Y189>0.01,Y189,0),2)","v":0},{"$f":"TRUNC(IF(Y189<0.01,-Y189,0),2)","v":27.83},{"$f":"U189-W189-X189-Z189+AA189","v":2588.6},{"$f":"PORTADA!$D$10","v":1}]
[108,"5","8","SILVA PINTO J ASUNCIÓN","SIPA400815","SIPA400815HJCLNS02","2004-01-01","JARDINERO",15,"TARJETA",null,0,0,{"$f":"2222/15","v":148.13333333333333},2222,88.88,155.54,0,244.42,2222,2466.42,null,null,0,-37.079488000000026,0,37.07,2503.4900000000002,{"$f":"PORTADA!$D$10","v":1},null,2269.54]
[109,null,null,"MILLAN GARCIA J. JESUS",null,null,null,"JARDINERO",15,"TARJETA",null,0,0,{"$f":"2222/15","v":148.13333333333333},2222,88.88,155.54,0,244.42,2222,2466.42,null,null,0,-37.079488000000026,0,37.07,2503.4900000000002]
[110,null,null,"BERNAL PRECIADO JUAN JOSE",null,null,null,"JARDINERO",15,"TARJETA",null,0,0,148.13333333333333,2222,88.88,155.54,0,244.42,2222,2466.42,null,0,0,-37.079488000000026,0,37.07,2503.4900000000002,null,null,2269.54]
[111,null,null,"MARTINEZ CRUZ JUAN",null,null,null,"JARDINERO",15,"TARJETA",null,0,0,148.13333333333333,2222,88.88,155.54,0,244.42,2222,2466.42,null,0,0,-37.079488000000026,0,37.07,2503.4900000000002,null,null,2269.54]
[112,null,null,"ACOSTA MURILLO JOAQUIN",null,null,null,"JARDINERO",15,"TARJETA",null,0,0,148.13333333333333,2222,88.88,155.54,0,244.42,2222,2466.42,null,null,0,-37.079488000000026,0,37.07,2503.4900000000002]
[0,null,null,"VACANTE BARRENDERO",null,null,null,"BARRENDERO",0,null,null,0,0,148.13333333333333,{"$f":"TRUNC(N195*I195,2)","v":0},{"$f":"TRUNC(N195*I195*0.04,2)","v":0},{"$f":"TRUNC(N195*0.07*I195,2)","v":0},{"$f":"L195","v":0},{"$f":"TRUNC(Q195+P195+(IF(R195>519,519,R195))+IF(K195=0,0,K195*N195),2)","v":0},{"$f":"TRUNC((IF(K195=0,I195*N195,(I195-K195)*N195))+(IF(R195<519,0,R195-519)),2)+M195","v":0},{"$f":"S195+T195","v":0},null,null,null,null,0,0,{"$f":"U195-W195-X195-Z195+AA195","v":0}]
[0,null,null,"VACANTE BARRENDERO",null,null,null,"BARRENDERO",0,null,null,0,0,148.13333333333333,{"$f":"TRUNC(N196*I196,2)","v":0},{"$f":"TRUNC(N196*I196*0.04,2)","v":0},{"$f":"TRUNC(N196*0.07*I196,2)","v":0},{"$f":"L196","v":0},{"$f":"TRUNC(Q196+P196+(IF(R196>519,519,R196))+IF(K196=0,0,K196*N196),2)","v":0},{"$f":"TRUNC((IF(K196=0,I196*N196,(I196-K196)*N196))+(IF(R196<519,0,R196-519)),2)+M196","v":0},{"$f":"S196+T196","v":0},null,null,null,null,0,0,{"$f":"U196-W196-X196-Z196+AA196","v":0}]
[0,null,null,"VACANTE BARRENDERO",null,null,null,"BARRENDERO",0,null,null,0,0,148.13333333333333,{"$f":"TRUNC(N197*I197,2)","v":0},{"$f":"TRUNC(N197*I197*0.04,2)","v":0},{"$f":"TRUNC(N197*0.07*I197,2)","v":0},{"$f":"L197","v":0},{"$f":"TRUNC(Q197+P197+(IF(R197>519,519,R197))+IF(K197=0,0,K197*N197),2)","v":0},{"$f":"TRUNC((IF(K197=0,I197*N197,(I197-K197)*N197))+(IF(R197<519,0,R197-519)),2)+M197","v":0},{"$f":"S197+T197","v":0},null,null,null,null,0,0,{"$f":"U197-W197-X197-Z197+AA197","v":0}]
[113,"5","8","REGALADO BAÑUELOS FRANCISCO","REBF441211","REBF441211HJCGXR05","2005-01-01","BARRENDERO",15,"TARJETA",null,0,0,148.13333333333333,2222,88.88,155.54,0,244.42,2222,2466.42,null,null,0,-37.079488000000026,{"$f":"TRUNC(IF(Y198>0.01,Y198,0),2)","v":0},37.07,2503.4900000000002,{"$f":"PORTADA!$D$10","v":1}]
[114,null,null,"RUIZ MUÑOZ LUIS","RUML530529GL7","RUML530529HJCZXS03","2006-01-01","VIGILANTE",15,"TARJETA",null,0,0,{"$f":"2118/15","v":141.19999999999999},{"$f":"TRUNC(N199*I199,2)","v":2118},{"$f":"TRUNC(N199*I199*0.04,2)","v":84.72},{"$f":"TRUNC(N199*0.07*I199,2)","v":148.26},{"$f":"L199","v":0},{"$f":"TRUNC(Q199+P199+(IF(R199>519,519,R199))+IF(K199=0,0,K199*N199),2)","v":232.98},{"$f":"TRUNC((IF(K199=0,I199*N199,(I199-K199)*N199))+(IF(R199<519,0,R199-519)),2)+M199","v":2118},{"$f":"S199+T199","v":2350.98},null,0,0,{"$f":"IF(N199>0.01,(T199-VLOOKUP(T199,quincenal,1))*VLOOKUP(T199,quincenal,3)+VLOOKUP(T199,quincenal,2)-VLOOKUP(T199,subquincenal,2),0)","v":-62.344688000000005},{"$f":"TRUNC(IF(Y199>0.01,Y199,0),2)","v":0},{"$f":"TRUNC(IF(Y199<0.01,-Y199,0),2)","v":62.34},{"$f":"U199-W199-X199-Z199+AA199","v":2413.3200000000002}]
[115,"5","8","AYALA RODRIGUEZ MIGUEL ANGEL","AARM690504","AARM690504HJCYDG04","2004-01-01","PODADOR",15,"TARJETA",null,0,0,{"$f":"2758/15","v":183.86666666666667},2758,110.32,193.06,0,303.38,2758,3061.38,null,null,0,50.63731199999998,{"$f":"TRUNC(IF(Y200>0.01,Y200,0),2)","v":50.63},0,3010.75,{"$f":"PORTADA!$D$10","v":1},null,{"$f":"SUM(AE190:AE198)","v":6808.62}]
[null,null,null,"DEPARTAMENTO DE PARQUES Y JARDINES",null,null,null,null,null,null,null,null,null,null,{"$f":"SUM(O189:O200)","v":20515},{"$f":"SUM(P189:P200)","v":820.59999999999991},1436.0499999999997,0,2256.65,20515,22771.65,0,0,0,-262.01579200000026,50.63,312.58999999999997,23033.61]
[]
[null,null,null,"VERTEDERO MUNICIPAL"]
[116,"5","9",null,"RUML530529GL7","RUML530529HJCZXS03","2006-01-01",null,null,"TARJETA",null,0,0,null,{"$f":"TRUNC(N204*I204,2)","v":0},{"$f":"TRUNC(N204*I204*0.04,2)","v":0},{"$f":"TRUNC(N204*0.07*I204,2)","v":0},{"$f":"L204","v":0},{"$f":"TRUNC(Q204+P204+(IF(R204>519,519,R204))+IF(K204=0,0,K204*N204),2)","v":0},{"$f":"TRUNC((IF(K204=0,I204*N204,(I204-K204)*N204))+(IF(R204<519,0,R204-519)),2)+M204","v":0},{"$f":"S204+T204","v":0},null,0,0,{"$f":"IF(N204>0.01,(T204-VLOOKUP(T204,quincenal,1))*VLOOKUP(T204,quincenal,3)+VLOOKUP(T204,quincenal,2)-VLOOKUP(T204,subquincenal,2),0)","v":0},{"$f":"TRUNC(IF(Y204>0.01,Y204,0),2)","v":0},{"$f":"TRUNC(IF(Y204<0.01,-Y204,0),2)","v":0},{"$f":"U204-W204-X204-Z204+AA204","v":0},{"$f":"PORTADA!$D$10","v":1}]
[null,null,null,"VERTEDERO MUNICIPAL",null,null,null,null,null,null,null,null,null,null,{"$f":"SUM(O204)","v":0},0,0,0,0,0,0,0,0,0,0,0,0,0]
[]
[null,null,null,"DEPARTAMENTO DE ALUMBRADO PUBLICO"]
[117,"5","10","RUIZ HERNANDEZ CELESTINO","RUHC540519","RUHC540519HJCZRL03","2004-01-01","JEFE DE ALUMBRADO PUBLICO",15,"TARJETA",null,0,0,{"$f":"3428/15","v":228.53333333333333},{"$f":"TRUNC(N208*I208,2)","v":3428},{"$f":"TRUNC(N208*I208*0.04,2)","v":137.12},{"$f":"TRUNC(N208*0.07*I208,2)","v":239.96},{"$f":"L208","v":0},{"$f":"TRUNC(Q208+P208+(IF(R208>519,519,R208))+IF(K208=0,0,K208*N208),2)","v":377.08},{"$f":"TRUNC((IF(K208=0,I208*N208,(I208-K208)*N208))+(IF(R208<519,0,R208-519)),2)+M208","v":3428},{"$f":"S208+T208","v":3805.08},null,null,0,{"$f":"IF(N208>0.01,(T208-VLOOKUP(T208,quincenal,1))*VLOOKUP(T208,quincenal,3)+VLOOKUP(T208,quincenal,2)-VLOOKUP(T208,subquincenal,2),0)","v":143.783312},{"$f":"TRUNC(IF(Y208>0.01,Y208,0),2)","v":143.78},{"$f":"TRUNC(IF(Y208<0.01,-Y208,0),2)","v":0},{"$f":"U208-W208-X208-Z208+AA208","v":3661.2999999999997},{"$f":"PORTADA!$D$10","v":1}]
[118,"5","10","ROJAS HUERTA CARLOS ALFREDO",null,null,null,"AUXILIARDE ALUMBRADO PUBLICO",15,"TARJETA",null,0,0,{"$f":"2222/15","v":148.13333333333333},{"$f":"TRUNC(N209*I209,2)","v":2222},{"$f":"TRUNC(N209*I209*0.04,2)","v":88.88},{"$f":"TRUNC(N209*0.07*I209,2)","v":155.54},{"$f":"L209","v":0},{"$f":"TRUNC(Q209+P209+(IF(R209>519,519,R209))+IF(K209=0,0,K209*N209),2)","v":244.42},{"$f":"TRUNC((IF(K209=0,I209*N209,(I209-K209)*N209))+(IF(R209<519,0,R209-519)),2)+M209","v":2222},{"$f":"S209+T209","v":2466.42},null,null,0,{"$f":"IF(N209>0.01,(T209-VLOOKUP(T209,quincenal,1))*VLOOKUP(T209,quincenal,3)+VLOOKUP(T209,quincenal,2)-VLOOKUP(T209,subquincenal,2),0)","v":-37.079488000000026},{"$f":"TRUNC(IF(Y209>0.01,Y209,0),2)","v":0},{"$f":"TRUNC(IF(Y209<0.01,-Y209,0),2)","v":37.07},{"$f":"U209-W209-X209-Z209+AA209","v":2503.4900000000002}]
[null,null,null,"DEPARTAMENTO DE ALUMBRADO PUBLICO",null,null,null,null,null,null,null,null,null,null,{"$f":"SUM(O208:O209)","v":5650},{"$f":"SUM(P208:P209)","v":226},395.5,0,621.5,5650,6271.5,0,0,0,106.70382399999997,143.78,37.07,6164.79]
[]
[null,null,null,"DEPARTAMENTO DE DEPORTES"]
[119,"5","14","NAVARRO MARTINEZ JUAN CARLOS","NAMJ640808","NAMJ640808HJCVRN01","2004-01-01","DIRECTOR DE DEPORTES",15,"TARJETA",null,0,0,{"$f":"3428/15","v":228.53333333333333},{"$f":"TRUNC(N213*I213,2)","v":3428},{"$f":"TRUNC(N213*I213*0.04,2)","v":137.12},{"$f":"TRUNC(N213*0.07*I213,2)","v":239.96},{"$f":"L213","v":0},{"$f":"TRUNC(Q213+P213+(IF(R213>519,519,R213))+IF(K213=0,0,K213*N213),2)","v":377.08},{"$f":"TRUNC((IF(K213=0,I213*N213,(I213-K213)*N213))+(IF(R213<519,0,R213-519)),2)+M213","v":3428},{"$f":"S213+T213","v":3805.08},null,null,0,{"$f":"IF(N213>0.01,(T213-VLOOKUP(T213,quincenal,1))*VLOOKUP(T213,quincenal,3)+VLOOKUP(T213,quincenal,2)-VLOOKUP(T213,subquincenal,2),0)","v":143.783312},{"$f":"TRUNC(IF(Y213>0.01,Y213,0),2)","v":143.78},{"$f":"TRUNC(IF(Y213<0.01,-Y213,0),2)","v":0},{"$f":"U213-W213-X213-Z213+AA213","v":3661.2999999999997},{"$f":"PORTADA!$D$10","v":1}]
[120,5,14,"ARANA ZAMORANO SALVADOR",null,null,null,"AUXILIAR DE MANTENIMIENTO DEL DEPTO. DE DEPORTES",15,"TARJETA",null,0,0,{"$f":"1989/15","v":132.6},1989,79.56,139.22999999999999,0,218.79,1989,2207.79,null,null,0,-72.421839999999975,0,72.42,2280.21]
[121,null,null,"ENRIQUEZ MARTINEZ CARLOS",null,null,null,"AUXILIAR DE MANTENIMIENTO DEL DEPTO. DE DEPORTES",15,"TARJETA",null,0,0,{"$f":"1989/15","v":132.6},1989,79.56,139.22999999999999,0,218.79,1989,2207.79,null,null,0,-72.421839999999975,0,72.42,2280.21]
[122,null,null,"OCHOA FLORES RAMON",null,null,null,"AUXILIAR DE MANTENIMIENTO DEL DEPTO. DE DEPORTES",15,"TARJETA",null,0,0,132.6,1989,79.56,139.22999999999999,0,218.79,1989,2207.79,null,null,0,-72.421839999999975,0,72.42,2280.21]
[123,null,null,"GODINA ENRIQUEZ SILVIA","GOES781103IAA","GOES781103MJCDNL05","2009-01-01","CONSERJE DOMO POLIDEPORTIVO",15,"TARJETA",null,0,0,{"$f":"2106/15","v":140.4},2106,84.24,147.41999999999999,0,231.66,2106,2337.66,null,null,0,-63.650288000000003,0,63.65,2401.31,{"$f":"PORTADA!$D$10","v":1}]
[null,null,null,"MELCHOR PEREZ GRISELDA",null,null,null,"CONSERJE DOMO POLIDEPORTIVO",15,"TARJETA",null,0,0,{"$f":"1550/15","v":103.33333333333333},{"$f":"TRUNC(N218*I218,2)","v":1550},{"$f":"TRUNC(N218*I218*0.04,2)","v":62},{"$f":"TRUNC(N218*0.07*I218,2)","v":108.5},{"$f":"L218","v":0},{"$f":"TRUNC(Q218+P218+(IF(R218>519,519,R218))+IF(K218=0,0,K218*N218),2)","v":170.5},{"$f":"TRUNC((IF(K218=0,I218*N218,(I218-K218)*N218))+(IF(R218<519,0,R218-519)),2)+M218","v":1550},{"$f":"S218+T218","v":1720.5},null,null,0,{"$f":"IF(N218>0.01,(T218-VLOOKUP(T218,quincenal,1))*VLOOKUP(T218,quincenal,3)+VLOOKUP(T218,quincenal,2)-VLOOKUP(T218,subquincenal,2),0)","v":-112.51783999999998},0,112.51,{"$f":"U218-W218-X218-Z218+AA218","v":1833.01}]
[125,5,14,"TRINIDAD ESQUIVEL ROCIO",null,null,null,"SECRETARIA DOMO POLIDEPORTIVO",15,"TARJETA",null,0,0,{"$f":"2155/15","v":143.66666666666666},2155,86.2,150.85,0,237.05,2155,2392.0500000000002,null,null,null,-58.319088000000022,{"$f":"TRUNC(IF(Y219>0.01,Y219,0),2)","v":0},{"$f":"TRUNC(IF(Y219<0.01,-Y219,0),2)","v":58.31},2450.36,{"$f":"PORTADA!$D$10","v":1}]
[126,null,null,"GOMEZ ESTEVEZ JOSE DE JESUS","FEGC520708TD3","FEGC520708HJCRMR08",null,"VIGILANTE",15,"TARJETA",null,0,0,{"$f":"2377/15","v":158.46666666666667},2377,95.08,166.39,0,261.47000000000003,2377,2638.4700000000003,null,null,null,-5.8154880000000162,{"$f":"TRUNC(IF(Y220>0.01,Y220,0),2)","v":0},{"$f":"TRUNC(IF(Y220<0.01,-Y220,0),2)","v":5.81},2644.28]
[null,null,null,"DEPARTAMENTO DE DEPORTES",null,null,null,null,null,null,null,null,null,null,{"$f":"SUM(O213:O220)","v":17583},{"$f":"SUM(P213:P220)","v":703.32},1230.81,0,1934.13,17583,19517.13,0,0,0,-313.78491199999996,143.78,457.53999999999996,19830.89]
[]
[null,null,null,"SERVICIOS MEDICOS"]
[127,"5","15","MARTINEZ VALDIVIA FRANCISCO","MAVF520525","MAVF520525HJCRLR02","2004-01-01","MEDICO MUNICIPAL",15,"TARJETA",null,0,0,{"$f":"3634/15","v":242.26666666666668},{"$f":"TRUNC(N224*I224,2)","v":3634},{"$f":"TRUNC(N224*I224*0.04,2)","v":145.36000000000001},{"$f":"TRUNC(N224*0.07*I224,2)","v":254.38},{"$f":"L224","v":0},{"$f":"TRUNC(Q224+P224+(IF(R224>519,519,R224))+IF(K224=0,0,K224*N224),2)","v":399.74},{"$f":"TRUNC((IF(K224=0,I224*N224,(I224-K224)*N224))+(IF(R224<519,0,R224-519)),2)+M224","v":3634},{"$f":"S224+T224","v":4033.74},null,null,0,{"$f":"IF(N224>0.01,(T224-VLOOKUP(T224,quincenal,1))*VLOOKUP(T224,quincenal,3)+VLOOKUP(T224,quincenal,2)-VLOOKUP(T224,subquincenal,2),0)","v":183.89611199999999},{"$f":"TRUNC(IF(Y224>0.01,Y224,0),2)","v":183.89},{"$f":"TRUNC(IF(Y224<0.01,-Y224,0),2)","v":0},{"$f":"U224-W224-X224-Z224+AA224","v":3849.85},{"$f":"PORTADA!$D$10","v":1}]
[null,null,null,"SERVICIOS MEDICOS",null,null,null,null,null,null,null,null,null,null,{"$f":"SUM(O224)","v":3634},145.36000000000001,254.38,0,399.74,3634,4033.74,0,0,0,183.89611199999999,183.89,0,3849.85]
[]
[null,null,null,"INSPECCION AGRICOLA Y GANADERA"]
[128,"5","26","MORAN MARROQUIN GRICELDA ELIZABETH",null,null,null,"SECRETARIADEL DEPTO DE INSPECCION AGRICOLA Y GANADERA",15,"TARJETA",null,0,0,{"$f":"2107/15","v":140.46666666666667},{"$f":"TRUNC(N228*I228,2)","v":2107},{"$f":"TRUNC(N228*I228*0.04,2)","v":84.28},{"$f":"TRUNC(N228*0.07*I228,2)","v":147.49},{"$f":"L228","v":0},{"$f":"TRUNC(Q228+P228+(IF(R228>519,519,R228))+IF(K228=0,0,K228*N228),2)","v":231.77},{"$f":"TRUNC((IF(K228=0,I228*N228,(I228-K228)*N228))+(IF(R228<519,0,R228-519)),2)+M228","v":2107},{"$f":"S228+T228","v":2338.77},null,null,0,{"$f":"IF(N228>0.01,(T228-VLOOKUP(T228,quincenal,1))*VLOOKUP(T228,quincenal,3)+VLOOKUP(T228,quincenal,2)-VLOOKUP(T228,subquincenal,2),0)","v":-63.541488000000015},{"$f":"TRUNC(IF(Y228>0.01,Y228,0),2)","v":0},{"$f":"TRUNC(IF(Y228<0.01,-Y228,0),2)","v":63.54},{"$f":"U228-W228-X228-Z228+AA228","v":2402.31},{"$f":"PORTADA!$D$10","v":1}]
[null,null,null,"INSPECCION AGRICOLA Y GANADERA",null,null,null,null,null,null,null,null,null,null,{"$f":"SUM(O228)","v":2107},84.28,147.49,0,231.77,2107,2338.77,0,0,0,-63.541488000000015,0,63.54,2402.31]
[]
[null,null,null,"DEPARTAMENTO DE DESARROLLO RURAL"]
[129,1,19,"MENDEZ NAVARRO VICTOR MANUEL","MENV711022","MENV711022HJCNVC07",null,"ENCARGADO DE DESARROLLO RURAL",15,"TARJETA",null,0,0,{"$f":"5339/15","v":355.93333333333334},{"$f":"TRUNC(N232*I232,2)","v":5339},{"$f":"TRUNC(N232*I232*0.04,2)","v":213.56},{"$f":"TRUNC(N232*0.07*I232,2)","v":373.73},{"$f":"L232","v":0},{"$f":"TRUNC(Q232+P232+(IF(R232>519,519,R232))+IF(K232=0,0,K232*N232),2)","v":587.29},{"$f":"TRUNC((IF(K232=0,I232*N232,(I232-K232)*N232))+(IF(R232<519,0,R232-519)),2)+M232","v":5339},{"$f":"S232+T232","v":5926.29},null,null,0,{"$f":"IF(N232>0.01,(T232-VLOOKUP(T232,quincenal,1))*VLOOKUP(T232,quincenal,3)+VLOOKUP(T232,quincenal,2)-VLOOKUP(T232,subquincenal,2),0)","v":593.22122400000012},{"$f":"TRUNC(IF(Y232>0.01,Y232,0),2)","v":593.22},{"$f":"TRUNC(IF(Y232<0.01,-Y232,0),2)","v":0},{"$f":"U232-W232-X232-Z232+AA232","v":5333.07}]
[130,null,null,"PLASCENCIA GARCIA OSCARI","PAGO721112","PAGO721112HJCLRS01",null,"AUXILIAR ADMINISTRATIVO DE DESARROLLO RURAL",15,"TARJETA",null,0,0,{"$f":"3086/15","v":205.73333333333332},{"$f":"TRUNC(N233*I233,2)","v":3086},{"$f":"TRUNC(N233*I233*0.04,2)","v":123.44},{"$f":"TRUNC(N233*0.07*I233,2)","v":216.02},{"$f":"L233","v":0},{"$f":"TRUNC(Q233+P233+(IF(R233>519,519,R233))+IF(K233=0,0,K233*N233),2)","v":339.46},{"$f":"TRUNC((IF(K233=0,I233*N233,(I233-K233)*N233))+(IF(R233<519,0,R233-519)),2)+M233","v":3086},{"$f":"S233+T233","v":3425.46},null,null,0,{"$f":"IF(N233>0.01,(T233-VLOOKUP(T233,quincenal,1))*VLOOKUP(T233,quincenal,3)+VLOOKUP(T233,quincenal,2)-VLOOKUP(T233,subquincenal,2),0)","v":106.57371199999997},{"$f":"TRUNC(IF(Y233>0.01,Y233,0),2)","v":106.57},{"$f":"TRUNC(IF(Y233<0.01,-Y233,0),2)","v":0},{"$f":"U233-W233-X233-Z233+AA233","v":3318.89}]
[null,null,null,"DEPARTAMENTO DE DESARROLLO RURAL",null,null,null,null,null,null,null,null,null,null,{"$f":"SUM(O232:O233)","v":8425},{"$f":"SUM(P232:P233)","v":337},589.75,0,926.75,8425,9351.75,0,0,0,699.79493600000012,699.79,0,8651.9599999999991]
[]
[]
[null,null,null,"CONTRALORIA"]
[131,"3","1","BUENROSTRO HUERTA MARIO MANUEL","BUHM840914",null,null,"CONTRALOR",15,"TARJETA",null,0,0,{"$f":"5316/15","v":354.4},{"$f":"TRUNC(N238*I238,2)","v":5316},{"$f":"TRUNC(N238*I238*0.04,2)","v":212.64},{"$f":"TRUNC(N238*0.07*I238,2)","v":372.12},{"$f":"L238","v":0},{"$f":"TRUNC(Q238+P238+(IF(R238>519,519,R238))+IF(K238=0,0,K238*N238),2)","v":584.76},{"$f":"TRUNC((IF(K238=0,I238*N238,(I238-K238)*N238))+(IF(R238<519,0,R238-519)),2)+M238","v":5316},{"$f":"S238+T238","v":5900.76},null,null,0,{"$f":"IF(N238>0.01,(T238-VLOOKUP(T238,quincenal,1))*VLOOKUP(T238,quincenal,3)+VLOOKUP(T238,quincenal,2)-VLOOKUP(T238,subquincenal,2),0)","v":588.30842400000006},{"$f":"TRUNC(IF(Y238>0.01,Y238,0),2)","v":588.29999999999995},{"$f":"TRUNC(IF(Y238<0.01,-Y238,0),2)","v":0},{"$f":"U238-W238-X238-Z238+AA238","v":5312.46},{"$f":"PORTADA!$D$10","v":1}]
[132,null,null,"FREGOSO IÑIGUEZ ANGELA YADIRA","LEPC870628",null,null,"SECRETARIA DE CONTRALORIA",15,"TARJETA",null,0,0,{"$f":"2788/15","v":185.86666666666667},{"$f":"TRUNC(N239*I239,2)","v":2788},{"$f":"TRUNC(N239*I239*0.04,2)","v":111.52},{"$f":"TRUNC(N239*0.07*I239,2)","v":195.16},{"$f":"L239","v":0},{"$f":"TRUNC(Q239+P239+(IF(R239>519,519,R239))+IF(K239=0,0,K239*N239),2)","v":306.68},{"$f":"TRUNC((IF(K239=0,I239*N239,(I239-K239)*N239))+(IF(R239<519,0,R239-519)),2)+M239","v":2788},{"$f":"S239+T239","v":3094.68},null,null,0,{"$f":"IF(N239>0.01,(T239-VLOOKUP(T239,quincenal,1))*VLOOKUP(T239,quincenal,3)+VLOOKUP(T239,quincenal,2)-VLOOKUP(T239,subquincenal,2),0)","v":53.90131199999999},{"$f":"TRUNC(IF(Y239>0.01,Y239,0),2)","v":53.9},{"$f":"TRUNC(IF(Y239<0.01,-Y239,0),2)","v":0},{"$f":"U239-W239-X239-Z239+AA239","v":3040.7799999999997},{"$f":"PORTADA!$D$10","v":1}]
[null,null,null,"CONTRALORIA",null,null,null,null,null,null,null,null,null,null,{"$f":"SUM(O238:O239)","v":8104},{"$f":"SUM(P238:P239)","v":324.15999999999997},567.28,0,891.44,8104,8995.44,0,0,0,642.20973600000002,642.19999999999993,0,8353.24]
[]
[null,null,null,"DELEGACIONES"]
[133,"2","1","SANTOS DE SANTIAGO FRANCISCO JAVIER","SASF620818","SASF620818HJCNNR07",null,"DELEGADO OCONAHUA",15,"TARJETA",null,0,0,{"$f":"3333/15","v":222.2},{"$f":"TRUNC(N243*I243,2)","v":3333},{"$f":"TRUNC(N243*I243*0.04,2)","v":133.32},{"$f":"TRUNC(N243*0.07*I243,2)","v":233.31},{"$f":"L243","v":0},{"$f":"TRUNC(Q243+P243+(IF(R243>519,519,R243))+IF(K243=0,0,K243*N243),2)","v":366.63},{"$f":"TRUNC((IF(K243=0,I243*N243,(I243-K243)*N243))+(IF(R243<519,0,R243-519)),2)+M243","v":3333},{"$f":"S243+T243","v":3699.63},null,null,0,{"$f":"IF(N243>0.01,(T243-VLOOKUP(T243,quincenal,1))*VLOOKUP(T243,quincenal,3)+VLOOKUP(T243,quincenal,2)-VLOOKUP(T243,subquincenal,2),0)","v":133.44731199999998},{"$f":"TRUNC(IF(Y243>0.01,Y243,0),2)","v":133.44},{"$f":"TRUNC(IF(Y243<0.01,-Y243,0),2)","v":0},{"$f":"U243-W243-X243-Z243+AA243","v":3566.19},{"$f":"PORTADA!$D$10","v":1}]
[134,"2","1","CORONA TIZNADO OSIRIS ELVIA",null,null,null,"SECRETARIO DEL REGISTRO CIVIL",15,"TARJETA",null,0,0,{"$f":"1891/15","v":126.06666666666666},1891,75.64,132.37,0,208.01,1891,2099.0100000000002,null,null,0,-78.69383999999998,0,78.69,2177.7000000000003,{"$f":"PORTADA!$D$10","v":1}]
[135,null,null,null,null,null,null,"SERETARIO",0,"TARJETA",null,0,0,{"$f":"2369/15","v":157.93333333333334},{"$f":"TRUNC(N245*I245,2)","v":0},{"$f":"TRUNC(N245*I245*0.04,2)","v":0},{"$f":"TRUNC(N245*0.07*I245,2)","v":0},{"$f":"L245","v":0},{"$f":"TRUNC(Q245+P245+(IF(R245>519,519,R245))+IF(K245=0,0,K245*N245),2)","v":0},{"$f":"TRUNC((IF(K245=0,I245*N245,(I245-K245)*N245))+(IF(R245<519,0,R245-519)),2)+M245","v":0},{"$f":"S245+T245","v":0},null,null,0,{"$f":"IF(N245>0.01,(T245-VLOOKUP(T245,quincenal,1))*VLOOKUP(T245,quincenal,3)+VLOOKUP(T245,quincenal,2)-VLOOKUP(T245,subquincenal,2),0)","v":{"$error":"#N/A"}},null,null,{"$f":"U245-W245-X245-Z245+AA245","v":0},{"$f":"PORTADA!$D$10","v":1}]
[136,"2","1","HERNANDEZ NARANJO VICTOR MANUEL","HENV720810","HENV700810HJCRRC03","2004-02-08","RECOLECTOR",15,"TARJETA",null,0,0,{"$f":"1882/15","v":125.46666666666667},1882,75.28,131.74,0,207.02,1882,2089.02,null,null,0,-79.269839999999974,0,79.260000000000005,2168.2800000000002,{"$f":"PORTADA!$D$10","v":1}]
[137,"2","1","TIZNADO CHAVEZ LUIS RAMON","TICL781119J37","TICL781119HJCZHS05","2009-01-16","RECOLECTOR",15,"TARJETA",null,0,0,{"$f":"1882/15","v":125.46666666666667},1882,75.28,131.74,0,207.02,1882,2089.02,null,null,0,-79.269839999999974,0,79.260000000000005,2168.2800000000002,{"$f":"PORTADA!$D$10","v":1}]
[138,"2","1","ORTIZ HERNANDEZ FRANCISCO JAVIER","OIHF661005","OIHF661005HJCRRR01","2004-02-08","RECOLECTOR",15,"TARJETA",null,0,0,125.46666666666667,1882,75.28,131.74,0,207.02,1882,2089.02,null,0,0,-79.269839999999974,0,79.260000000000005,2168.2800000000002,{"$f":"PORTADA!$D$10","v":1},null,{"$f":"SUBTOTAL(9,AB9:AB248)","v":939190.12999999989}]
[139,"2","1","LOPEZ REYES LINO","LORL560923","LORL560923HJCPYN00",null,"GUARDARRASTRO",15,"TARJETA",null,0,0,{"$f":"1433/15","v":95.533333333333331},1433,57.32,100.31,0,157.63,1433,1590.63,null,null,0,-120.00583999999998,0,120,1710.63,{"$f":"PORTADA!$D$10","v":1}]
[140,"2","1","LOPEZ MARTINEZ LEOPOLDO",null,null,null,"AUX. DE LIMPIEZA",15,"TARJETA",null,0,0,{"$f":"1281/15","v":85.4},1281,51.24,89.67,0,140.91,1281,1421.91,null,null,0,-129.73383999999999,0,129.72999999999999,1551.64,{"$f":"PORTADA!$D$10","v":1}]
[141,"2","1","MELCHOR MARTINEZ RAFAEL ",null,null,null,"ENCARGADO UNIDAD DEPORTIVA",15,"TARJETA",null,0,0,{"$f":"1383/15","v":92.2},{"$f":"TRUNC(N251*I251,2)","v":1383},{"$f":"TRUNC(N251*I251*0.04,2)","v":55.32},{"$f":"TRUNC(N251*0.07*I251,2)","v":96.81},{"$f":"L251","v":0},{"$f":"TRUNC(Q251+P251+(IF(R251>519,519,R251))+IF(K251=0,0,K251*N251),2)","v":152.13},{"$f":"TRUNC((IF(K251=0,I251*N251,(I251-K251)*N251))+(IF(R251<519,0,R251-519)),2)+M251","v":1383},{"$f":"S251+T251","v":1535.13},null,null,0,{"$f":"IF(N251>0.01,(T251-VLOOKUP(T251,quincenal,1))*VLOOKUP(T251,quincenal,3)+VLOOKUP(T251,quincenal,2)-VLOOKUP(T251,subquincenal,2),0)","v":-123.20583999999998},0,{"$f":"TRUNC(IF(Y251<0.01,-Y251,0),2)","v":123.2},{"$f":"U251-W251-X251-Z251+AA251","v":1658.3300000000002},{"$f":"PORTADA!$D$10","v":1}]
[142,"2","1","CERVANTES SANCHEZ GABRIEL","CESG4509243P3","CESG450924HMNRNB03","2004-02-08","ENCARGADO DE CEMENTERIOS",15,"TARJETA",null,0,0,{"$f":"904/15","v":60.266666666666666},904,36.159999999999997,63.28,0,99.44,904,1003.44,null,null,0,-153.86183999999997,0,153.86000000000001,1157.3000000000002,{"$f":"PORTADA!$D$10","v":1},null,{"$f":"SUBTOTAL(9,AB10:AB252)","v":937529.0199999999}]
[142,null,null,"SECRETARIA VACANTE",null,null,null,"SECRETARIA DE LA DELEGACION DE OCONAHUA",0,null,null,0,0,92.33,{"$f":"TRUNC(N253*I253,2)","v":0},{"$f":"TRUNC(N253*I253*0.04,2)","v":0},{"$f":"TRUNC(N253*0.07*I253,2)","v":0},{"$f":"L253","v":0},{"$f":"TRUNC(Q253+P253+(IF(R253>519,519,R253))+IF(K253=0,0,K253*N253),2)","v":0},{"$f":"TRUNC((IF(K253=0,I253*N253,(I253-K253)*N253))+(IF(R253<519,0,R253-519)),2)+M253","v":0},{"$f":"S253+T253","v":0},null,null,null,null,0,0,{"$f":"U253-W253-X253-Z253+AA253","v":0},{"$f":"PORTADA!$D$10","v":1}]
[null,null,null,"DELEGACIONES",null,null,null,null,null,null,null,null,null,null,{"$f":"SUM(O243:O253)","v":15871},{"$f":"SUM(P243:P253)","v":634.83999999999992},1110.97,0,1745.81,15871,17616.810000000001,0,0,0,{"$error":"#N/A"},133.44,843.26,18326.63]
[]
[]
[null,null,null,null,null,null,null,null,null,null,null,null,null,null,{"$f":"O19+O24+O31+O40+O46+O52+O60+O65+O76+O83+O96+O103+O109+O113+O118+O126+O147+O156+O162+O168+O173+O186+O201+O205+O210+O221+O225+O229+O234+O240+O254+O69","v":461261.32999999996},18450.419999999998,32288.26,0,50738.679999999993,461261.32999999996,512000.00999999989,0,0,0,{"$error":"#N/A"},34170.420000000006,3967.74,481797.33]
[]
[]
[]
[]
[null,null,null,"MTRA. MARIA RAQUEL RUIZ JUAREZ",null,null,null,null,"C. SANDRA MARGARITA TOPETE DUEÑAS",null,null,null,null,null,null,null,null,null,null,null,null,null,null,null,null,null,"C. JUAN ANTONIO DE LEON GARCIA"]
[null,null,null,"PRESIDENTE MUNICIPAL  INTERINO",null,null,null,null,"SINDICO MUNICIPAL",null,null,null,null,null,null,null,null,null,null,null,null,null,null,null,null,null,"ENCARGADO DE LA HACIENDA PUBLICA"]
[]
[]
[]
[]
[]
[]
[]
[null,null,null,"DIRECCION DE SEGURIDAD PUBLICA"]
[null,null,null,"HERNANDEZ GARCIA JOSE EDUARDO","OIMA871116","OIMA871116HJCRRN00",null,"POLICIA EN LINEA",11,"TARJETA",null,0,0,{"$f":"3291/15","v":219.4},{"$f":"TRUNC(N272*I272,2)","v":2413.4},{"$f":"TRUNC(N272*I272*0.04,2)","v":96.53},{"$f":"TRUNC(N272*0.07*I272,2)","v":168.93},{"$f":"L272","v":0},{"$f":"TRUNC(Q272+P272+(IF(R272>519,519,R272))+IF(K272=0,0,K272*N272),2)","v":265.45999999999998},{"$f":"TRUNC((IF(K272=0,I272*N272,(I272-K272)*N272))+(IF(R272<519,0,R272-519)),2)+M272","v":2413.4},{"$f":"S272+T272","v":2678.86},null,null,0,{"$f":"IF(N272>0.01,(T272-VLOOKUP(T272,quincenal,1))*VLOOKUP(T272,quincenal,3)+VLOOKUP(T272,quincenal,2)-VLOOKUP(T272,subquincenal,2),0)","v":-1.8551680000000204},{"$f":"TRUNC(IF(Y272>0.01,Y272,0),2)","v":0},{"$f":"TRUNC(IF(Y272<0.01,-Y272,0),2)","v":1.85},{"$f":"U272-W272-X272-Z272+AA272","v":2680.71}]
[]
[null,null,null,null,null,null,null,null,null,null,null,null,null,null,null,null,null,null,null,null,null,null,null,null,null,null,null,null,{"$f":"PORTADA!$D$10","v":1}]
[null,null,null,null,null,null,null,null,null,null,null,null,null,null,null,null,null,{"$f":"#REF!+#REF!","v":{"$error":"#REF!"}},{"$f":"#REF!+#REF!","v":{"$error":"#REF!"}},{"$f":"#REF!+#REF!","v":{"$error":"#REF!"}},{"$f":"#REF!+#REF!","v":{"$error":"#REF!"}},{"$f":"#REF!+#REF!","v":{"$error":"#REF!"}},null,null,{"$f":"#REF!+#REF!","v":{"$error":"#REF!"}},null,null,null,{"$f":"PORTADA!$D$10","v":1}]
[null,null,null,null,null,null,null,null,null,null,null,null,null,null,null,null,null,null,null,null,null,null,null,null,null,null,null,null,{"$f":"PORTADA!$D$10","v":1}]
[null,null,null,null,null,null,null,null,null,null,null,null,null,null,null,null,null,null,null,null,null,null,null,null,null,null,null,null,{"$f":"PORTADA!$D$10","v":1}]
[null,null,null,null,null,null,null,null,null,null,null,null,null,null,null,null,null,null,null,null,null,null,null,null,null,null,null,null,{"$f":"PORTADA!$D$10","v":1}]
[null,null,null,null,null,null,null,null,null,null,null,null,null,null,null,null,null,null,null,null,null,null,null,null,null,null,null,null,{"$f":"PORTADA!$D$10","v":1}]
[null,null,null,"MTRA. MARIA RAQUEL RUIZ JUAREZ",null,null,null,null,"C. SANDRA MARGARITA TOPETE DUEÑAS",null,null,null,null,null,null,null,null,null,null,null,null,null,null,null,null,null,"C. JUAN ANTONIO DE LEON GARCIA"]
[null,null,null,"PRESIDENTE MUNICIPAL  INTERINO",null,null,null,null,"SINDICO MUNICIPAL",null,null,null,null,null,null,null,null,null,null,null,null,null,null,null,null,null,"ENCARGADO DE LA HACIENDA PUBLICA"]
[null,null,null,null,null,null,null,null,null,null,null,null,null,null,null,null,null,null,null,null,null,null,null,null,null,null,null,null,{"$f":"PORTADA!$D$10","v":1}]
[null,null,null,null,null,null,null,null,null,null,null,null,null,null,null,null,null,null,null,null,null,null,null,null,null,null,null,null,{"$f":"PORTADA!$D$10","v":1}]
[null,null,null,null,null,null,null,null,null,null,null,null,null,null,null,null,null,null,null,null,null,null,null,null,null,null,null,null,{"$f":"PORTADA!$D$10","v":1}]
[null,null,null,null,null,null,null,null,null,null,null,null,null,null,null,null,null,null,null,null,null,null,null,null,null,null,null,null,{"$f":"PORTADA!$D$10","v":1}]
[null,null,null,null,null,null,null,null,null,null,null,null,null,null,null,null,null,null,null,null,null,null,null,null,null,null,null,null,{"$f":"PORTADA!$D$10","v":1}]
[null,null,null,"PENSIONADOS",null,null,null,null,null,null,null,null,null,null,null,null,null,null,null,null,null,null,null,null,null,null,null,null,{"$f":"PORTADA!$D$10","v":1}]
[188,null,null,"ESPINOZA GONZALEZ ANGELA","EIGA240505KM2","EIGA240505MJCSNN09",null,"PENSIONADO",15,"TARJETA",null,0,0,{"$f":"626.5/15","v":41.766666666666666},{"$f":"TRUNC(N288*I288,2)","v":626.5},{"$f":"TRUNC(N288*I288*0.04,2)","v":25.06},{"$f":"TRUNC(N288*0.07*I288,2)","v":43.85},{"$f":"L288","v":0},{"$f":"TRUNC(Q288+P288+(IF(R288>519,519,R288))+IF(K288=0,0,K288*N288),2)","v":68.91},{"$f":"TRUNC((IF(K288=0,I288*N288,(I288-K288)*N288))+(IF(R288<519,0,R288-519)),2)+M288","v":626.5},{"$f":"S288+T288","v":695.41},null,null,0,{"$f":"IF(N288>0.01,(T288-VLOOKUP(T288,quincenal,1))*VLOOKUP(T288,quincenal,3)+VLOOKUP(T288,quincenal,2)-VLOOKUP(T288,subquincenal,2),0)","v":-171.77184},{"$f":"TRUNC(IF(Y288>0.01,Y288,0),2)","v":0},{"$f":"TRUNC(IF(Y288<0.01,-Y288,0),2)","v":171.77},{"$f":"U288-W288-X288-Z288+AA288","v":867.18},{"$f":"PORTADA!$D$10","v":1}]
[189,null,null,"DE LA ROSA MACIAS PABLO","ROMP450629DNA","ROMP450629HJCSCB04",null,"PENSIONADO",15,"TARJETA",null,0,0,{"$f":"1480/15","v":98.666666666666671},{"$f":"TRUNC(N289*I289,2)","v":1480},{"$f":"TRUNC(N289*I289*0.04,2)","v":59.2},{"$f":"TRUNC(N289*0.07*I289,2)","v":103.6},{"$f":"L289","v":0},{"$f":"TRUNC(Q289+P289+(IF(R289>519,519,R289))+IF(K289=0,0,K289*N289),2)","v":162.80000000000001},{"$f":"TRUNC((IF(K289=0,I289*N289,(I289-K289)*N289))+(IF(R289<519,0,R289-519)),2)+M289","v":1480},{"$f":"S289+T289","v":1642.8},null,null,0,{"$f":"IF(N289>0.01,(T289-VLOOKUP(T289,quincenal,1))*VLOOKUP(T289,quincenal,3)+VLOOKUP(T289,quincenal,2)-VLOOKUP(T289,subquincenal,2),0)","v":-116.99783999999998},{"$f":"TRUNC(IF(Y289>0.01,Y289,0),2)","v":0},{"$f":"TRUNC(IF(Y289<0.01,-Y289,0),2)","v":116.99},{"$f":"U289-W289-X289-Z289+AA289","v":1759.79}]
[null,null,null,"DIAZ ORTIZ LUIS",null,null,null,"PENSIONADO",15,"TARJETA",null,0,0,114.417,{"$f":"TRUNC(N290*I290,2)","v":1716.25},{"$f":"TRUNC(N290*I290*0.04,2)","v":68.650000000000006},{"$f":"TRUNC(N290*0.07*I290,2)","v":120.13},{"$f":"L290","v":0},{"$f":"TRUNC(Q290+P290+(IF(R290>519,519,R290))+IF(K290=0,0,K290*N290),2)","v":188.78},{"$f":"TRUNC((IF(K290=0,I290*N290,(I290-K290)*N290))+(IF(R290<519,0,R290-519)),2)+M290","v":1716.25},{"$f":"S290+T290","v":1905.03},null,0,0,{"$f":"IF(N290>0.01,(T290-VLOOKUP(T290,quincenal,1))*VLOOKUP(T290,quincenal,3)+VLOOKUP(T290,quincenal,2)-VLOOKUP(T290,subquincenal,2),0)","v":-94.97784},{"$f":"TRUNC(IF(Y290>0.01,Y290,0),2)","v":0},{"$f":"TRUNC(IF(Y290<0.01,-Y290,0),2)","v":94.97},{"$f":"U290-W290-X290-Z290+AA290","v":2000}]
[190,null,null,"ESQUIVEL CLARO EULALIA",null,null,null,"PENSIONADO",15,"TARJETA",null,0,0,{"$f":"783.5/15","v":52.233333333333334},{"$f":"TRUNC(N291*I291,2)","v":783.5},{"$f":"TRUNC(N291*I291*0.04,2)","v":31.34},{"$f":"TRUNC(N291*0.07*I291,2)","v":54.84},{"$f":"L291","v":0},{"$f":"TRUNC(Q291+P291+(IF(R291>519,519,R291))+IF(K291=0,0,K291*N291),2)","v":86.18},{"$f":"TRUNC((IF(K291=0,I291*N291,(I291-K291)*N291))+(IF(R291<519,0,R291-519)),2)+M291","v":783.5},{"$f":"S291+T291","v":869.68000000000006},null,null,0,{"$f":"IF(N291>0.01,(T291-VLOOKUP(T291,quincenal,1))*VLOOKUP(T291,quincenal,3)+VLOOKUP(T291,quincenal,2)-VLOOKUP(T291,subquincenal,2),0)","v":-161.72384},{"$f":"TRUNC(IF(Y291>0.01,Y291,0),2)","v":0},{"$f":"TRUNC(IF(Y291<0.01,-Y291,0),2)","v":161.72},{"$f":"U291-W291-X291-Z291+AA291","v":1031.4000000000001}]
[null,null,null,"GARCIA FRANCISCO",null,null,null,"PENSIONADO",15,"TARJETA",null,0,0,{"$f":"1181.5/15","v":78.766666666666666},{"$f":"TRUNC(N292*I292,2)","v":1181.5},{"$f":"TRUNC(N292*I292*0.04,2)","v":47.26},{"$f":"TRUNC(N292*0.07*I292,2)","v":82.7},{"$f":"L292","v":0},{"$f":"TRUNC(Q292+P292+(IF(R292>519,519,R292))+IF(K292=0,0,K292*N292),2)","v":129.96},{"$f":"TRUNC((IF(K292=0,I292*N292,(I292-K292)*N292))+(IF(R292<519,0,R292-519)),2)+M292","v":1181.5},{"$f":"S292+T292","v":1311.46},null,0,0,{"$f":"IF(N292>0.01,(T292-VLOOKUP(T292,quincenal,1))*VLOOKUP(T292,quincenal,3)+VLOOKUP(T292,quincenal,2)-VLOOKUP(T292,subquincenal,2),0)","v":-136.10183999999998},{"$f":"TRUNC(IF(Y292>0.01,Y292,0),2)","v":0},{"$f":"TRUNC(IF(Y292<0.01,-Y292,0),2)","v":136.1},{"$f":"U292-W292-X292-Z292+AA292","v":1447.56}]
[191,"11","17","GIL RIVERA JOSE LUIS","GIRL700926","GIRL700926HJCLVS01","2007-01-01","PENSIONADO",15,"TARJETA",null,0,0,{"$f":"1645.5/15","v":109.7},1645.5,65.819999999999993,115.18,0,181,1645.5,1826.5,null,0,0,-106.40583999999998,0,106.4,1932.9,{"$f":"PORTADA!$D$10","v":1}]
[193,null,null,"GOMEZ CHAVEZ BENIGNO","GUJJ351120F83","GUJJ351120HJCVR 03",null,"PENSIONADO",15,"TARJETA",null,0,0,114.417,{"$f":"TRUNC(N294*I294,2)","v":1716.25},{"$f":"TRUNC(N294*I294*0.04,2)","v":68.650000000000006},{"$f":"TRUNC(N294*0.07*I294,2)","v":120.13},{"$f":"L294","v":0},{"$f":"TRUNC(Q294+P294+(IF(R294>519,519,R294))+IF(K294=0,0,K294*N294),2)","v":188.78},{"$f":"TRUNC((IF(K294=0,I294*N294,(I294-K294)*N294))+(IF(R294<519,0,R294-519)),2)+M294","v":1716.25},{"$f":"S294+T294","v":1905.03},null,0,0,{"$f":"IF(N294>0.01,(T294-VLOOKUP(T294,quincenal,1))*VLOOKUP(T294,quincenal,3)+VLOOKUP(T294,quincenal,2)-VLOOKUP(T294,subquincenal,2),0)","v":-94.97784},{"$f":"TRUNC(IF(Y294>0.01,Y294,0),2)","v":0},{"$f":"TRUNC(IF(Y294<0.01,-Y294,0),2)","v":94.97},{"$f":"U294-W294-X294-Z294+AA294","v":2000}]
[192,null,null,"GUIZAR CARRILLO FRANCISCO JAVIER",null,null,null,"PENSIONADO",15,"TARJETA",null,0,0,{"$f":"1645.5/15","v":109.7},{"$f":"TRUNC(N295*I295,2)","v":1645.5},{"$f":"TRUNC(N295*I295*0.04,2)","v":65.819999999999993},{"$f":"TRUNC(N295*0.07*I295,2)","v":115.18},{"$f":"L295","v":0},{"$f":"TRUNC(Q295+P295+(IF(R295>519,519,R295))+IF(K295=0,0,K295*N295),2)","v":181},{"$f":"TRUNC((IF(K295=0,I295*N295,(I295-K295)*N295))+(IF(R295<519,0,R295-519)),2)+M295","v":1645.5},{"$f":"S295+T295","v":1826.5},null,0,0,{"$f":"IF(N295>0.01,(T295-VLOOKUP(T295,quincenal,1))*VLOOKUP(T295,quincenal,3)+VLOOKUP(T295,quincenal,2)-VLOOKUP(T295,subquincenal,2),0)","v":-106.40583999999998},{"$f":"TRUNC(IF(Y295>0.01,Y295,0),2)","v":0},{"$f":"TRUNC(IF(Y295<0.01,-Y295,0),2)","v":106.4},{"$f":"U295-W295-X295-Z295+AA295","v":1932.9}]
[194,null,null,"HERNANDEZ RAMIREZ SALVADOR","HERS421229UE7","HERS421229HJCRML04",null,"PENSIONADO",15,"TARJETA",null,0,0,{"$f":"2069.5/15","v":137.96666666666667},2069.5,82.78,144.86000000000001,0,227.64,2069.5,2297.14,null,null,0,-67.269839999999974,0,67.260000000000005,2364.4,{"$f":"PORTADA!$D$10","v":1}]
[195,null,null,"HERNANDEZ SANTIAGO JOSE DE JESUS","HESJ410605JD8","HESJ410605HJCRNS07",null,"PENSIONADO",15,"TARJETA",null,0,0,{"$f":"1243.5/15","v":82.9},1243.5,49.74,87.04,0,136.78,1243.5,1380.28,null,null,0,-132.13383999999996,0,132.13,1512.4099999999999,{"$f":"PORTADA!$D$10","v":1}]
[196,null,null,"MENDEZ FRANCO MIGUEL","MEFM351006CE0","MEFM351006HJCNRG07",null,"PENSIONADO",15,"TARJETA",null,0,0,{"$f":"2924/15","v":194.93333333333334},2924,116.96,204.68,0,321.64,2924,3245.64,null,0,0,68.698111999999981,68.69,0,3176.95,{"$f":"PORTADA!$D$10","v":1}]
[197,null,null,"OCHOA FLORES MARIA DE JESUS","MERL260819Q10","MERL260819HJCZGS06",null,"PENSIONADO",15,"TARJETA",null,0,0,{"$f":"783.5/15","v":52.233333333333334},{"$f":"TRUNC(N299*I299,2)","v":783.5},{"$f":"TRUNC(N299*I299*0.04,2)","v":31.34},{"$f":"TRUNC(N299*0.07*I299,2)","v":54.84},{"$f":"L299","v":0},{"$f":"TRUNC(Q299+P299+(IF(R299>519,519,R299))+IF(K299=0,0,K299*N299),2)","v":86.18},{"$f":"TRUNC((IF(K299=0,I299*N299,(I299-K299)*N299))+(IF(R299<519,0,R299-519)),2)+M299","v":783.5},{"$f":"S299+T299","v":869.68000000000006},null,null,0,{"$f":"IF(N299>0.01,(T299-VLOOKUP(T299,quincenal,1))*VLOOKUP(T299,quincenal,3)+VLOOKUP(T299,quincenal,2)-VLOOKUP(T299,subquincenal,2),0)","v":-161.72384},{"$f":"TRUNC(IF(Y299>0.01,Y299,0),2)","v":0},{"$f":"TRUNC(IF(Y299<0.01,-Y299,0),2)","v":161.72},{"$f":"U299-W299-X299-Z299+AA299","v":1031.4000000000001},{"$f":"PORTADA!$D$10","v":1}]
[199,null,null,"ROJAS GARCIA FELIPE","ROGF340501T63","ROGF340501HJCJRL01",null,"PENSIONADO",15,"TARJETA",null,0,0,{"$f":"1243.5/15","v":82.9},1243.5,49.74,87.04,0,136.78,1243.5,1380.28,null,null,0,-132.13383999999996,0,132.13,1512.4099999999999,{"$f":"PORTADA!$D$10","v":1}]
[200,null,null,"SANCHEZ SANCHEZ RAYMUNDO","SASR4910255R8","SASR491025HJCNNY01",null,"PENSIONADO",15,"TARJETA",null,0,0,{"$f":"2918.5/15","v":194.56666666666666},2918.5,116.74,204.29,0,321.02999999999997,2918.5,3239.5299999999997,null,null,0,68.099711999999982,68.09,0,3171.4399999999996,{"$f":"PORTADA!$D$10","v":1}]
[null,null,null,"PENSIONADOS",null,null,null,null,null,null,null,null,null,null,{"$f":"SUM(O288:O301)","v":21977.5},879.10000000000014,1538.3599999999997,0,2417.46,21977.5,24394.959999999999,0,0,0,-1345.8262560000001,136.78,1482.56,25740.739999999998]
[]
[]
[]
[null,null,null,"MTRA. MARIA RAQUEL RUIZ JUAREZ",null,null,null,null,"C. SANDRA MARGARITA TOPETE DUEÑAS",null,null,null,null,null,null,null,null,null,null,null,null,null,null,null,null,null,"C. JUAN ANTONIO DE LEON GARCIA"]
[null,null,null,"PRESIDENTE MUNICIPAL  INTERINO",null,null,null,null,"SINDICO MUNICIPAL",null,null,null,null,null,null,null,null,null,null,null,null,null,null,null,null,null,"ENCARGADO DE LA HACIENDA PUBLICA"]
[]
[]
[2,null,null,"AGUA POTABLE Y ALCANTRILLADO",null,null,null,null,null,null,null,null,null,null,null,null,null,null,null,null,null,null,null,null,null,null,null,null,{"$f":"PORTADA!$D$10","v":1}]
[201,null,null,"AGUILA ROBERTO","AUXR520809","AUXR520809HJCGXB04",null,"DIRECTOR",15,"TARJETA",null,0,0,{"$f":"5739/15","v":382.6},{"$f":"TRUNC(N311*I311,2)","v":5739},{"$f":"TRUNC(N311*I311*0.04,2)","v":229.56},{"$f":"TRUNC(N311*0.07*I311,2)","v":401.73},{"$f":"L311","v":0},{"$f":"TRUNC(Q311+P311+(IF(R311>519,519,R311))+IF(K311=0,0,K311*N311),2)","v":631.29},{"$f":"TRUNC((IF(K311=0,I311*N311,(I311-K311)*N311))+(IF(R311<519,0,R311-519)),2)+M311","v":5739},{"$f":"S311+T311","v":6370.29},null,null,0,{"$f":"IF(N311>0.01,(T311-VLOOKUP(T311,quincenal,1))*VLOOKUP(T311,quincenal,3)+VLOOKUP(T311,quincenal,2)-VLOOKUP(T311,subquincenal,2),0)","v":678.66122400000006},{"$f":"TRUNC(IF(Y311>0.01,Y311,0),2)","v":678.66},{"$f":"TRUNC(IF(Y311<0.01,-Y311,0),2)","v":0},{"$f":"U311-W311-X311-Z311+AA311","v":5691.63},{"$f":"PORTADA!$D$10","v":1}]
[202,null,null,"BAILON SIERRA ENRIQUE","BASE740304","BASE740304HJCLRN02",null,"ENCARGADO GENERAL DE ALCANTARILLADO",15,"TARJETA",null,0,0,{"$f":"2775/15","v":185},{"$f":"TRUNC(N312*I312,2)","v":2775},{"$f":"TRUNC(N312*I312*0.04,2)","v":111},{"$f":"TRUNC(N312*0.07*I312,2)","v":194.25},{"$f":"L312","v":0},{"$f":"TRUNC(Q312+P312+(IF(R312>519,519,R312))+IF(K312=0,0,K312*N312),2)","v":305.25},{"$f":"TRUNC((IF(K312=0,I312*N312,(I312-K312)*N312))+(IF(R312<519,0,R312-519)),2)+M312","v":2775},{"$f":"S312+T312","v":3080.25},null,null,0,{"$f":"IF(N312>0.01,(T312-VLOOKUP(T312,quincenal,1))*VLOOKUP(T312,quincenal,3)+VLOOKUP(T312,quincenal,2)-VLOOKUP(T312,subquincenal,2),0)","v":52.48691199999999},{"$f":"TRUNC(IF(Y312>0.01,Y312,0),2)","v":52.48},{"$f":"TRUNC(IF(Y312<0.01,-Y312,0),2)","v":0},{"$f":"U312-W312-X312-Z312+AA312","v":3027.77},{"$f":"PORTADA!$D$10","v":1}]
[203,"11","17","CARRILLO MUÑOZ SERGIO",null,null,null,"AUXILIAR DE ALCANTARILLADO EN ETZATLAN",15,"TARJETA",null,0,0,{"$f":"2222/15","v":148.13333333333333},2222,88.88,155.54,0,244.42,2222,2466.42,null,null,0,-37.079488000000026,0,37.07,2503.4900000000002,{"$f":"PORTADA!$D$10","v":1}]
[204,null,null,"DE LA ROSA MACIAS SALVADOR","ROMS500801","ROMS500801HJCSCL00",null,"AUXILIAR DE FONTANERO OCONAHUA",15,"TARJETA",null,0,0,{"$f":"1496/15","v":99.733333333333334},1496,59.84,104.72,0,164.56,1496,1660.56,null,null,0,-115.97383999999998,0,115.97,1776.53,{"$f":"PORTADA!$D$10","v":1}]
[205,null,null,"DELGADO DELGADO JOSE ANTONIO","DEDA550605","DEDA550605HNTLLN09",null,"AUXILIAR DE ALCANTARILLADO EN OCONAHUA",15,"TARJETA",null,0,0,{"$f":"1585/15","v":105.66666666666667},1585,63.4,110.95,0,174.35,1585,1759.35,null,null,0,-110.27783999999998,0,110.27,1869.62,{"$f":"PORTADA!$D$10","v":1}]
[206,null,null,"FLORES HARRIS JESUS","FOHJ730517","FOHJ730517HJCLRS08",null,"AUXILIAR OPERATIVO PLANTA TRATADORA",13,"TARJETA",null,0,0,{"$f":"2775/15","v":185},2405,96.2,168.35,0,264.55,2405,2669.55,null,null,0,-2.7690880000000107,0,2.76,2672.3100000000004,{"$f":"PORTADA!$D$10","v":1}]
[207,null,null,"GARCIA GARCIA SALVADOR","GAGS520228","GAGS361031HJCRRB04",null,"AUXILIAR OPERATIVO",15,"TARJETA",null,0,0,{"$f":"2775/15","v":185},2775,111,194.25,0,305.25,2775,3080.25,null,null,0,52.48691199999999,52.48,0,3027.77,{"$f":"PORTADA!$D$10","v":1}]
[208,null,null,"GARCIA MEDINA FRANCISCO JAVIER","GAMJ641203",null,null,"FONTANERO",15,"TARJETA",null,0,0,{"$f":"2822/15","v":188.13333333333333},2822,112.88,197.54,0,310.42,2822,3132.42,null,null,0,57.600511999999981,57.6,0,3074.82,{"$f":"PORTADA!$D$10","v":1}]
[209,null,null,"GARCIA MEDINA JOSE DE JESUS","GAMJ521114","GAMJ521114HJCRDS00",null,"ELECTRICISTA",15,"TARJETA",null,0,0,{"$f":"3282/15","v":218.8},3282,131.28,229.74,0,361.02,3282,3643.02,null,null,0,127.89851199999995,127.89,0,3515.13,{"$f":"PORTADA!$D$10","v":1}]
[210,null,null,"GARCIA MEDINA RAMON","GAMR560716","GAMR560716HJCRDM02",null,"ENCARGADO GENERAL DE BOMBAS",15,"TARJETA",null,0,0,{"$f":"2984/15","v":198.93333333333334},2984,119.36,208.88,0,328.24,2984,3312.24,null,null,0,75.226111999999972,75.22,0,3237.02,{"$f":"PORTADA!$D$10","v":1}]
[211,null,null,"GARCIA MENDEZ HECTOR MIGUEL","GAMH851007","GAMH851007HJCRNC04",null,"FONTANERO",15,"TARJETA",null,0,0,{"$f":"2822/15","v":188.13333333333333},2822,112.88,197.54,0,310.42,2822,3132.42,null,0,0,57.600511999999981,57.6,0,3074.82,{"$f":"PORTADA!$D$10","v":1}]
[212,null,null,"GARCIA MEZA LUIS ALBERTO",null,null,null,"FONTANERO",15,"TARJETA",null,0,0,{"$f":"2822/15","v":188.13333333333333},2822,112.88,197.54,0,310.42,2822,3132.42,null,null,0,57.600511999999981,57.6,0,3074.82,{"$f":"PORTADA!$D$10","v":1}]
[213,"2","1","GONZALEZ ESPINOZA JAIME","GOEJ550102","GOEJ550102HJCNSM14",null,"ENCARGADO DE PLANTA TRATADORA DE AGUAS NEGRAS",15,"TARJETA",null,0,0,{"$f":"4596/15","v":306.39999999999998},4596,183.84,321.72000000000003,0,505.56,4596,5101.5600000000004,null,0,0,451.10868800000009,451.1,0,4650.46,{"$f":"PORTADA!$D$10","v":1}]
[214,"2","2","HERNANDEZ PINEDA JUAN JOSE","HEPJ581212","HEPJ571212HJCRNN00",null,"ENCARGADO  DE BOMBA EN SANTA ROSALIA",15,"TARJETA",null,0,0,{"$f":"1989/15","v":132.6},1989,79.56,139.22999999999999,0,218.79,1989,2207.79,null,null,0,-72.421839999999975,0,72.42,2280.21,{"$f":"PORTADA!$D$10","v":1}]
[215,null,null,"LEMUS SANCHEZ J. VENTURA",null,null,null,"AUXILIAR DE ALCANTARILLADO EN ETZATLAN",15,"TARJETA",null,0,0,{"$f":"2563/15","v":170.86666666666667},2563,102.52,179.41,0,281.93,2563,2844.93,null,null,0,14.421311999999972,14.42,0,2830.5099999999998,{"$f":"PORTADA!$D$10","v":1}]
[216,null,null,"MELCHOR CASILLAS SANTIAGO","MECS331205","MECS331205HJCLSN08",null,"ENCARGADO  DE BOMBA EN OCONAHUA",15,"TARJETA",null,0,0,{"$f":"1433/15","v":95.533333333333331},1433,57.32,100.31,0,157.63,1433,1590.63,null,null,0,-120.00583999999998,0,120,1710.63,{"$f":"PORTADA!$D$10","v":1}]
[217,null,null,"MENDEZ GARCIA JOSE GUADALUPE","MEGG780207","MEGG780207HJCNRD06",null,"FONTANERO",15,"TARJETA",null,0,0,{"$f":"2822/15","v":188.13333333333333},2822,112.88,197.54,0,310.42,2822,3132.42,null,null,0,57.600511999999981,57.6,0,3074.82,{"$f":"PORTADA!$D$10","v":1}]
[218,null,null,"MEZA RAMOS EUSEBIO","MERE520708","MERE491216HJCZMS01",null,"AUXILIAR OPERATIVO",15,"TARJETA",null,0,0,{"$f":"2775/15","v":185},2775,111,194.25,0,305.25,2775,3080.25,null,null,0,52.48691199999999,52.48,0,3027.77,{"$f":"PORTADA!$D$10","v":1}]
[219,null,null,"NAVARRO RODRIGUEZ BERTHA ALICIA","NARB840203","NARB840203MJCVDR03",null,"AUXILIAR ADMINISTRATIVO",15,"TARJETA",null,0,0,{"$f":"2622/15","v":174.8},2622,104.88,183.54,0,288.42,2622,2910.42,null,null,0,20.84051199999999,20.84,0,2889.58,{"$f":"PORTADA!$D$10","v":1}]
[220,null,null,"RUIZ CASTRO PEDRO","RUCP730628","RUCP730629HJCZSD07",null,"AUXILIAR OPERATIVO",15,"TARJETA",null,0,0,{"$f":"2775/15","v":185},2775,111,194.25,0,305.25,2775,3080.25,null,null,0,52.48691199999999,52.48,0,3027.77,{"$f":"PORTADA!$D$10","v":1}]
[221,null,null,"SANTIAGO LOPEZ SABINO","SALS481230","SALS481230HJCNPB00",null,"AUXILIAR DE FONTANERO OCONAHUA",15,"TARJETA",null,0,0,{"$f":"1496/15","v":99.733333333333334},1496,59.84,104.72,0,164.56,1496,1660.56,null,null,0,-115.97383999999998,0,115.97,1776.53,{"$f":"PORTADA!$D$10","v":1},null,{"$f":"SUBTOTAL(9,AB311:AB331)","v":61814.009999999995}]
[223,null,null,"VILLA RUBIO GABRIEL","VIRG590520","VIRG590520HJCLBB05",null,"ENCARGADO  DE BOMBA AGUA ZARCA",15,"TARJETA",null,0,0,{"$f":"2775/15","v":185},2775,111,194.25,0,305.25,2775,3080.25,null,null,0,52.48691199999999,52.48,0,3027.77,{"$f":"PORTADA!$D$10","v":1}]
[224,null,null,"SANCHEZ GARCIA VICTOR MANUEL",null,null,null,"FONTANERO",15,"TARJETA",null,0,0,{"$f":"2307/15","v":153.80000000000001},{"$f":"TRUNC(N333*I333,2)","v":2307},{"$f":"TRUNC(N333*I333*0.04,2)","v":92.28},{"$f":"TRUNC(N333*0.07*I333,2)","v":161.49},{"$f":"L333","v":0},{"$f":"TRUNC(Q333+P333+(IF(R333>519,519,R333))+IF(K333=0,0,K333*N333),2)","v":253.77},{"$f":"TRUNC((IF(K333=0,I333*N333,(I333-K333)*N333))+(IF(R333<519,0,R333-519)),2)+M333","v":2307},{"$f":"S333+T333","v":2560.77},null,null,0,{"$f":"IF(N333>0.01,(T333-VLOOKUP(T333,quincenal,1))*VLOOKUP(T333,quincenal,3)+VLOOKUP(T333,quincenal,2)-VLOOKUP(T333,subquincenal,2),0)","v":-27.831488000000036},{"$f":"TRUNC(IF(Y333>0.01,Y333,0),2)","v":0},{"$f":"TRUNC(IF(Y333<0.01,-Y333,0),2)","v":27.83},{"$f":"U333-W333-X333-Z333+AA333","v":2588.6},{"$f":"PORTADA!$D$10","v":1},null,{"$f":"SUBTOTAL(9,AB312:AB333)","v":61738.749999999993}]
[null,null,null,"AGUA POTABLE Y ALCANTRILLADO",null,null,null,null,null,null,null,null,null,null,{"$f":"SUM(O311:O333)","v":61882},{"$f":"SUM(P311:P333)","v":2475.2800000000002},4331.74,0,6807.0200000000023,61882,68689.02,0,0,0,1258.6597040000001,1860.9299999999996,602.29000000000008,67430.37999999999]
[]
[null,null,null,null,null,null,null,null,null,null,null,null,null,null,null,null,null,null,null,null,null,null,null,null,null," "]
[]
[null,null,null,"MTRA. MARIA RAQUEL RUIZ JUAREZ",null,null,null,null,"C. SANDRA MARGARITA TOPETE DUEÑAS",null,null,null,null,null,null,null,null,null,null,null,null,null,null,null,null,null,"C. JUAN ANTONIO DE LEON GARCIA"]
[null,null,null,"PRESIDENTE MUNICIPAL  INTERINO",null,null,null,null,"SINDICO MUNICIPAL",null,null,null,null,null,null,null,null,null,null,null,null,null,null,null,null,null,"ENCARGADO DE LA HACIENDA PUBLICA"]
[]
[]
[]
[]
[]
[]
[null,"BASE"]
[null,"SEGURIDAD PUBLICA"]
[null,"AGUA POTABLE"]
[]
[null,"SUB TOTAL DE TRABAJADORES DE BASE"]
[]
[null,"PENSIONADOS"]
[]
[null,"TOTAL DE TRABAJADORES"]